BEGIN:VCALENDAR
VERSION:2.0
PRODID:-// - ECPv6.15.20//NONSGML v1.0//EN
CALSCALE:GREGORIAN
METHOD:PUBLISH
X-ORIGINAL-URL:https://skywheelmb.com
X-WR-CALDESC:Events for 
REFRESH-INTERVAL;VALUE=DURATION:PT1H
X-Robots-Tag:noindex
X-PUBLISHED-TTL:PT1H
BEGIN:VTIMEZONE
TZID:America/New_York
BEGIN:DAYLIGHT
TZOFFSETFROM:-0500
TZOFFSETTO:-0400
TZNAME:EDT
DTSTART:20240310T070000
END:DAYLIGHT
BEGIN:STANDARD
TZOFFSETFROM:-0400
TZOFFSETTO:-0500
TZNAME:EST
DTSTART:20241103T060000
END:STANDARD
BEGIN:DAYLIGHT
TZOFFSETFROM:-0500
TZOFFSETTO:-0400
TZNAME:EDT
DTSTART:20250309T070000
END:DAYLIGHT
BEGIN:STANDARD
TZOFFSETFROM:-0400
TZOFFSETTO:-0500
TZNAME:EST
DTSTART:20251102T060000
END:STANDARD
BEGIN:DAYLIGHT
TZOFFSETFROM:-0500
TZOFFSETTO:-0400
TZNAME:EDT
DTSTART:20260308T070000
END:DAYLIGHT
BEGIN:STANDARD
TZOFFSETFROM:-0400
TZOFFSETTO:-0500
TZNAME:EST
DTSTART:20261101T060000
END:STANDARD
END:VTIMEZONE
BEGIN:VEVENT
DTSTART;TZID=America/New_York:20250512T110000
DTEND;TZID=America/New_York:20250512T220000
DTSTAMP:20260419T190229
CREATED:20250221T182630Z
LAST-MODIFIED:20250221T182630Z
UID:10000762-1747047600-1747087200@skywheelmb.com
SUMMARY:Open
DESCRIPTION:
URL:https://skywheelmb.com/event/open-3/2025-05-12/
LOCATION:SkyWheel Myrtle Beach\, 1110 N Ocean Blv.\, Myrtle Beach\, SC\, 29577\, United States
CATEGORIES:Hours
END:VEVENT
BEGIN:VEVENT
DTSTART;VALUE=DATE:20250513
DTEND;VALUE=DATE:20250514
DTSTAMP:20260419T190229
CREATED:20250428T150536Z
LAST-MODIFIED:20250428T150536Z
UID:10001221-1747094400-1747180799@skywheelmb.com
SUMMARY:Arthritis Awareness
DESCRIPTION:SkyWheel is lighting up in blue and purple to raise awareness for arthritis\, a condition that affects millions of people worldwide. \nBy shining in these colors\, we stand in support of those living with arthritis and help bring attention to the importance of research\, early diagnosis\, and effective treatments. Together\, we can spread hope and understanding for a better future. \nJoin us in supporting the fight against arthritis!
URL:https://skywheelmb.com/event/arthritis-awareness/
LOCATION:SkyWheel Myrtle Beach\, 1110 N Ocean Blv.\, Myrtle Beach\, SC\, 29577\, United States
CATEGORIES:Event
ATTACH;FMTTYPE=image/png:https://skywheelmb.com/wp-content/uploads/2025/04/Website-Event-Graphics-7.png
END:VEVENT
BEGIN:VEVENT
DTSTART;TZID=America/New_York:20250513T110000
DTEND;TZID=America/New_York:20250513T220000
DTSTAMP:20260419T190229
CREATED:20250221T182630Z
LAST-MODIFIED:20250221T182630Z
UID:10000763-1747134000-1747173600@skywheelmb.com
SUMMARY:Open
DESCRIPTION:
URL:https://skywheelmb.com/event/open-3/2025-05-13/
LOCATION:SkyWheel Myrtle Beach\, 1110 N Ocean Blv.\, Myrtle Beach\, SC\, 29577\, United States
CATEGORIES:Hours
END:VEVENT
BEGIN:VEVENT
DTSTART;VALUE=DATE:20250514
DTEND;VALUE=DATE:20250515
DTSTAMP:20260419T190229
CREATED:20250428T150920Z
LAST-MODIFIED:20250428T150920Z
UID:10001222-1747180800-1747267199@skywheelmb.com
SUMMARY:Global Tuberous Sclerosis Awareness
DESCRIPTION:In support of Global Tuberous Sclerosis Awareness Month\, SkyWheel will light up in red to help raise awareness for Tuberous Sclerosis Complex (TSC)\, a rare genetic disorder that causes benign tumors to grow in vital organs. \nBy shining in red\, we stand together with those affected by TSC\, their families\, and advocates\, in hopes of increasing understanding\, funding research\, and supporting treatment efforts. Let’s work together to bring attention to this cause and support those fighting this condition every day.
URL:https://skywheelmb.com/event/global-tuberous-sclerosis-awareness/
LOCATION:SkyWheel Myrtle Beach\, 1110 N Ocean Blv.\, Myrtle Beach\, SC\, 29577\, United States
CATEGORIES:Event
ATTACH;FMTTYPE=image/jpeg:https://skywheelmb.com/wp-content/uploads/2025/01/SKWJAN23-11-scaled.jpg
END:VEVENT
BEGIN:VEVENT
DTSTART;TZID=America/New_York:20250514T110000
DTEND;TZID=America/New_York:20250514T220000
DTSTAMP:20260419T190229
CREATED:20250221T182630Z
LAST-MODIFIED:20250221T182630Z
UID:10000764-1747220400-1747260000@skywheelmb.com
SUMMARY:Open
DESCRIPTION:
URL:https://skywheelmb.com/event/open-3/2025-05-14/
LOCATION:SkyWheel Myrtle Beach\, 1110 N Ocean Blv.\, Myrtle Beach\, SC\, 29577\, United States
CATEGORIES:Hours
END:VEVENT
BEGIN:VEVENT
DTSTART;VALUE=DATE:20250515
DTEND;VALUE=DATE:20250516
DTSTAMP:20260419T190229
CREATED:20250428T151229Z
LAST-MODIFIED:20250428T151229Z
UID:10001223-1747267200-1747353599@skywheelmb.com
SUMMARY:Peace Officers Memorial Day
DESCRIPTION:SkyWheel will light up in blue and black to honor Peace Officers Memorial Day\, a day dedicated to remembering and honoring the brave law enforcement officers who have made the ultimate sacrifice in the line of duty. \nThis special lighting serves as a tribute to their courage\, dedication\, and unwavering commitment to keeping our communities safe. We stand in solidarity with the families\, colleagues\, and communities affected by their loss. \nJoin us as we remember and honor those who protect and serve.
URL:https://skywheelmb.com/event/peace-officers-memorial-day/
LOCATION:SkyWheel Myrtle Beach\, 1110 N Ocean Blv.\, Myrtle Beach\, SC\, 29577\, United States
CATEGORIES:Event
ATTACH;FMTTYPE=image/jpeg:https://skywheelmb.com/wp-content/uploads/2025/04/SKYWHOCTOBER-11-scaled.jpg
END:VEVENT
BEGIN:VEVENT
DTSTART;TZID=America/New_York:20250515T110000
DTEND;TZID=America/New_York:20250515T220000
DTSTAMP:20260419T190229
CREATED:20250221T182630Z
LAST-MODIFIED:20250221T182630Z
UID:10000765-1747306800-1747346400@skywheelmb.com
SUMMARY:Open
DESCRIPTION:
URL:https://skywheelmb.com/event/open-3/2025-05-15/
LOCATION:SkyWheel Myrtle Beach\, 1110 N Ocean Blv.\, Myrtle Beach\, SC\, 29577\, United States
CATEGORIES:Hours
END:VEVENT
BEGIN:VEVENT
DTSTART;VALUE=DATE:20250516
DTEND;VALUE=DATE:20250517
DTSTAMP:20260419T190229
CREATED:20250428T151410Z
LAST-MODIFIED:20250428T151410Z
UID:10001224-1747353600-1747439999@skywheelmb.com
SUMMARY:HAE Awareness Lighting
DESCRIPTION:SkyWheel will light up in purple and blue to raise awareness for Hereditary Angioedema (HAE)\, a rare and often misunderstood condition that causes severe swelling episodes in various parts of the body. \nBy shining in these colors\, we aim to educate the public\, support those living with HAE\, and bring attention to the need for better treatment options and research. Together\, we can raise awareness and make a difference for those affected by this condition.
URL:https://skywheelmb.com/event/hae-awareness-lighting/
LOCATION:SkyWheel Myrtle Beach\, 1110 N Ocean Blv.\, Myrtle Beach\, SC\, 29577\, United States
CATEGORIES:Event
ATTACH;FMTTYPE=image/png:https://skywheelmb.com/wp-content/uploads/2025/04/Website-Event-Graphics-7.png
END:VEVENT
BEGIN:VEVENT
DTSTART;TZID=America/New_York:20250516T110000
DTEND;TZID=America/New_York:20250516T230000
DTSTAMP:20260419T190229
CREATED:20250221T182329Z
LAST-MODIFIED:20250221T182329Z
UID:10000732-1747393200-1747436400@skywheelmb.com
SUMMARY:Open
DESCRIPTION:
URL:https://skywheelmb.com/event/open-2/2025-05-16/
LOCATION:SkyWheel Myrtle Beach\, 1110 N Ocean Blv.\, Myrtle Beach\, SC\, 29577\, United States
CATEGORIES:Hours
END:VEVENT
BEGIN:VEVENT
DTSTART;VALUE=DATE:20250517
DTEND;VALUE=DATE:20250518
DTSTAMP:20260419T190229
CREATED:20250428T151540Z
LAST-MODIFIED:20250428T151540Z
UID:10001225-1747440000-1747526399@skywheelmb.com
SUMMARY:World NF Awareness
DESCRIPTION:In honor of World Neurofibromatosis (NF) Awareness Day\, SkyWheel will light up in green and blue to raise awareness for NF\, a genetic disorder that causes tumors to grow on nerves throughout the body. \nThis special lighting serves as a reminder of the importance of research\, early diagnosis\, and better treatments for those affected by NF. Together\, we can shine a light on the challenges of living with NF and work toward a future with a cure. \nJoin us in supporting the NF community and spreading awareness!
URL:https://skywheelmb.com/event/world-nf-awareness/
LOCATION:SkyWheel Myrtle Beach\, 1110 N Ocean Blv.\, Myrtle Beach\, SC\, 29577\, United States
CATEGORIES:Event
ATTACH;FMTTYPE=image/jpeg:https://skywheelmb.com/wp-content/uploads/2025/03/SKWJAN23-7-scaled.jpg
END:VEVENT
BEGIN:VEVENT
DTSTART;TZID=America/New_York:20250517T110000
DTEND;TZID=America/New_York:20250517T230000
DTSTAMP:20260419T190229
CREATED:20250221T182329Z
LAST-MODIFIED:20250221T182329Z
UID:10000733-1747479600-1747522800@skywheelmb.com
SUMMARY:Open
DESCRIPTION:
URL:https://skywheelmb.com/event/open-2/2025-05-17/
LOCATION:SkyWheel Myrtle Beach\, 1110 N Ocean Blv.\, Myrtle Beach\, SC\, 29577\, United States
CATEGORIES:Hours
END:VEVENT
BEGIN:VEVENT
DTSTART;VALUE=DATE:20250518
DTEND;VALUE=DATE:20250519
DTSTAMP:20260419T190229
CREATED:20250428T151747Z
LAST-MODIFIED:20250428T151747Z
UID:10001226-1747526400-1747612799@skywheelmb.com
SUMMARY:Motorcycle Safety Awareness
DESCRIPTION:SkyWheel will light up in orange to raise awareness for Motorcycle Safety Awareness. \nMotorcycle safety is crucial for protecting riders on the road\, and we want to remind everyone to stay alert\, wear protective gear\, and drive responsibly. By shining in orange\, we honor riders everywhere and emphasize the importance of safety measures to prevent accidents and save lives. \nJoin us in spreading awareness and promoting safety for all riders!
URL:https://skywheelmb.com/event/motorcycle-safety-awareness/
LOCATION:SkyWheel Myrtle Beach\, 1110 N Ocean Blv.\, Myrtle Beach\, SC\, 29577\, United States
CATEGORIES:Event
ATTACH;FMTTYPE=image/png:https://skywheelmb.com/wp-content/uploads/2025/02/2025-CalendarsWork-in-Progress-6.png
END:VEVENT
BEGIN:VEVENT
DTSTART;TZID=America/New_York:20250518T110000
DTEND;TZID=America/New_York:20250518T220000
DTSTAMP:20260419T190229
CREATED:20250221T182630Z
LAST-MODIFIED:20250221T182630Z
UID:10000766-1747566000-1747605600@skywheelmb.com
SUMMARY:Open
DESCRIPTION:
URL:https://skywheelmb.com/event/open-3/2025-05-18/
LOCATION:SkyWheel Myrtle Beach\, 1110 N Ocean Blv.\, Myrtle Beach\, SC\, 29577\, United States
CATEGORIES:Hours
END:VEVENT
BEGIN:VEVENT
DTSTART;VALUE=DATE:20250519
DTEND;VALUE=DATE:20250520
DTSTAMP:20260419T190229
CREATED:20250428T151951Z
LAST-MODIFIED:20250428T151951Z
UID:10001227-1747612800-1747699199@skywheelmb.com
SUMMARY:Cystic Fibrosis Awareness
DESCRIPTION:In support of Cystic Fibrosis Awareness Month\, SkyWheel will light up in purple to raise awareness for cystic fibrosis (CF)\, a genetic disorder that affects the lungs and digestive system. \nBy shining in purple\, we stand with those living with CF and their families\, bringing attention to the need for continued research\, treatment advancements\, and improved quality of life for those affected by this condition. \nJoin us in spreading awareness and supporting the fight for a cure.
URL:https://skywheelmb.com/event/cystic-fibrosis-awareness/
LOCATION:SkyWheel Myrtle Beach\, 1110 N Ocean Blv.\, Myrtle Beach\, SC\, 29577\, United States
CATEGORIES:Event
ATTACH;FMTTYPE=image/jpeg:https://skywheelmb.com/wp-content/uploads/2025/01/SKYWHOCTOBER-58-scaled.jpg
END:VEVENT
BEGIN:VEVENT
DTSTART;TZID=America/New_York:20250519T110000
DTEND;TZID=America/New_York:20250519T220000
DTSTAMP:20260419T190229
CREATED:20250221T182630Z
LAST-MODIFIED:20250221T182630Z
UID:10000767-1747652400-1747692000@skywheelmb.com
SUMMARY:Open
DESCRIPTION:
URL:https://skywheelmb.com/event/open-3/2025-05-19/
LOCATION:SkyWheel Myrtle Beach\, 1110 N Ocean Blv.\, Myrtle Beach\, SC\, 29577\, United States
CATEGORIES:Hours
END:VEVENT
BEGIN:VEVENT
DTSTART;VALUE=DATE:20250520
DTEND;VALUE=DATE:20250521
DTSTAMP:20260419T190229
CREATED:20250428T152122Z
LAST-MODIFIED:20250428T152122Z
UID:10001228-1747699200-1747785599@skywheelmb.com
SUMMARY:SkyWheel Myrtle Beach's 14th Birthday!
DESCRIPTION:This year\, SkyWheel Myrtle Beach is turning 14! To celebrate this exciting milestone\, we will light up in a dazzling array of colors to mark this special occasion. \nFor 14 years\, SkyWheel has been a landmark of fun\, excitement\, and unforgettable views\, offering guests an iconic experience right here on the Grand Strand. We’re thrilled to continue sharing the joy with our community and visitors from all over the world. \nJoin us as we celebrate 14 incredible years and many more to come!
URL:https://skywheelmb.com/event/skywheel-myrtle-beachs-14th-birthday/
LOCATION:SkyWheel Myrtle Beach\, 1110 N Ocean Blv.\, Myrtle Beach\, SC\, 29577\, United States
CATEGORIES:Event
ATTACH;FMTTYPE=image/jpeg:https://skywheelmb.com/wp-content/uploads/2024/11/SKMN-73-scaled.jpg
END:VEVENT
BEGIN:VEVENT
DTSTART;TZID=America/New_York:20250520T110000
DTEND;TZID=America/New_York:20250520T220000
DTSTAMP:20260419T190229
CREATED:20250221T182630Z
LAST-MODIFIED:20250221T182630Z
UID:10000768-1747738800-1747778400@skywheelmb.com
SUMMARY:Open
DESCRIPTION:
URL:https://skywheelmb.com/event/open-3/2025-05-20/
LOCATION:SkyWheel Myrtle Beach\, 1110 N Ocean Blv.\, Myrtle Beach\, SC\, 29577\, United States
CATEGORIES:Hours
END:VEVENT
BEGIN:VEVENT
DTSTART;VALUE=DATE:20250521
DTEND;VALUE=DATE:20250522
DTSTAMP:20260419T190229
CREATED:20250428T152242Z
LAST-MODIFIED:20250428T152242Z
UID:10001229-1747785600-1747871999@skywheelmb.com
SUMMARY:Trauma Survivors Awareness
DESCRIPTION:SkyWheel will light up in blue to honor Trauma Survivors Awareness\, raising recognition for the resilience of individuals who have survived traumatic events. \nTrauma can take many forms\, but the strength and courage of survivors is undeniable. By lighting up in blue\, we aim to bring attention to the support and resources needed for those overcoming physical and emotional trauma. Let’s stand together in solidarity and promote healing for all survivors.
URL:https://skywheelmb.com/event/trauma-survivors-awareness/
LOCATION:SkyWheel Myrtle Beach\, 1110 N Ocean Blv.\, Myrtle Beach\, SC\, 29577\, United States
CATEGORIES:Event
ATTACH;FMTTYPE=image/png:https://skywheelmb.com/wp-content/uploads/2025/02/2025-CalendarsWork-in-Progress-4.png
END:VEVENT
BEGIN:VEVENT
DTSTART;TZID=America/New_York:20250521T110000
DTEND;TZID=America/New_York:20250521T220000
DTSTAMP:20260419T190229
CREATED:20250221T182630Z
LAST-MODIFIED:20250221T182630Z
UID:10000769-1747825200-1747864800@skywheelmb.com
SUMMARY:Open
DESCRIPTION:
URL:https://skywheelmb.com/event/open-3/2025-05-21/
LOCATION:SkyWheel Myrtle Beach\, 1110 N Ocean Blv.\, Myrtle Beach\, SC\, 29577\, United States
CATEGORIES:Hours
END:VEVENT
BEGIN:VEVENT
DTSTART;VALUE=DATE:20250522
DTEND;VALUE=DATE:20250523
DTSTAMP:20260419T190229
CREATED:20250428T152531Z
LAST-MODIFIED:20250428T152531Z
UID:10001230-1747872000-1747958399@skywheelmb.com
SUMMARY:Asian-Pacific Heritage Month
DESCRIPTION:SkyWheel will light up in vibrant colors to honor Asian Pacific Heritage Month\, celebrating the rich history\, culture\, and contributions of Asian and Pacific Islander communities. \nThroughout this month\, we recognize the incredible impact these communities have made in shaping our world\, from arts and science to business and activism. The lighting serves as a tribute to the diversity and strength that comes from Asian and Pacific Islander cultures. \nJoin us as we celebrate and honor the heritage and achievements of Asian and Pacific Islanders everywhere.
URL:https://skywheelmb.com/event/asian-pacific-heritage-month/
LOCATION:SkyWheel Myrtle Beach\, 1110 N Ocean Blv.\, Myrtle Beach\, SC\, 29577\, United States
CATEGORIES:Event
ATTACH;FMTTYPE=image/jpeg:https://skywheelmb.com/wp-content/uploads/2025/04/SKYWHOCTOBER-17-scaled.jpg
END:VEVENT
BEGIN:VEVENT
DTSTART;TZID=America/New_York:20250522T110000
DTEND;TZID=America/New_York:20250522T220000
DTSTAMP:20260419T190229
CREATED:20250221T182630Z
LAST-MODIFIED:20250221T182630Z
UID:10000770-1747911600-1747951200@skywheelmb.com
SUMMARY:Open
DESCRIPTION:
URL:https://skywheelmb.com/event/open-3/2025-05-22/
LOCATION:SkyWheel Myrtle Beach\, 1110 N Ocean Blv.\, Myrtle Beach\, SC\, 29577\, United States
CATEGORIES:Hours
END:VEVENT
BEGIN:VEVENT
DTSTART;VALUE=DATE:20250523
DTEND;VALUE=DATE:20250524
DTSTAMP:20260419T190229
CREATED:20250428T152720Z
LAST-MODIFIED:20250509T194336Z
UID:10001256-1747958400-1748044799@skywheelmb.com
SUMMARY:Memorial Day Lighting
DESCRIPTION:This Memorial Day weekend\, experience SkyWheel Myrtle Beach like never before. Soar high above the oceanfront in our comfortable gondolas\, then stay to enjoy dazzling patriotic lightshows as we illuminate the sky in red\, white\, and blue in honor of America’s heroes. As we light up the night\, we reflect on the courage\, dedication\, and selflessness of the brave men and women who made the ultimate sacrifice to protect our freedom and way of life. \nThe celebration continues just steps away at nearby Plyler Park\, where a live concert will add music and energy to a full evening of remembrance and family fun. \nJoin us in honoring those who gave everything for our nation. Let’s come together in gratitude\, reflection\, and celebration this Memorial Day weekend.
URL:https://skywheelmb.com/event/memorial-day-lighting/2025-05-23/
LOCATION:SkyWheel Myrtle Beach\, 1110 N Ocean Blv.\, Myrtle Beach\, SC\, 29577\, United States
CATEGORIES:Event
ATTACH;FMTTYPE=image/jpeg:https://skywheelmb.com/wp-content/uploads/2025/01/SKWNOV-16-scaled.jpg
END:VEVENT
BEGIN:VEVENT
DTSTART;TZID=America/New_York:20250523T110000
DTEND;TZID=America/New_York:20250523T230000
DTSTAMP:20260419T190229
CREATED:20250221T182329Z
LAST-MODIFIED:20250221T182329Z
UID:10000734-1747998000-1748041200@skywheelmb.com
SUMMARY:Open
DESCRIPTION:
URL:https://skywheelmb.com/event/open-2/2025-05-23/
LOCATION:SkyWheel Myrtle Beach\, 1110 N Ocean Blv.\, Myrtle Beach\, SC\, 29577\, United States
CATEGORIES:Hours
END:VEVENT
BEGIN:VEVENT
DTSTART;VALUE=DATE:20250524
DTEND;VALUE=DATE:20250525
DTSTAMP:20260419T190229
CREATED:20250428T152720Z
LAST-MODIFIED:20250509T194336Z
UID:10001257-1748044800-1748131199@skywheelmb.com
SUMMARY:Memorial Day Lighting
DESCRIPTION:This Memorial Day weekend\, experience SkyWheel Myrtle Beach like never before. Soar high above the oceanfront in our comfortable gondolas\, then stay to enjoy dazzling patriotic lightshows as we illuminate the sky in red\, white\, and blue in honor of America’s heroes. As we light up the night\, we reflect on the courage\, dedication\, and selflessness of the brave men and women who made the ultimate sacrifice to protect our freedom and way of life. \nThe celebration continues just steps away at nearby Plyler Park\, where a live concert will add music and energy to a full evening of remembrance and family fun. \nJoin us in honoring those who gave everything for our nation. Let’s come together in gratitude\, reflection\, and celebration this Memorial Day weekend.
URL:https://skywheelmb.com/event/memorial-day-lighting/2025-05-24/
LOCATION:SkyWheel Myrtle Beach\, 1110 N Ocean Blv.\, Myrtle Beach\, SC\, 29577\, United States
CATEGORIES:Event
ATTACH;FMTTYPE=image/jpeg:https://skywheelmb.com/wp-content/uploads/2025/01/SKWNOV-16-scaled.jpg
END:VEVENT
BEGIN:VEVENT
DTSTART;VALUE=DATE:20250525
DTEND;VALUE=DATE:20250526
DTSTAMP:20260419T190229
CREATED:20250428T152720Z
LAST-MODIFIED:20250509T194336Z
UID:10001258-1748131200-1748217599@skywheelmb.com
SUMMARY:Memorial Day Lighting
DESCRIPTION:This Memorial Day weekend\, experience SkyWheel Myrtle Beach like never before. Soar high above the oceanfront in our comfortable gondolas\, then stay to enjoy dazzling patriotic lightshows as we illuminate the sky in red\, white\, and blue in honor of America’s heroes. As we light up the night\, we reflect on the courage\, dedication\, and selflessness of the brave men and women who made the ultimate sacrifice to protect our freedom and way of life. \nThe celebration continues just steps away at nearby Plyler Park\, where a live concert will add music and energy to a full evening of remembrance and family fun. \nJoin us in honoring those who gave everything for our nation. Let’s come together in gratitude\, reflection\, and celebration this Memorial Day weekend.
URL:https://skywheelmb.com/event/memorial-day-lighting/2025-05-25/
LOCATION:SkyWheel Myrtle Beach\, 1110 N Ocean Blv.\, Myrtle Beach\, SC\, 29577\, United States
CATEGORIES:Event
ATTACH;FMTTYPE=image/jpeg:https://skywheelmb.com/wp-content/uploads/2025/01/SKWNOV-16-scaled.jpg
END:VEVENT
BEGIN:VEVENT
DTSTART;VALUE=DATE:20250526
DTEND;VALUE=DATE:20250527
DTSTAMP:20260419T190229
CREATED:20250428T152720Z
LAST-MODIFIED:20250509T194336Z
UID:10001259-1748217600-1748303999@skywheelmb.com
SUMMARY:Memorial Day Lighting
DESCRIPTION:This Memorial Day weekend\, experience SkyWheel Myrtle Beach like never before. Soar high above the oceanfront in our comfortable gondolas\, then stay to enjoy dazzling patriotic lightshows as we illuminate the sky in red\, white\, and blue in honor of America’s heroes. As we light up the night\, we reflect on the courage\, dedication\, and selflessness of the brave men and women who made the ultimate sacrifice to protect our freedom and way of life. \nThe celebration continues just steps away at nearby Plyler Park\, where a live concert will add music and energy to a full evening of remembrance and family fun. \nJoin us in honoring those who gave everything for our nation. Let’s come together in gratitude\, reflection\, and celebration this Memorial Day weekend.
URL:https://skywheelmb.com/event/memorial-day-lighting/2025-05-26/
LOCATION:SkyWheel Myrtle Beach\, 1110 N Ocean Blv.\, Myrtle Beach\, SC\, 29577\, United States
CATEGORIES:Event
ATTACH;FMTTYPE=image/jpeg:https://skywheelmb.com/wp-content/uploads/2025/01/SKWNOV-16-scaled.jpg
END:VEVENT
BEGIN:VEVENT
DTSTART;VALUE=DATE:20250529
DTEND;VALUE=DATE:20250530
DTSTAMP:20260419T190229
CREATED:20250428T153040Z
LAST-MODIFIED:20250428T153040Z
UID:10001260-1748476800-1748563199@skywheelmb.com
SUMMARY:ALS Awareness Lighting
DESCRIPTION:SkyWheel will light up in red to raise awareness for ALS (Amyotrophic Lateral Sclerosis)\, also known as Lou Gehrig’s Disease. \nBy shining in red\, we stand with the ALS community in support of increased research\, better treatments\, and hope for a cure. Together\, we honor those living with ALS\, remember those we have lost\, and show our commitment to raising awareness for this devastating disease. \nJoin us in shining a light on the fight against ALS.
URL:https://skywheelmb.com/event/als-awareness-lighting/
LOCATION:SkyWheel Myrtle Beach\, 1110 N Ocean Blv.\, Myrtle Beach\, SC\, 29577\, United States
CATEGORIES:Event
ATTACH;FMTTYPE=image/jpeg:https://skywheelmb.com/wp-content/uploads/2025/01/SKWJAN23-11-scaled.jpg
END:VEVENT
BEGIN:VEVENT
DTSTART;VALUE=DATE:20250531
DTEND;VALUE=DATE:20250601
DTSTAMP:20260419T190229
CREATED:20250428T153145Z
LAST-MODIFIED:20250428T153145Z
UID:10001261-1748649600-1748735999@skywheelmb.com
SUMMARY:Brain Tumor Awareness
DESCRIPTION:SkyWheel will light up in grey to support Brain Tumor Awareness Month and honor those affected by brain tumors. \nBy lighting grey\, we aim to raise awareness\, support ongoing research efforts\, and show solidarity with patients\, survivors\, and their families. Together\, we can help bring attention to the need for greater understanding\, funding\, and hope for a cure. \nJoin us in shining a light for Brain Tumor Awareness.
URL:https://skywheelmb.com/event/brain-tumor-awareness/
LOCATION:SkyWheel Myrtle Beach\, 1110 N Ocean Blv.\, Myrtle Beach\, SC\, 29577\, United States
CATEGORIES:Event
ATTACH;FMTTYPE=image/png:https://skywheelmb.com/wp-content/uploads/2025/02/2025-CalendarsWork-in-Progress-7.png
END:VEVENT
BEGIN:VEVENT
DTSTART;VALUE=DATE:20250604
DTEND;VALUE=DATE:20250605
DTSTAMP:20260419T190229
CREATED:20250523T185220Z
LAST-MODIFIED:20250523T185220Z
UID:10001262-1748995200-1749081599@skywheelmb.com
SUMMARY:Color the Night
DESCRIPTION:The SkyWheel will be lit in a vibrant rainbow of colors to celebrate diversity\, unity\, and the spirit of togetherness that defines our community. Join us as we illuminate the night with a message of love\, acceptance\, and connection for all who visit Myrtle Beach.
URL:https://skywheelmb.com/event/color-the-night/2025-06-04/
LOCATION:SkyWheel Myrtle Beach\, 1110 N Ocean Blv.\, Myrtle Beach\, SC\, 29577\, United States
CATEGORIES:Event
ATTACH;FMTTYPE=image/jpeg:https://skywheelmb.com/wp-content/uploads/2024/11/SKMN-73-scaled.jpg
END:VEVENT
BEGIN:VEVENT
DTSTART;VALUE=DATE:20250605
DTEND;VALUE=DATE:20250606
DTSTAMP:20260419T190229
CREATED:20250523T185351Z
LAST-MODIFIED:20250523T185351Z
UID:10001266-1749081600-1749167999@skywheelmb.com
SUMMARY:World Environment Day
DESCRIPTION:The SkyWheel will shine in shades of blue and green to honor World Environment Day—a global reminder of the beauty of our planet and the importance of preserving it for future generations. Join us in celebrating the natural world as we light up the night in tribute to our oceans\, forests\, and the vibrant ecosystems that make Earth home.
URL:https://skywheelmb.com/event/world-environment-day/
LOCATION:SkyWheel Myrtle Beach\, 1110 N Ocean Blv.\, Myrtle Beach\, SC\, 29577\, United States
CATEGORIES:Event
ATTACH;FMTTYPE=image/png:https://skywheelmb.com/wp-content/uploads/2025/03/Website-Event-Calendar-5.png
END:VEVENT
END:VCALENDAR