BEGIN:VCALENDAR
VERSION:2.0
PRODID:-// - ECPv6.15.20//NONSGML v1.0//EN
CALSCALE:GREGORIAN
METHOD:PUBLISH
X-ORIGINAL-URL:https://skywheelmb.com
X-WR-CALDESC:Events for 
REFRESH-INTERVAL;VALUE=DURATION:PT1H
X-Robots-Tag:noindex
X-PUBLISHED-TTL:PT1H
BEGIN:VTIMEZONE
TZID:America/New_York
BEGIN:DAYLIGHT
TZOFFSETFROM:-0500
TZOFFSETTO:-0400
TZNAME:EDT
DTSTART:20240310T070000
END:DAYLIGHT
BEGIN:STANDARD
TZOFFSETFROM:-0400
TZOFFSETTO:-0500
TZNAME:EST
DTSTART:20241103T060000
END:STANDARD
BEGIN:DAYLIGHT
TZOFFSETFROM:-0500
TZOFFSETTO:-0400
TZNAME:EDT
DTSTART:20250309T070000
END:DAYLIGHT
BEGIN:STANDARD
TZOFFSETFROM:-0400
TZOFFSETTO:-0500
TZNAME:EST
DTSTART:20251102T060000
END:STANDARD
BEGIN:DAYLIGHT
TZOFFSETFROM:-0500
TZOFFSETTO:-0400
TZNAME:EDT
DTSTART:20260308T070000
END:DAYLIGHT
BEGIN:STANDARD
TZOFFSETFROM:-0400
TZOFFSETTO:-0500
TZNAME:EST
DTSTART:20261101T060000
END:STANDARD
END:VTIMEZONE
BEGIN:VEVENT
DTSTART;VALUE=DATE:20250615
DTEND;VALUE=DATE:20250616
DTSTAMP:20260420T000316
CREATED:20250523T191644Z
LAST-MODIFIED:20250523T191644Z
UID:10001275-1749945600-1750031999@skywheelmb.com
SUMMARY:Father's Day
DESCRIPTION:In honor of Father’s Day\, the SkyWheel will be lit in blue to celebrate dads\, father figures\, and all the guiding lights in our lives. Join us in recognizing the strength\, love\, and support they bring to our families and communities. It’s our way of saying thank you—and lighting up the night for every kind of dad.
URL:https://skywheelmb.com/event/fathers-day/
LOCATION:SkyWheel Myrtle Beach\, 1110 N Ocean Blv.\, Myrtle Beach\, SC\, 29577\, United States
CATEGORIES:Event
ATTACH;FMTTYPE=image/jpeg:https://skywheelmb.com/wp-content/uploads/2024/12/470217204_992029069625078_8938334660187079777_n.jpg
END:VEVENT
BEGIN:VEVENT
DTSTART;VALUE=DATE:20250616
DTEND;VALUE=DATE:20250617
DTSTAMP:20260420T000316
CREATED:20250523T191755Z
LAST-MODIFIED:20250523T191755Z
UID:10001276-1750032000-1750118399@skywheelmb.com
SUMMARY:Alliance to Cure
DESCRIPTION:The SkyWheel will glow red in support of the Alliance to Cure Cavernous Malformation\, a nonprofit organization dedicated to finding a cure and improving the lives of those affected by this rare neurological condition. By lighting up in red\, we aim to raise awareness\, honor those living with the disease\, and shine a light on the importance of research\, advocacy\, and hope.
URL:https://skywheelmb.com/event/alliance-to-cure/
LOCATION:SkyWheel Myrtle Beach\, 1110 N Ocean Blv.\, Myrtle Beach\, SC\, 29577\, United States
CATEGORIES:Event
ATTACH;FMTTYPE=image/png:https://skywheelmb.com/wp-content/uploads/2025/03/Website-Event-Calendar-1.png
END:VEVENT
BEGIN:VEVENT
DTSTART;VALUE=DATE:20250618
DTEND;VALUE=DATE:20250619
DTSTAMP:20260420T000316
CREATED:20250523T185220Z
LAST-MODIFIED:20250523T185220Z
UID:10001264-1750204800-1750291199@skywheelmb.com
SUMMARY:Color the Night
DESCRIPTION:The SkyWheel will be lit in a vibrant rainbow of colors to celebrate diversity\, unity\, and the spirit of togetherness that defines our community. Join us as we illuminate the night with a message of love\, acceptance\, and connection for all who visit Myrtle Beach.
URL:https://skywheelmb.com/event/color-the-night/2025-06-18/
LOCATION:SkyWheel Myrtle Beach\, 1110 N Ocean Blv.\, Myrtle Beach\, SC\, 29577\, United States
CATEGORIES:Event
ATTACH;FMTTYPE=image/jpeg:https://skywheelmb.com/wp-content/uploads/2024/11/SKMN-73-scaled.jpg
END:VEVENT
BEGIN:VEVENT
DTSTART;VALUE=DATE:20250619
DTEND;VALUE=DATE:20250620
DTSTAMP:20260420T000316
CREATED:20250523T191944Z
LAST-MODIFIED:20250523T191944Z
UID:10001277-1750291200-1750377599@skywheelmb.com
SUMMARY:Juneteenth
DESCRIPTION:The SkyWheel will shine in red\, yellow\, and green to commemorate Juneteenth—a day that marks the end of slavery in the United States and celebrates African American freedom\, resilience\, and culture. These colors reflect heritage\, unity\, and hope. We invite all to reflect\, celebrate\, and stand together in recognition of this important moment in history.
URL:https://skywheelmb.com/event/juneteenth/
LOCATION:SkyWheel Myrtle Beach\, 1110 N Ocean Blv.\, Myrtle Beach\, SC\, 29577\, United States
CATEGORIES:Event
ATTACH;FMTTYPE=image/jpeg:https://skywheelmb.com/wp-content/uploads/2025/01/SkyWheel-kawanza-scaled.jpeg
END:VEVENT
BEGIN:VEVENT
DTSTART;VALUE=DATE:20250620
DTEND;VALUE=DATE:20250621
DTSTAMP:20260420T000316
CREATED:20250523T191522Z
LAST-MODIFIED:20250523T191522Z
UID:10001273-1750377600-1750463999@skywheelmb.com
SUMMARY:USA Lightshow
DESCRIPTION:Get ready for a dazzling display of patriotic pride! The SkyWheel will come alive with a vibrant red\, white\, and blue light show celebrating the spirit of the United States. Whether you’re strolling the boardwalk or riding high above the coast\, enjoy a breathtaking tribute to freedom\, unity\, and the American dream—lit sky-high over Myrtle Beach.
URL:https://skywheelmb.com/event/usa-lightshow/2025-06-20/
LOCATION:SkyWheel Myrtle Beach\, 1110 N Ocean Blv.\, Myrtle Beach\, SC\, 29577\, United States
CATEGORIES:Event
ATTACH;FMTTYPE=image/jpeg:https://skywheelmb.com/wp-content/uploads/2025/01/SKWNOV-16-scaled.jpg
END:VEVENT
BEGIN:VEVENT
DTSTART;VALUE=DATE:20250623
DTEND;VALUE=DATE:20250624
DTSTAMP:20260420T000316
CREATED:20250523T192359Z
LAST-MODIFIED:20250523T192359Z
UID:10001278-1750636800-1750723199@skywheelmb.com
SUMMARY:PTSD Awareness
DESCRIPTION:The SkyWheel will shine in teal in recognition of PTSD Awareness\, honoring those affected by post-traumatic stress disorder. This special lighting serves as a beacon of support\, understanding\, and hope for individuals living with PTSD and the loved ones who stand beside them. By lighting up the night\, we aim to raise awareness\, reduce stigma\, and encourage healing through compassion and connection.
URL:https://skywheelmb.com/event/ptsd-awareness/
LOCATION:SkyWheel Myrtle Beach\, 1110 N Ocean Blv.\, Myrtle Beach\, SC\, 29577\, United States
CATEGORIES:Event
ATTACH;FMTTYPE=image/jpeg:https://skywheelmb.com/wp-content/uploads/2025/05/SKWGRT-30-scaled.jpg
END:VEVENT
BEGIN:VEVENT
DTSTART;VALUE=DATE:20250624
DTEND;VALUE=DATE:20250625
DTSTAMP:20260420T000316
CREATED:20250523T192537Z
LAST-MODIFIED:20250523T192537Z
UID:10001279-1750723200-1750809599@skywheelmb.com
SUMMARY:Move Over Awareness
DESCRIPTION:The SkyWheel will shine bright yellow in support of Move Over Awareness\, a campaign that reminds drivers to slow down and change lanes for emergency responders\, tow operators\, utility crews\, and roadside workers. This lighting is a tribute to those who risk their lives on the road and a call for greater safety and awareness behind the wheel. Let’s keep the lights on—and lives protected.
URL:https://skywheelmb.com/event/move-over-awareness/
LOCATION:SkyWheel Myrtle Beach\, 1110 N Ocean Blv.\, Myrtle Beach\, SC\, 29577\, United States
CATEGORIES:Event
ATTACH;FMTTYPE=image/jpeg:https://skywheelmb.com/wp-content/uploads/2025/02/SKWNOV-32-scaled.jpg
END:VEVENT
BEGIN:VEVENT
DTSTART;VALUE=DATE:20250625
DTEND;VALUE=DATE:20250626
DTSTAMP:20260420T000316
CREATED:20250523T185220Z
LAST-MODIFIED:20250523T185220Z
UID:10001265-1750809600-1750895999@skywheelmb.com
SUMMARY:Color the Night
DESCRIPTION:The SkyWheel will be lit in a vibrant rainbow of colors to celebrate diversity\, unity\, and the spirit of togetherness that defines our community. Join us as we illuminate the night with a message of love\, acceptance\, and connection for all who visit Myrtle Beach.
URL:https://skywheelmb.com/event/color-the-night/2025-06-25/
LOCATION:SkyWheel Myrtle Beach\, 1110 N Ocean Blv.\, Myrtle Beach\, SC\, 29577\, United States
CATEGORIES:Event
ATTACH;FMTTYPE=image/jpeg:https://skywheelmb.com/wp-content/uploads/2024/11/SKMN-73-scaled.jpg
END:VEVENT
BEGIN:VEVENT
DTSTART;VALUE=DATE:20250626
DTEND;VALUE=DATE:20250627
DTSTAMP:20260420T000316
CREATED:20250523T193357Z
LAST-MODIFIED:20250523T193357Z
UID:10001280-1750896000-1750982399@skywheelmb.com
SUMMARY:Alzheimer's Awareness
DESCRIPTION:The SkyWheel will glow purple in honor of Alzheimer’s Awareness\, shining a light on the millions of individuals and families affected by this challenging disease. This special lighting serves as a tribute to those living with Alzheimer’s\, their caregivers\, and the ongoing efforts to advance research\, support\, and hope. Join us as we illuminate the night in solidarity and remembrance.
URL:https://skywheelmb.com/event/alzheimers-awareness/
LOCATION:SkyWheel Myrtle Beach\, 1110 N Ocean Blv.\, Myrtle Beach\, SC\, 29577\, United States
CATEGORIES:Event
ATTACH;FMTTYPE=image/jpeg:https://skywheelmb.com/wp-content/uploads/2025/01/SKYWHOCTOBER-58-scaled.jpg
END:VEVENT
BEGIN:VEVENT
DTSTART;VALUE=DATE:20250627
DTEND;VALUE=DATE:20250628
DTSTAMP:20260420T000316
CREATED:20250523T191522Z
LAST-MODIFIED:20250523T191522Z
UID:10001274-1750982400-1751068799@skywheelmb.com
SUMMARY:USA Lightshow
DESCRIPTION:Get ready for a dazzling display of patriotic pride! The SkyWheel will come alive with a vibrant red\, white\, and blue light show celebrating the spirit of the United States. Whether you’re strolling the boardwalk or riding high above the coast\, enjoy a breathtaking tribute to freedom\, unity\, and the American dream—lit sky-high over Myrtle Beach.
URL:https://skywheelmb.com/event/usa-lightshow/2025-06-27/
LOCATION:SkyWheel Myrtle Beach\, 1110 N Ocean Blv.\, Myrtle Beach\, SC\, 29577\, United States
CATEGORIES:Event
ATTACH;FMTTYPE=image/jpeg:https://skywheelmb.com/wp-content/uploads/2025/01/SKWNOV-16-scaled.jpg
END:VEVENT
BEGIN:VEVENT
DTSTART;VALUE=DATE:20250628
DTEND;VALUE=DATE:20250629
DTSTAMP:20260420T000316
CREATED:20250523T193948Z
LAST-MODIFIED:20250523T193948Z
UID:10001281-1751068800-1751155199@skywheelmb.com
SUMMARY:Migraine & Headache Awareness
DESCRIPTION:The SkyWheel will shine purple in recognition of Migraine & Headache Awareness Month\, honoring the millions of individuals who live with these often invisible and debilitating conditions. This special lighting aims to raise awareness\, reduce stigma\, and support ongoing efforts toward better treatments and understanding. Together\, we illuminate the path toward compassion\, research\, and relief.
URL:https://skywheelmb.com/event/migraine-headache-awareness/
LOCATION:SkyWheel Myrtle Beach\, 1110 N Ocean Blv.\, Myrtle Beach\, SC\, 29577\, United States
CATEGORIES:Event
ATTACH;FMTTYPE=image/jpeg:https://skywheelmb.com/wp-content/uploads/2025/05/SKYWHOCTOBER-56-1-scaled.jpg
END:VEVENT
BEGIN:VEVENT
DTSTART;VALUE=DATE:20250629
DTEND;VALUE=DATE:20250630
DTSTAMP:20260420T000316
CREATED:20250523T194320Z
LAST-MODIFIED:20250523T194320Z
UID:10001282-1751155200-1751241599@skywheelmb.com
SUMMARY:World Scleroderma Day
DESCRIPTION:On World Scleroderma Day\, the SkyWheel will glow teal to raise awareness for those living with scleroderma—a rare\, chronic autoimmune disease that affects the skin and internal organs. This lighting is a symbol of support\, hope\, and recognition for the individuals and families impacted\, as well as the dedicated researchers and advocates working toward better treatments and a cure.
URL:https://skywheelmb.com/event/world-scleroderma-day/
LOCATION:SkyWheel Myrtle Beach\, 1110 N Ocean Blv.\, Myrtle Beach\, SC\, 29577\, United States
CATEGORIES:Event
ATTACH;FMTTYPE=image/jpeg:https://skywheelmb.com/wp-content/uploads/2025/01/SKWEXP-19-scaled.jpg
END:VEVENT
BEGIN:VEVENT
DTSTART;VALUE=DATE:20250630
DTEND;VALUE=DATE:20250701
DTSTAMP:20260420T000316
CREATED:20250523T194442Z
LAST-MODIFIED:20250523T194442Z
UID:10001283-1751241600-1751327999@skywheelmb.com
SUMMARY:Wildland Firefighter Remembrance
DESCRIPTION:The SkyWheel will shine red in solemn tribute to the brave wildland firefighters who have lost their lives in the line of duty. This special lighting honors their courage\, sacrifice\, and unwavering commitment to protecting lives\, communities\, and natural landscapes. We stand in remembrance and gratitude\, lighting the night to ensure their legacy burns brightly.
URL:https://skywheelmb.com/event/wildland-firefighter-remembrance/
LOCATION:SkyWheel Myrtle Beach\, 1110 N Ocean Blv.\, Myrtle Beach\, SC\, 29577\, United States
CATEGORIES:Event
ATTACH;FMTTYPE=image/png:https://skywheelmb.com/wp-content/uploads/2025/03/Website-Event-Calendar-1.png
END:VEVENT
BEGIN:VEVENT
DTSTART;VALUE=DATE:20250630
DTEND;VALUE=DATE:20250701
DTSTAMP:20260420T000316
CREATED:20250630T200056Z
LAST-MODIFIED:20250630T201830Z
UID:10001302-1751241600-1751327999@skywheelmb.com
SUMMARY:Hours: 10am-11pm
DESCRIPTION:
URL:https://skywheelmb.com/event/hours-of-operation-10am-11pm-2/2025-06-30/
LOCATION:SkyWheel Myrtle Beach\, 1110 N Ocean Blv.\, Myrtle Beach\, SC\, 29577\, United States
CATEGORIES:Hours
END:VEVENT
BEGIN:VEVENT
DTSTART;VALUE=DATE:20250701
DTEND;VALUE=DATE:20250702
DTSTAMP:20260420T000316
CREATED:20250630T151657Z
LAST-MODIFIED:20250630T151657Z
UID:10001284-1751328000-1751414399@skywheelmb.com
SUMMARY:Clean Beaches Week
DESCRIPTION:In honor of Clean Beaches Week\, SkyWheel is lighting up blue to raise awareness and celebrate the importance of keeping our coastlines clean and beautiful! Join us as we shine bright over the shoreline\, reminding everyone to protect and preserve our beaches for future generations. Whether you’re strolling the boardwalk or riding high in the sky\, let’s keep Myrtle Beach sparkling—just like our lights!
URL:https://skywheelmb.com/event/clean-beaches-week/
LOCATION:SkyWheel Myrtle Beach\, 1110 N Ocean Blv.\, Myrtle Beach\, SC\, 29577\, United States
CATEGORIES:Event
ATTACH;FMTTYPE=image/png:https://skywheelmb.com/wp-content/uploads/2025/02/2025-CalendarsWork-in-Progress-4.png
END:VEVENT
BEGIN:VEVENT
DTSTART;VALUE=DATE:20250701
DTEND;VALUE=DATE:20250702
DTSTAMP:20260420T000316
CREATED:20250630T200056Z
LAST-MODIFIED:20250630T201830Z
UID:10001303-1751328000-1751414399@skywheelmb.com
SUMMARY:Hours: 10am-11pm
DESCRIPTION:
URL:https://skywheelmb.com/event/hours-of-operation-10am-11pm-2/2025-07-01/
LOCATION:SkyWheel Myrtle Beach\, 1110 N Ocean Blv.\, Myrtle Beach\, SC\, 29577\, United States
CATEGORIES:Hours
END:VEVENT
BEGIN:VEVENT
DTSTART;VALUE=DATE:20250702
DTEND;VALUE=DATE:20250703
DTSTAMP:20260420T000316
CREATED:20250630T152057Z
LAST-MODIFIED:20250630T152057Z
UID:10001285-1751414400-1751500799@skywheelmb.com
SUMMARY:USA Firework Lightshow
DESCRIPTION:SkyWheel is lighting up the night with a USA Firework Lightshow in celebration of our nation’s red\, white\, and blue spirit! Watch the sky come alive with bursts of patriotic colors in a dazzling display that honors the land of the free and the home of the brave. Whether you’re riding high or watching from below\, this star-spangled spectacle is one you won’t want to miss!
URL:https://skywheelmb.com/event/usa-firework-lightshow/2025-07-02/
LOCATION:SkyWheel Myrtle Beach\, 1110 N Ocean Blv.\, Myrtle Beach\, SC\, 29577\, United States
CATEGORIES:Event
ATTACH;FMTTYPE=image/jpeg:https://skywheelmb.com/wp-content/uploads/2025/06/SKWNOV-5-scaled.jpg
END:VEVENT
BEGIN:VEVENT
DTSTART;VALUE=DATE:20250702
DTEND;VALUE=DATE:20250703
DTSTAMP:20260420T000316
CREATED:20250630T200056Z
LAST-MODIFIED:20250630T201830Z
UID:10001304-1751414400-1751500799@skywheelmb.com
SUMMARY:Hours: 10am-11pm
DESCRIPTION:
URL:https://skywheelmb.com/event/hours-of-operation-10am-11pm-2/2025-07-02/
LOCATION:SkyWheel Myrtle Beach\, 1110 N Ocean Blv.\, Myrtle Beach\, SC\, 29577\, United States
CATEGORIES:Hours
END:VEVENT
BEGIN:VEVENT
DTSTART;VALUE=DATE:20250703
DTEND;VALUE=DATE:20250704
DTSTAMP:20260420T000316
CREATED:20250630T200056Z
LAST-MODIFIED:20250630T201830Z
UID:10001305-1751500800-1751587199@skywheelmb.com
SUMMARY:Hours: 10am-11pm
DESCRIPTION:
URL:https://skywheelmb.com/event/hours-of-operation-10am-11pm-2/2025-07-03/
LOCATION:SkyWheel Myrtle Beach\, 1110 N Ocean Blv.\, Myrtle Beach\, SC\, 29577\, United States
CATEGORIES:Hours
END:VEVENT
BEGIN:VEVENT
DTSTART;VALUE=DATE:20250704
DTEND;VALUE=DATE:20250705
DTSTAMP:20260420T000316
CREATED:20250630T152407Z
LAST-MODIFIED:20250630T152407Z
UID:10001290-1751587200-1751673599@skywheelmb.com
SUMMARY:USA Flag Show
DESCRIPTION:SkyWheel is proudly lighting up with a USA Show to celebrate the spirit of America! Watch as the wheel glows in vibrant red\, white\, and blue\, honoring our country’s freedom\, unity\, and pride. Whether you’re visiting the beach or strolling the boardwalk\, our patriotic light display is the perfect backdrop for your summer celebration.
URL:https://skywheelmb.com/event/usa-flag-show/2025-07-04/
LOCATION:SkyWheel Myrtle Beach\, 1110 N Ocean Blv.\, Myrtle Beach\, SC\, 29577\, United States
CATEGORIES:Event
ATTACH;FMTTYPE=image/jpeg:https://skywheelmb.com/wp-content/uploads/2025/01/SKWNOV-16-scaled.jpg
END:VEVENT
BEGIN:VEVENT
DTSTART;VALUE=DATE:20250704
DTEND;VALUE=DATE:20250705
DTSTAMP:20260420T000316
CREATED:20250630T200056Z
LAST-MODIFIED:20250630T201830Z
UID:10001306-1751587200-1751673599@skywheelmb.com
SUMMARY:Hours: 10am-11pm
DESCRIPTION:
URL:https://skywheelmb.com/event/hours-of-operation-10am-11pm-2/2025-07-04/
LOCATION:SkyWheel Myrtle Beach\, 1110 N Ocean Blv.\, Myrtle Beach\, SC\, 29577\, United States
CATEGORIES:Hours
END:VEVENT
BEGIN:VEVENT
DTSTART;VALUE=DATE:20250705
DTEND;VALUE=DATE:20250706
DTSTAMP:20260420T000316
CREATED:20250630T152407Z
LAST-MODIFIED:20250630T152407Z
UID:10001291-1751673600-1751759999@skywheelmb.com
SUMMARY:USA Flag Show
DESCRIPTION:SkyWheel is proudly lighting up with a USA Show to celebrate the spirit of America! Watch as the wheel glows in vibrant red\, white\, and blue\, honoring our country’s freedom\, unity\, and pride. Whether you’re visiting the beach or strolling the boardwalk\, our patriotic light display is the perfect backdrop for your summer celebration.
URL:https://skywheelmb.com/event/usa-flag-show/2025-07-05/
LOCATION:SkyWheel Myrtle Beach\, 1110 N Ocean Blv.\, Myrtle Beach\, SC\, 29577\, United States
CATEGORIES:Event
ATTACH;FMTTYPE=image/jpeg:https://skywheelmb.com/wp-content/uploads/2025/01/SKWNOV-16-scaled.jpg
END:VEVENT
BEGIN:VEVENT
DTSTART;VALUE=DATE:20250705
DTEND;VALUE=DATE:20250706
DTSTAMP:20260420T000316
CREATED:20250630T200056Z
LAST-MODIFIED:20250630T201830Z
UID:10001307-1751673600-1751759999@skywheelmb.com
SUMMARY:Hours: 10am-11pm
DESCRIPTION:
URL:https://skywheelmb.com/event/hours-of-operation-10am-11pm-2/2025-07-05/
LOCATION:SkyWheel Myrtle Beach\, 1110 N Ocean Blv.\, Myrtle Beach\, SC\, 29577\, United States
CATEGORIES:Hours
END:VEVENT
BEGIN:VEVENT
DTSTART;VALUE=DATE:20250706
DTEND;VALUE=DATE:20250707
DTSTAMP:20260420T000316
CREATED:20250630T200056Z
LAST-MODIFIED:20250630T201830Z
UID:10001308-1751760000-1751846399@skywheelmb.com
SUMMARY:Hours: 10am-11pm
DESCRIPTION:
URL:https://skywheelmb.com/event/hours-of-operation-10am-11pm-2/2025-07-06/
LOCATION:SkyWheel Myrtle Beach\, 1110 N Ocean Blv.\, Myrtle Beach\, SC\, 29577\, United States
CATEGORIES:Hours
END:VEVENT
BEGIN:VEVENT
DTSTART;VALUE=DATE:20250707
DTEND;VALUE=DATE:20250708
DTSTAMP:20260420T000316
CREATED:20250630T152611Z
LAST-MODIFIED:20250630T152611Z
UID:10001297-1751846400-1751932799@skywheelmb.com
SUMMARY:Hemochromatosis Awareness
DESCRIPTION:In recognition of Hemochromatosis Awareness\, SkyWheel is lighting up red to help shine a light on this often-overlooked genetic disorder. Hemochromatosis causes the body to absorb too much iron\, which can lead to serious health issues if left untreated. By lighting red\, we aim to raise awareness\, encourage early diagnosis\, and support those affected.
URL:https://skywheelmb.com/event/hemochromatosis-awareness/
LOCATION:SkyWheel Myrtle Beach\, 1110 N Ocean Blv.\, Myrtle Beach\, SC\, 29577\, United States
CATEGORIES:Event
ATTACH;FMTTYPE=image/jpeg:https://skywheelmb.com/wp-content/uploads/2025/01/SKWJAN23-11-scaled.jpg
END:VEVENT
BEGIN:VEVENT
DTSTART;VALUE=DATE:20250707
DTEND;VALUE=DATE:20250708
DTSTAMP:20260420T000316
CREATED:20250630T200056Z
LAST-MODIFIED:20250630T201830Z
UID:10001309-1751846400-1751932799@skywheelmb.com
SUMMARY:Hours: 10am-11pm
DESCRIPTION:
URL:https://skywheelmb.com/event/hours-of-operation-10am-11pm-2/2025-07-07/
LOCATION:SkyWheel Myrtle Beach\, 1110 N Ocean Blv.\, Myrtle Beach\, SC\, 29577\, United States
CATEGORIES:Hours
END:VEVENT
BEGIN:VEVENT
DTSTART;VALUE=DATE:20250708
DTEND;VALUE=DATE:20250709
DTSTAMP:20260420T000316
CREATED:20250630T200056Z
LAST-MODIFIED:20250630T201830Z
UID:10001310-1751932800-1752019199@skywheelmb.com
SUMMARY:Hours: 10am-11pm
DESCRIPTION:
URL:https://skywheelmb.com/event/hours-of-operation-10am-11pm-2/2025-07-08/
LOCATION:SkyWheel Myrtle Beach\, 1110 N Ocean Blv.\, Myrtle Beach\, SC\, 29577\, United States
CATEGORIES:Hours
END:VEVENT
BEGIN:VEVENT
DTSTART;VALUE=DATE:20250709
DTEND;VALUE=DATE:20250710
DTSTAMP:20260420T000316
CREATED:20250630T152057Z
LAST-MODIFIED:20250630T152057Z
UID:10001286-1752019200-1752105599@skywheelmb.com
SUMMARY:USA Firework Lightshow
DESCRIPTION:SkyWheel is lighting up the night with a USA Firework Lightshow in celebration of our nation’s red\, white\, and blue spirit! Watch the sky come alive with bursts of patriotic colors in a dazzling display that honors the land of the free and the home of the brave. Whether you’re riding high or watching from below\, this star-spangled spectacle is one you won’t want to miss!
URL:https://skywheelmb.com/event/usa-firework-lightshow/2025-07-09/
LOCATION:SkyWheel Myrtle Beach\, 1110 N Ocean Blv.\, Myrtle Beach\, SC\, 29577\, United States
CATEGORIES:Event
ATTACH;FMTTYPE=image/jpeg:https://skywheelmb.com/wp-content/uploads/2025/06/SKWNOV-5-scaled.jpg
END:VEVENT
BEGIN:VEVENT
DTSTART;VALUE=DATE:20250709
DTEND;VALUE=DATE:20250710
DTSTAMP:20260420T000316
CREATED:20250630T200056Z
LAST-MODIFIED:20250630T201830Z
UID:10001311-1752019200-1752105599@skywheelmb.com
SUMMARY:Hours: 10am-11pm
DESCRIPTION:
URL:https://skywheelmb.com/event/hours-of-operation-10am-11pm-2/2025-07-09/
LOCATION:SkyWheel Myrtle Beach\, 1110 N Ocean Blv.\, Myrtle Beach\, SC\, 29577\, United States
CATEGORIES:Hours
END:VEVENT
BEGIN:VEVENT
DTSTART;VALUE=DATE:20250710
DTEND;VALUE=DATE:20250711
DTSTAMP:20260420T000316
CREATED:20250630T200056Z
LAST-MODIFIED:20250630T201830Z
UID:10001312-1752105600-1752191999@skywheelmb.com
SUMMARY:Hours: 10am-11pm
DESCRIPTION:
URL:https://skywheelmb.com/event/hours-of-operation-10am-11pm-2/2025-07-10/
LOCATION:SkyWheel Myrtle Beach\, 1110 N Ocean Blv.\, Myrtle Beach\, SC\, 29577\, United States
CATEGORIES:Hours
END:VEVENT
END:VCALENDAR