BEGIN:VCALENDAR
VERSION:2.0
PRODID:-// - ECPv6.15.20//NONSGML v1.0//EN
CALSCALE:GREGORIAN
METHOD:PUBLISH
X-ORIGINAL-URL:https://skywheelmb.com
X-WR-CALDESC:Events for 
REFRESH-INTERVAL;VALUE=DURATION:PT1H
X-Robots-Tag:noindex
X-PUBLISHED-TTL:PT1H
BEGIN:VTIMEZONE
TZID:America/New_York
BEGIN:DAYLIGHT
TZOFFSETFROM:-0500
TZOFFSETTO:-0400
TZNAME:EDT
DTSTART:20240310T070000
END:DAYLIGHT
BEGIN:STANDARD
TZOFFSETFROM:-0400
TZOFFSETTO:-0500
TZNAME:EST
DTSTART:20241103T060000
END:STANDARD
BEGIN:DAYLIGHT
TZOFFSETFROM:-0500
TZOFFSETTO:-0400
TZNAME:EDT
DTSTART:20250309T070000
END:DAYLIGHT
BEGIN:STANDARD
TZOFFSETFROM:-0400
TZOFFSETTO:-0500
TZNAME:EST
DTSTART:20251102T060000
END:STANDARD
BEGIN:DAYLIGHT
TZOFFSETFROM:-0500
TZOFFSETTO:-0400
TZNAME:EDT
DTSTART:20260308T070000
END:DAYLIGHT
BEGIN:STANDARD
TZOFFSETFROM:-0400
TZOFFSETTO:-0500
TZNAME:EST
DTSTART:20261101T060000
END:STANDARD
END:VTIMEZONE
BEGIN:VEVENT
DTSTART;VALUE=DATE:20250707
DTEND;VALUE=DATE:20250708
DTSTAMP:20260420T032358
CREATED:20250630T152611Z
LAST-MODIFIED:20250630T152611Z
UID:10001297-1751846400-1751932799@skywheelmb.com
SUMMARY:Hemochromatosis Awareness
DESCRIPTION:In recognition of Hemochromatosis Awareness\, SkyWheel is lighting up red to help shine a light on this often-overlooked genetic disorder. Hemochromatosis causes the body to absorb too much iron\, which can lead to serious health issues if left untreated. By lighting red\, we aim to raise awareness\, encourage early diagnosis\, and support those affected.
URL:https://skywheelmb.com/event/hemochromatosis-awareness/
LOCATION:SkyWheel Myrtle Beach\, 1110 N Ocean Blv.\, Myrtle Beach\, SC\, 29577\, United States
CATEGORIES:Event
ATTACH;FMTTYPE=image/jpeg:https://skywheelmb.com/wp-content/uploads/2025/01/SKWJAN23-11-scaled.jpg
END:VEVENT
BEGIN:VEVENT
DTSTART;VALUE=DATE:20250707
DTEND;VALUE=DATE:20250708
DTSTAMP:20260420T032358
CREATED:20250630T200056Z
LAST-MODIFIED:20250630T201830Z
UID:10001309-1751846400-1751932799@skywheelmb.com
SUMMARY:Hours: 10am-11pm
DESCRIPTION:
URL:https://skywheelmb.com/event/hours-of-operation-10am-11pm-2/2025-07-07/
LOCATION:SkyWheel Myrtle Beach\, 1110 N Ocean Blv.\, Myrtle Beach\, SC\, 29577\, United States
CATEGORIES:Hours
END:VEVENT
BEGIN:VEVENT
DTSTART;VALUE=DATE:20250708
DTEND;VALUE=DATE:20250709
DTSTAMP:20260420T032358
CREATED:20250630T200056Z
LAST-MODIFIED:20250630T201830Z
UID:10001310-1751932800-1752019199@skywheelmb.com
SUMMARY:Hours: 10am-11pm
DESCRIPTION:
URL:https://skywheelmb.com/event/hours-of-operation-10am-11pm-2/2025-07-08/
LOCATION:SkyWheel Myrtle Beach\, 1110 N Ocean Blv.\, Myrtle Beach\, SC\, 29577\, United States
CATEGORIES:Hours
END:VEVENT
BEGIN:VEVENT
DTSTART;VALUE=DATE:20250709
DTEND;VALUE=DATE:20250710
DTSTAMP:20260420T032358
CREATED:20250630T152057Z
LAST-MODIFIED:20250630T152057Z
UID:10001286-1752019200-1752105599@skywheelmb.com
SUMMARY:USA Firework Lightshow
DESCRIPTION:SkyWheel is lighting up the night with a USA Firework Lightshow in celebration of our nation’s red\, white\, and blue spirit! Watch the sky come alive with bursts of patriotic colors in a dazzling display that honors the land of the free and the home of the brave. Whether you’re riding high or watching from below\, this star-spangled spectacle is one you won’t want to miss!
URL:https://skywheelmb.com/event/usa-firework-lightshow/2025-07-09/
LOCATION:SkyWheel Myrtle Beach\, 1110 N Ocean Blv.\, Myrtle Beach\, SC\, 29577\, United States
CATEGORIES:Event
ATTACH;FMTTYPE=image/jpeg:https://skywheelmb.com/wp-content/uploads/2025/06/SKWNOV-5-scaled.jpg
END:VEVENT
BEGIN:VEVENT
DTSTART;VALUE=DATE:20250709
DTEND;VALUE=DATE:20250710
DTSTAMP:20260420T032358
CREATED:20250630T200056Z
LAST-MODIFIED:20250630T201830Z
UID:10001311-1752019200-1752105599@skywheelmb.com
SUMMARY:Hours: 10am-11pm
DESCRIPTION:
URL:https://skywheelmb.com/event/hours-of-operation-10am-11pm-2/2025-07-09/
LOCATION:SkyWheel Myrtle Beach\, 1110 N Ocean Blv.\, Myrtle Beach\, SC\, 29577\, United States
CATEGORIES:Hours
END:VEVENT
BEGIN:VEVENT
DTSTART;VALUE=DATE:20250710
DTEND;VALUE=DATE:20250711
DTSTAMP:20260420T032358
CREATED:20250630T200056Z
LAST-MODIFIED:20250630T201830Z
UID:10001312-1752105600-1752191999@skywheelmb.com
SUMMARY:Hours: 10am-11pm
DESCRIPTION:
URL:https://skywheelmb.com/event/hours-of-operation-10am-11pm-2/2025-07-10/
LOCATION:SkyWheel Myrtle Beach\, 1110 N Ocean Blv.\, Myrtle Beach\, SC\, 29577\, United States
CATEGORIES:Hours
END:VEVENT
BEGIN:VEVENT
DTSTART;VALUE=DATE:20250711
DTEND;VALUE=DATE:20250712
DTSTAMP:20260420T032358
CREATED:20250630T152407Z
LAST-MODIFIED:20250630T152407Z
UID:10001292-1752192000-1752278399@skywheelmb.com
SUMMARY:USA Flag Show
DESCRIPTION:SkyWheel is proudly lighting up with a USA Show to celebrate the spirit of America! Watch as the wheel glows in vibrant red\, white\, and blue\, honoring our country’s freedom\, unity\, and pride. Whether you’re visiting the beach or strolling the boardwalk\, our patriotic light display is the perfect backdrop for your summer celebration.
URL:https://skywheelmb.com/event/usa-flag-show/2025-07-11/
LOCATION:SkyWheel Myrtle Beach\, 1110 N Ocean Blv.\, Myrtle Beach\, SC\, 29577\, United States
CATEGORIES:Event
ATTACH;FMTTYPE=image/jpeg:https://skywheelmb.com/wp-content/uploads/2025/01/SKWNOV-16-scaled.jpg
END:VEVENT
BEGIN:VEVENT
DTSTART;VALUE=DATE:20250711
DTEND;VALUE=DATE:20250712
DTSTAMP:20260420T032358
CREATED:20250630T200056Z
LAST-MODIFIED:20250630T201830Z
UID:10001313-1752192000-1752278399@skywheelmb.com
SUMMARY:Hours: 10am-11pm
DESCRIPTION:
URL:https://skywheelmb.com/event/hours-of-operation-10am-11pm-2/2025-07-11/
LOCATION:SkyWheel Myrtle Beach\, 1110 N Ocean Blv.\, Myrtle Beach\, SC\, 29577\, United States
CATEGORIES:Hours
END:VEVENT
BEGIN:VEVENT
DTSTART;VALUE=DATE:20250712
DTEND;VALUE=DATE:20250713
DTSTAMP:20260420T032358
CREATED:20250630T152407Z
LAST-MODIFIED:20250630T152407Z
UID:10001293-1752278400-1752364799@skywheelmb.com
SUMMARY:USA Flag Show
DESCRIPTION:SkyWheel is proudly lighting up with a USA Show to celebrate the spirit of America! Watch as the wheel glows in vibrant red\, white\, and blue\, honoring our country’s freedom\, unity\, and pride. Whether you’re visiting the beach or strolling the boardwalk\, our patriotic light display is the perfect backdrop for your summer celebration.
URL:https://skywheelmb.com/event/usa-flag-show/2025-07-12/
LOCATION:SkyWheel Myrtle Beach\, 1110 N Ocean Blv.\, Myrtle Beach\, SC\, 29577\, United States
CATEGORIES:Event
ATTACH;FMTTYPE=image/jpeg:https://skywheelmb.com/wp-content/uploads/2025/01/SKWNOV-16-scaled.jpg
END:VEVENT
BEGIN:VEVENT
DTSTART;VALUE=DATE:20250712
DTEND;VALUE=DATE:20250713
DTSTAMP:20260420T032358
CREATED:20250630T200056Z
LAST-MODIFIED:20250630T201830Z
UID:10001314-1752278400-1752364799@skywheelmb.com
SUMMARY:Hours: 10am-11pm
DESCRIPTION:
URL:https://skywheelmb.com/event/hours-of-operation-10am-11pm-2/2025-07-12/
LOCATION:SkyWheel Myrtle Beach\, 1110 N Ocean Blv.\, Myrtle Beach\, SC\, 29577\, United States
CATEGORIES:Hours
END:VEVENT
BEGIN:VEVENT
DTSTART;VALUE=DATE:20250713
DTEND;VALUE=DATE:20250714
DTSTAMP:20260420T032358
CREATED:20250630T200056Z
LAST-MODIFIED:20250630T201830Z
UID:10001315-1752364800-1752451199@skywheelmb.com
SUMMARY:Hours: 10am-11pm
DESCRIPTION:
URL:https://skywheelmb.com/event/hours-of-operation-10am-11pm-2/2025-07-13/
LOCATION:SkyWheel Myrtle Beach\, 1110 N Ocean Blv.\, Myrtle Beach\, SC\, 29577\, United States
CATEGORIES:Hours
END:VEVENT
BEGIN:VEVENT
DTSTART;VALUE=DATE:20250714
DTEND;VALUE=DATE:20250715
DTSTAMP:20260420T032358
CREATED:20250630T200056Z
LAST-MODIFIED:20250630T201830Z
UID:10001316-1752451200-1752537599@skywheelmb.com
SUMMARY:Hours: 10am-11pm
DESCRIPTION:
URL:https://skywheelmb.com/event/hours-of-operation-10am-11pm-2/2025-07-14/
LOCATION:SkyWheel Myrtle Beach\, 1110 N Ocean Blv.\, Myrtle Beach\, SC\, 29577\, United States
CATEGORIES:Hours
END:VEVENT
BEGIN:VEVENT
DTSTART;VALUE=DATE:20250715
DTEND;VALUE=DATE:20250716
DTSTAMP:20260420T032358
CREATED:20250630T200056Z
LAST-MODIFIED:20250630T201830Z
UID:10001317-1752537600-1752623999@skywheelmb.com
SUMMARY:Hours: 10am-11pm
DESCRIPTION:
URL:https://skywheelmb.com/event/hours-of-operation-10am-11pm-2/2025-07-15/
LOCATION:SkyWheel Myrtle Beach\, 1110 N Ocean Blv.\, Myrtle Beach\, SC\, 29577\, United States
CATEGORIES:Hours
END:VEVENT
BEGIN:VEVENT
DTSTART;VALUE=DATE:20250716
DTEND;VALUE=DATE:20250717
DTSTAMP:20260420T032358
CREATED:20250630T152057Z
LAST-MODIFIED:20250630T152057Z
UID:10001287-1752624000-1752710399@skywheelmb.com
SUMMARY:USA Firework Lightshow
DESCRIPTION:SkyWheel is lighting up the night with a USA Firework Lightshow in celebration of our nation’s red\, white\, and blue spirit! Watch the sky come alive with bursts of patriotic colors in a dazzling display that honors the land of the free and the home of the brave. Whether you’re riding high or watching from below\, this star-spangled spectacle is one you won’t want to miss!
URL:https://skywheelmb.com/event/usa-firework-lightshow/2025-07-16/
LOCATION:SkyWheel Myrtle Beach\, 1110 N Ocean Blv.\, Myrtle Beach\, SC\, 29577\, United States
CATEGORIES:Event
ATTACH;FMTTYPE=image/jpeg:https://skywheelmb.com/wp-content/uploads/2025/06/SKWNOV-5-scaled.jpg
END:VEVENT
BEGIN:VEVENT
DTSTART;VALUE=DATE:20250716
DTEND;VALUE=DATE:20250717
DTSTAMP:20260420T032358
CREATED:20250630T200056Z
LAST-MODIFIED:20250630T201830Z
UID:10001318-1752624000-1752710399@skywheelmb.com
SUMMARY:Hours: 10am-11pm
DESCRIPTION:
URL:https://skywheelmb.com/event/hours-of-operation-10am-11pm-2/2025-07-16/
LOCATION:SkyWheel Myrtle Beach\, 1110 N Ocean Blv.\, Myrtle Beach\, SC\, 29577\, United States
CATEGORIES:Hours
END:VEVENT
BEGIN:VEVENT
DTSTART;VALUE=DATE:20250717
DTEND;VALUE=DATE:20250718
DTSTAMP:20260420T032358
CREATED:20250630T152836Z
LAST-MODIFIED:20250630T152836Z
UID:10001298-1752710400-1752796799@skywheelmb.com
SUMMARY:Juvenile Arthritis Awareness
DESCRIPTION:SkyWheel is lighting up blue in support of Juvenile Arthritis Awareness. This month\, we stand with the thousands of children and teens who live with the pain and challenges of arthritis every day. Our blue lights shine as a symbol of hope\, strength\, and support for young warriors and their families. Together\, we raise awareness and advocate for better treatments and brighter futures.
URL:https://skywheelmb.com/event/juvenile-arthritis-awareness/
LOCATION:SkyWheel Myrtle Beach\, 1110 N Ocean Blv.\, Myrtle Beach\, SC\, 29577\, United States
CATEGORIES:Event
ATTACH;FMTTYPE=image/png:https://skywheelmb.com/wp-content/uploads/2025/02/2025-CalendarsWork-in-Progress-4.png
END:VEVENT
BEGIN:VEVENT
DTSTART;VALUE=DATE:20250717
DTEND;VALUE=DATE:20250718
DTSTAMP:20260420T032358
CREATED:20250630T200056Z
LAST-MODIFIED:20250630T201830Z
UID:10001319-1752710400-1752796799@skywheelmb.com
SUMMARY:Hours: 10am-11pm
DESCRIPTION:
URL:https://skywheelmb.com/event/hours-of-operation-10am-11pm-2/2025-07-17/
LOCATION:SkyWheel Myrtle Beach\, 1110 N Ocean Blv.\, Myrtle Beach\, SC\, 29577\, United States
CATEGORIES:Hours
END:VEVENT
BEGIN:VEVENT
DTSTART;VALUE=DATE:20250718
DTEND;VALUE=DATE:20250719
DTSTAMP:20260420T032358
CREATED:20250630T152407Z
LAST-MODIFIED:20250630T152407Z
UID:10001294-1752796800-1752883199@skywheelmb.com
SUMMARY:USA Flag Show
DESCRIPTION:SkyWheel is proudly lighting up with a USA Show to celebrate the spirit of America! Watch as the wheel glows in vibrant red\, white\, and blue\, honoring our country’s freedom\, unity\, and pride. Whether you’re visiting the beach or strolling the boardwalk\, our patriotic light display is the perfect backdrop for your summer celebration.
URL:https://skywheelmb.com/event/usa-flag-show/2025-07-18/
LOCATION:SkyWheel Myrtle Beach\, 1110 N Ocean Blv.\, Myrtle Beach\, SC\, 29577\, United States
CATEGORIES:Event
ATTACH;FMTTYPE=image/jpeg:https://skywheelmb.com/wp-content/uploads/2025/01/SKWNOV-16-scaled.jpg
END:VEVENT
BEGIN:VEVENT
DTSTART;VALUE=DATE:20250718
DTEND;VALUE=DATE:20250719
DTSTAMP:20260420T032358
CREATED:20250630T200056Z
LAST-MODIFIED:20250630T201830Z
UID:10001320-1752796800-1752883199@skywheelmb.com
SUMMARY:Hours: 10am-11pm
DESCRIPTION:
URL:https://skywheelmb.com/event/hours-of-operation-10am-11pm-2/2025-07-18/
LOCATION:SkyWheel Myrtle Beach\, 1110 N Ocean Blv.\, Myrtle Beach\, SC\, 29577\, United States
CATEGORIES:Hours
END:VEVENT
BEGIN:VEVENT
DTSTART;VALUE=DATE:20250719
DTEND;VALUE=DATE:20250720
DTSTAMP:20260420T032358
CREATED:20250630T152407Z
LAST-MODIFIED:20250630T152407Z
UID:10001295-1752883200-1752969599@skywheelmb.com
SUMMARY:USA Flag Show
DESCRIPTION:SkyWheel is proudly lighting up with a USA Show to celebrate the spirit of America! Watch as the wheel glows in vibrant red\, white\, and blue\, honoring our country’s freedom\, unity\, and pride. Whether you’re visiting the beach or strolling the boardwalk\, our patriotic light display is the perfect backdrop for your summer celebration.
URL:https://skywheelmb.com/event/usa-flag-show/2025-07-19/
LOCATION:SkyWheel Myrtle Beach\, 1110 N Ocean Blv.\, Myrtle Beach\, SC\, 29577\, United States
CATEGORIES:Event
ATTACH;FMTTYPE=image/jpeg:https://skywheelmb.com/wp-content/uploads/2025/01/SKWNOV-16-scaled.jpg
END:VEVENT
BEGIN:VEVENT
DTSTART;VALUE=DATE:20250719
DTEND;VALUE=DATE:20250720
DTSTAMP:20260420T032358
CREATED:20250630T200056Z
LAST-MODIFIED:20250630T201830Z
UID:10001321-1752883200-1752969599@skywheelmb.com
SUMMARY:Hours: 10am-11pm
DESCRIPTION:
URL:https://skywheelmb.com/event/hours-of-operation-10am-11pm-2/2025-07-19/
LOCATION:SkyWheel Myrtle Beach\, 1110 N Ocean Blv.\, Myrtle Beach\, SC\, 29577\, United States
CATEGORIES:Hours
END:VEVENT
BEGIN:VEVENT
DTSTART;VALUE=DATE:20250720
DTEND;VALUE=DATE:20250721
DTSTAMP:20260420T032358
CREATED:20250630T153114Z
LAST-MODIFIED:20250630T153114Z
UID:10001299-1752969600-1753055999@skywheelmb.com
SUMMARY:Women with Alopecia Month
DESCRIPTION:In honor of Women with Alopecia Awareness Month\, SkyWheel is lighting up blue to support and empower women living with alopecia. This month\, we raise awareness about this autoimmune condition that causes hair loss\, and celebrate the strength and confidence of women embracing their unique beauty. Join us in shining a light on hope\, acceptance\, and community.
URL:https://skywheelmb.com/event/women-with-alopecia-month/
LOCATION:SkyWheel Myrtle Beach\, 1110 N Ocean Blv.\, Myrtle Beach\, SC\, 29577\, United States
CATEGORIES:Event
ATTACH;FMTTYPE=image/png:https://skywheelmb.com/wp-content/uploads/2025/02/2025-CalendarsWork-in-Progress-4.png
END:VEVENT
BEGIN:VEVENT
DTSTART;VALUE=DATE:20250720
DTEND;VALUE=DATE:20250721
DTSTAMP:20260420T032358
CREATED:20250630T200056Z
LAST-MODIFIED:20250630T201830Z
UID:10001322-1752969600-1753055999@skywheelmb.com
SUMMARY:Hours: 10am-11pm
DESCRIPTION:
URL:https://skywheelmb.com/event/hours-of-operation-10am-11pm-2/2025-07-20/
LOCATION:SkyWheel Myrtle Beach\, 1110 N Ocean Blv.\, Myrtle Beach\, SC\, 29577\, United States
CATEGORIES:Hours
END:VEVENT
BEGIN:VEVENT
DTSTART;VALUE=DATE:20250721
DTEND;VALUE=DATE:20250722
DTSTAMP:20260420T032358
CREATED:20250630T200056Z
LAST-MODIFIED:20250630T201830Z
UID:10001323-1753056000-1753142399@skywheelmb.com
SUMMARY:Hours: 10am-11pm
DESCRIPTION:
URL:https://skywheelmb.com/event/hours-of-operation-10am-11pm-2/2025-07-21/
LOCATION:SkyWheel Myrtle Beach\, 1110 N Ocean Blv.\, Myrtle Beach\, SC\, 29577\, United States
CATEGORIES:Hours
END:VEVENT
BEGIN:VEVENT
DTSTART;VALUE=DATE:20250722
DTEND;VALUE=DATE:20250723
DTSTAMP:20260420T032358
CREATED:20250630T153233Z
LAST-MODIFIED:20250630T153233Z
UID:10001300-1753142400-1753228799@skywheelmb.com
SUMMARY:Fragile X Syndrome
DESCRIPTION:SkyWheel is lighting up teal to raise awareness for Fragile X Syndrome—the most common inherited cause of intellectual disability and autism. This special lighting honors individuals and families affected by Fragile X\, shining a hopeful light on the journey toward understanding\, support\, and research. Together\, we stand strong in advocacy and compassion.
URL:https://skywheelmb.com/event/fragile-x-syndrome/
LOCATION:SkyWheel Myrtle Beach\, 1110 N Ocean Blv.\, Myrtle Beach\, SC\, 29577\, United States
CATEGORIES:Event
ATTACH;FMTTYPE=image/jpeg:https://skywheelmb.com/wp-content/uploads/2025/05/SKWGRT-30-scaled.jpg
END:VEVENT
BEGIN:VEVENT
DTSTART;VALUE=DATE:20250722
DTEND;VALUE=DATE:20250723
DTSTAMP:20260420T032358
CREATED:20250630T200056Z
LAST-MODIFIED:20250630T201830Z
UID:10001324-1753142400-1753228799@skywheelmb.com
SUMMARY:Hours: 10am-11pm
DESCRIPTION:
URL:https://skywheelmb.com/event/hours-of-operation-10am-11pm-2/2025-07-22/
LOCATION:SkyWheel Myrtle Beach\, 1110 N Ocean Blv.\, Myrtle Beach\, SC\, 29577\, United States
CATEGORIES:Hours
END:VEVENT
BEGIN:VEVENT
DTSTART;VALUE=DATE:20250723
DTEND;VALUE=DATE:20250724
DTSTAMP:20260420T032358
CREATED:20250630T152057Z
LAST-MODIFIED:20250630T152057Z
UID:10001288-1753228800-1753315199@skywheelmb.com
SUMMARY:USA Firework Lightshow
DESCRIPTION:SkyWheel is lighting up the night with a USA Firework Lightshow in celebration of our nation’s red\, white\, and blue spirit! Watch the sky come alive with bursts of patriotic colors in a dazzling display that honors the land of the free and the home of the brave. Whether you’re riding high or watching from below\, this star-spangled spectacle is one you won’t want to miss!
URL:https://skywheelmb.com/event/usa-firework-lightshow/2025-07-23/
LOCATION:SkyWheel Myrtle Beach\, 1110 N Ocean Blv.\, Myrtle Beach\, SC\, 29577\, United States
CATEGORIES:Event
ATTACH;FMTTYPE=image/jpeg:https://skywheelmb.com/wp-content/uploads/2025/06/SKWNOV-5-scaled.jpg
END:VEVENT
BEGIN:VEVENT
DTSTART;VALUE=DATE:20250723
DTEND;VALUE=DATE:20250724
DTSTAMP:20260420T032358
CREATED:20250630T200056Z
LAST-MODIFIED:20250630T201830Z
UID:10001325-1753228800-1753315199@skywheelmb.com
SUMMARY:Hours: 10am-11pm
DESCRIPTION:
URL:https://skywheelmb.com/event/hours-of-operation-10am-11pm-2/2025-07-23/
LOCATION:SkyWheel Myrtle Beach\, 1110 N Ocean Blv.\, Myrtle Beach\, SC\, 29577\, United States
CATEGORIES:Hours
END:VEVENT
BEGIN:VEVENT
DTSTART;VALUE=DATE:20250724
DTEND;VALUE=DATE:20250725
DTSTAMP:20260420T032358
CREATED:20250630T200056Z
LAST-MODIFIED:20250630T201830Z
UID:10001326-1753315200-1753401599@skywheelmb.com
SUMMARY:Hours: 10am-11pm
DESCRIPTION:
URL:https://skywheelmb.com/event/hours-of-operation-10am-11pm-2/2025-07-24/
LOCATION:SkyWheel Myrtle Beach\, 1110 N Ocean Blv.\, Myrtle Beach\, SC\, 29577\, United States
CATEGORIES:Hours
END:VEVENT
BEGIN:VEVENT
DTSTART;VALUE=DATE:20250725
DTEND;VALUE=DATE:20250726
DTSTAMP:20260420T032358
CREATED:20250630T153346Z
LAST-MODIFIED:20250630T153346Z
UID:10001301-1753401600-1753487999@skywheelmb.com
SUMMARY:Sarcoma Awareness
DESCRIPTION:kyWheel is lighting up yellow in support of Sarcoma Awareness. This vibrant color shines to bring attention to sarcoma\, a rare and aggressive form of cancer that affects the body’s connective tissues. By lighting yellow\, we honor those fighting this disease and their families\, and we stand together to promote early detection\, research\, and hope for a cure.
URL:https://skywheelmb.com/event/sarcoma-awareness/
LOCATION:SkyWheel Myrtle Beach\, 1110 N Ocean Blv.\, Myrtle Beach\, SC\, 29577\, United States
CATEGORIES:Event
ATTACH;FMTTYPE=image/jpeg:https://skywheelmb.com/wp-content/uploads/2025/02/SKWNOV-32-scaled.jpg
END:VEVENT
END:VCALENDAR