BEGIN:VCALENDAR
VERSION:2.0
PRODID:-// - ECPv6.15.20//NONSGML v1.0//EN
CALSCALE:GREGORIAN
METHOD:PUBLISH
X-ORIGINAL-URL:https://skywheelmb.com
X-WR-CALDESC:Events for 
REFRESH-INTERVAL;VALUE=DURATION:PT1H
X-Robots-Tag:noindex
X-PUBLISHED-TTL:PT1H
BEGIN:VTIMEZONE
TZID:America/New_York
BEGIN:DAYLIGHT
TZOFFSETFROM:-0500
TZOFFSETTO:-0400
TZNAME:EDT
DTSTART:20240310T070000
END:DAYLIGHT
BEGIN:STANDARD
TZOFFSETFROM:-0400
TZOFFSETTO:-0500
TZNAME:EST
DTSTART:20241103T060000
END:STANDARD
BEGIN:DAYLIGHT
TZOFFSETFROM:-0500
TZOFFSETTO:-0400
TZNAME:EDT
DTSTART:20250309T070000
END:DAYLIGHT
BEGIN:STANDARD
TZOFFSETFROM:-0400
TZOFFSETTO:-0500
TZNAME:EST
DTSTART:20251102T060000
END:STANDARD
BEGIN:DAYLIGHT
TZOFFSETFROM:-0500
TZOFFSETTO:-0400
TZNAME:EDT
DTSTART:20260308T070000
END:DAYLIGHT
BEGIN:STANDARD
TZOFFSETFROM:-0400
TZOFFSETTO:-0500
TZNAME:EST
DTSTART:20261101T060000
END:STANDARD
END:VTIMEZONE
BEGIN:VEVENT
DTSTART;VALUE=DATE:20250722
DTEND;VALUE=DATE:20250723
DTSTAMP:20260420T063451
CREATED:20250630T153233Z
LAST-MODIFIED:20250630T153233Z
UID:10001300-1753142400-1753228799@skywheelmb.com
SUMMARY:Fragile X Syndrome
DESCRIPTION:SkyWheel is lighting up teal to raise awareness for Fragile X Syndrome—the most common inherited cause of intellectual disability and autism. This special lighting honors individuals and families affected by Fragile X\, shining a hopeful light on the journey toward understanding\, support\, and research. Together\, we stand strong in advocacy and compassion.
URL:https://skywheelmb.com/event/fragile-x-syndrome/
LOCATION:SkyWheel Myrtle Beach\, 1110 N Ocean Blv.\, Myrtle Beach\, SC\, 29577\, United States
CATEGORIES:Event
ATTACH;FMTTYPE=image/jpeg:https://skywheelmb.com/wp-content/uploads/2025/05/SKWGRT-30-scaled.jpg
END:VEVENT
BEGIN:VEVENT
DTSTART;VALUE=DATE:20250722
DTEND;VALUE=DATE:20250723
DTSTAMP:20260420T063451
CREATED:20250630T200056Z
LAST-MODIFIED:20250630T201830Z
UID:10001324-1753142400-1753228799@skywheelmb.com
SUMMARY:Hours: 10am-11pm
DESCRIPTION:
URL:https://skywheelmb.com/event/hours-of-operation-10am-11pm-2/2025-07-22/
LOCATION:SkyWheel Myrtle Beach\, 1110 N Ocean Blv.\, Myrtle Beach\, SC\, 29577\, United States
CATEGORIES:Hours
END:VEVENT
BEGIN:VEVENT
DTSTART;VALUE=DATE:20250723
DTEND;VALUE=DATE:20250724
DTSTAMP:20260420T063451
CREATED:20250630T152057Z
LAST-MODIFIED:20250630T152057Z
UID:10001288-1753228800-1753315199@skywheelmb.com
SUMMARY:USA Firework Lightshow
DESCRIPTION:SkyWheel is lighting up the night with a USA Firework Lightshow in celebration of our nation’s red\, white\, and blue spirit! Watch the sky come alive with bursts of patriotic colors in a dazzling display that honors the land of the free and the home of the brave. Whether you’re riding high or watching from below\, this star-spangled spectacle is one you won’t want to miss!
URL:https://skywheelmb.com/event/usa-firework-lightshow/2025-07-23/
LOCATION:SkyWheel Myrtle Beach\, 1110 N Ocean Blv.\, Myrtle Beach\, SC\, 29577\, United States
CATEGORIES:Event
ATTACH;FMTTYPE=image/jpeg:https://skywheelmb.com/wp-content/uploads/2025/06/SKWNOV-5-scaled.jpg
END:VEVENT
BEGIN:VEVENT
DTSTART;VALUE=DATE:20250723
DTEND;VALUE=DATE:20250724
DTSTAMP:20260420T063451
CREATED:20250630T200056Z
LAST-MODIFIED:20250630T201830Z
UID:10001325-1753228800-1753315199@skywheelmb.com
SUMMARY:Hours: 10am-11pm
DESCRIPTION:
URL:https://skywheelmb.com/event/hours-of-operation-10am-11pm-2/2025-07-23/
LOCATION:SkyWheel Myrtle Beach\, 1110 N Ocean Blv.\, Myrtle Beach\, SC\, 29577\, United States
CATEGORIES:Hours
END:VEVENT
BEGIN:VEVENT
DTSTART;VALUE=DATE:20250724
DTEND;VALUE=DATE:20250725
DTSTAMP:20260420T063451
CREATED:20250630T200056Z
LAST-MODIFIED:20250630T201830Z
UID:10001326-1753315200-1753401599@skywheelmb.com
SUMMARY:Hours: 10am-11pm
DESCRIPTION:
URL:https://skywheelmb.com/event/hours-of-operation-10am-11pm-2/2025-07-24/
LOCATION:SkyWheel Myrtle Beach\, 1110 N Ocean Blv.\, Myrtle Beach\, SC\, 29577\, United States
CATEGORIES:Hours
END:VEVENT
BEGIN:VEVENT
DTSTART;VALUE=DATE:20250725
DTEND;VALUE=DATE:20250726
DTSTAMP:20260420T063451
CREATED:20250630T153346Z
LAST-MODIFIED:20250630T153346Z
UID:10001301-1753401600-1753487999@skywheelmb.com
SUMMARY:Sarcoma Awareness
DESCRIPTION:kyWheel is lighting up yellow in support of Sarcoma Awareness. This vibrant color shines to bring attention to sarcoma\, a rare and aggressive form of cancer that affects the body’s connective tissues. By lighting yellow\, we honor those fighting this disease and their families\, and we stand together to promote early detection\, research\, and hope for a cure.
URL:https://skywheelmb.com/event/sarcoma-awareness/
LOCATION:SkyWheel Myrtle Beach\, 1110 N Ocean Blv.\, Myrtle Beach\, SC\, 29577\, United States
CATEGORIES:Event
ATTACH;FMTTYPE=image/jpeg:https://skywheelmb.com/wp-content/uploads/2025/02/SKWNOV-32-scaled.jpg
END:VEVENT
BEGIN:VEVENT
DTSTART;VALUE=DATE:20250725
DTEND;VALUE=DATE:20250726
DTSTAMP:20260420T063451
CREATED:20250630T200056Z
LAST-MODIFIED:20250630T201830Z
UID:10001327-1753401600-1753487999@skywheelmb.com
SUMMARY:Hours: 10am-11pm
DESCRIPTION:
URL:https://skywheelmb.com/event/hours-of-operation-10am-11pm-2/2025-07-25/
LOCATION:SkyWheel Myrtle Beach\, 1110 N Ocean Blv.\, Myrtle Beach\, SC\, 29577\, United States
CATEGORIES:Hours
END:VEVENT
BEGIN:VEVENT
DTSTART;VALUE=DATE:20250726
DTEND;VALUE=DATE:20250727
DTSTAMP:20260420T063451
CREATED:20250630T152407Z
LAST-MODIFIED:20250630T152407Z
UID:10001296-1753488000-1753574399@skywheelmb.com
SUMMARY:USA Flag Show
DESCRIPTION:SkyWheel is proudly lighting up with a USA Show to celebrate the spirit of America! Watch as the wheel glows in vibrant red\, white\, and blue\, honoring our country’s freedom\, unity\, and pride. Whether you’re visiting the beach or strolling the boardwalk\, our patriotic light display is the perfect backdrop for your summer celebration.
URL:https://skywheelmb.com/event/usa-flag-show/2025-07-26/
LOCATION:SkyWheel Myrtle Beach\, 1110 N Ocean Blv.\, Myrtle Beach\, SC\, 29577\, United States
CATEGORIES:Event
ATTACH;FMTTYPE=image/jpeg:https://skywheelmb.com/wp-content/uploads/2025/01/SKWNOV-16-scaled.jpg
END:VEVENT
BEGIN:VEVENT
DTSTART;VALUE=DATE:20250726
DTEND;VALUE=DATE:20250727
DTSTAMP:20260420T063451
CREATED:20250630T200056Z
LAST-MODIFIED:20250630T201830Z
UID:10001328-1753488000-1753574399@skywheelmb.com
SUMMARY:Hours: 10am-11pm
DESCRIPTION:
URL:https://skywheelmb.com/event/hours-of-operation-10am-11pm-2/2025-07-26/
LOCATION:SkyWheel Myrtle Beach\, 1110 N Ocean Blv.\, Myrtle Beach\, SC\, 29577\, United States
CATEGORIES:Hours
END:VEVENT
BEGIN:VEVENT
DTSTART;VALUE=DATE:20250727
DTEND;VALUE=DATE:20250728
DTSTAMP:20260420T063451
CREATED:20250630T200056Z
LAST-MODIFIED:20250630T201830Z
UID:10001329-1753574400-1753660799@skywheelmb.com
SUMMARY:Hours: 10am-11pm
DESCRIPTION:
URL:https://skywheelmb.com/event/hours-of-operation-10am-11pm-2/2025-07-27/
LOCATION:SkyWheel Myrtle Beach\, 1110 N Ocean Blv.\, Myrtle Beach\, SC\, 29577\, United States
CATEGORIES:Hours
END:VEVENT
BEGIN:VEVENT
DTSTART;VALUE=DATE:20250728
DTEND;VALUE=DATE:20250729
DTSTAMP:20260420T063451
CREATED:20250630T200056Z
LAST-MODIFIED:20250630T201830Z
UID:10001330-1753660800-1753747199@skywheelmb.com
SUMMARY:Hours: 10am-11pm
DESCRIPTION:
URL:https://skywheelmb.com/event/hours-of-operation-10am-11pm-2/2025-07-28/
LOCATION:SkyWheel Myrtle Beach\, 1110 N Ocean Blv.\, Myrtle Beach\, SC\, 29577\, United States
CATEGORIES:Hours
END:VEVENT
BEGIN:VEVENT
DTSTART;VALUE=DATE:20250729
DTEND;VALUE=DATE:20250730
DTSTAMP:20260420T063451
CREATED:20250630T200056Z
LAST-MODIFIED:20250630T201830Z
UID:10001331-1753747200-1753833599@skywheelmb.com
SUMMARY:Hours: 10am-11pm
DESCRIPTION:
URL:https://skywheelmb.com/event/hours-of-operation-10am-11pm-2/2025-07-29/
LOCATION:SkyWheel Myrtle Beach\, 1110 N Ocean Blv.\, Myrtle Beach\, SC\, 29577\, United States
CATEGORIES:Hours
END:VEVENT
BEGIN:VEVENT
DTSTART;VALUE=DATE:20250730
DTEND;VALUE=DATE:20250731
DTSTAMP:20260420T063451
CREATED:20250630T152057Z
LAST-MODIFIED:20250630T152057Z
UID:10001289-1753833600-1753919999@skywheelmb.com
SUMMARY:USA Firework Lightshow
DESCRIPTION:SkyWheel is lighting up the night with a USA Firework Lightshow in celebration of our nation’s red\, white\, and blue spirit! Watch the sky come alive with bursts of patriotic colors in a dazzling display that honors the land of the free and the home of the brave. Whether you’re riding high or watching from below\, this star-spangled spectacle is one you won’t want to miss!
URL:https://skywheelmb.com/event/usa-firework-lightshow/2025-07-30/
LOCATION:SkyWheel Myrtle Beach\, 1110 N Ocean Blv.\, Myrtle Beach\, SC\, 29577\, United States
CATEGORIES:Event
ATTACH;FMTTYPE=image/jpeg:https://skywheelmb.com/wp-content/uploads/2025/06/SKWNOV-5-scaled.jpg
END:VEVENT
BEGIN:VEVENT
DTSTART;VALUE=DATE:20250730
DTEND;VALUE=DATE:20250731
DTSTAMP:20260420T063451
CREATED:20250630T200056Z
LAST-MODIFIED:20250630T201830Z
UID:10001332-1753833600-1753919999@skywheelmb.com
SUMMARY:Hours: 10am-11pm
DESCRIPTION:
URL:https://skywheelmb.com/event/hours-of-operation-10am-11pm-2/2025-07-30/
LOCATION:SkyWheel Myrtle Beach\, 1110 N Ocean Blv.\, Myrtle Beach\, SC\, 29577\, United States
CATEGORIES:Hours
END:VEVENT
BEGIN:VEVENT
DTSTART;VALUE=DATE:20250731
DTEND;VALUE=DATE:20250801
DTSTAMP:20260420T063451
CREATED:20250630T200056Z
LAST-MODIFIED:20250630T201830Z
UID:10001333-1753920000-1754006399@skywheelmb.com
SUMMARY:Hours: 10am-11pm
DESCRIPTION:
URL:https://skywheelmb.com/event/hours-of-operation-10am-11pm-2/2025-07-31/
LOCATION:SkyWheel Myrtle Beach\, 1110 N Ocean Blv.\, Myrtle Beach\, SC\, 29577\, United States
CATEGORIES:Hours
END:VEVENT
BEGIN:VEVENT
DTSTART;VALUE=DATE:20250801
DTEND;VALUE=DATE:20250802
DTSTAMP:20260420T063451
CREATED:20250630T200056Z
LAST-MODIFIED:20250630T201830Z
UID:10001334-1754006400-1754092799@skywheelmb.com
SUMMARY:Hours: 10am-11pm
DESCRIPTION:
URL:https://skywheelmb.com/event/hours-of-operation-10am-11pm-2/2025-08-01/
LOCATION:SkyWheel Myrtle Beach\, 1110 N Ocean Blv.\, Myrtle Beach\, SC\, 29577\, United States
CATEGORIES:Hours
END:VEVENT
BEGIN:VEVENT
DTSTART;VALUE=DATE:20250801
DTEND;VALUE=DATE:20250802
DTSTAMP:20260420T063451
CREATED:20250731T142013Z
LAST-MODIFIED:20250731T142013Z
UID:10001391-1754006400-1754092799@skywheelmb.com
SUMMARY:Lung Cancer Awareness
DESCRIPTION:Tonight\, the SkyWheel shines white in honor of Lung Cancer Awareness. We light up to support those impacted\, remember loved ones\, and bring attention to the fight against this disease.
URL:https://skywheelmb.com/event/lung-cancer-awareness/
LOCATION:SkyWheel Myrtle Beach\, 1110 N Ocean Blv.\, Myrtle Beach\, SC\, 29577\, United States
CATEGORIES:Event
ATTACH;FMTTYPE=image/png:https://skywheelmb.com/wp-content/uploads/2025/02/2025-CalendarsWork-in-Progress-7-1.png
END:VEVENT
BEGIN:VEVENT
DTSTART;VALUE=DATE:20250802
DTEND;VALUE=DATE:20250803
DTSTAMP:20260420T063451
CREATED:20250630T200056Z
LAST-MODIFIED:20250630T201830Z
UID:10001335-1754092800-1754179199@skywheelmb.com
SUMMARY:Hours: 10am-11pm
DESCRIPTION:
URL:https://skywheelmb.com/event/hours-of-operation-10am-11pm-2/2025-08-02/
LOCATION:SkyWheel Myrtle Beach\, 1110 N Ocean Blv.\, Myrtle Beach\, SC\, 29577\, United States
CATEGORIES:Hours
END:VEVENT
BEGIN:VEVENT
DTSTART;VALUE=DATE:20250802
DTEND;VALUE=DATE:20250803
DTSTAMP:20260420T063451
CREATED:20250731T142550Z
LAST-MODIFIED:20250731T142550Z
UID:10001392-1754092800-1754179199@skywheelmb.com
SUMMARY:Alopecia Awareness
DESCRIPTION:Tonight\, the SkyWheel shines blue in support of Alopecia Awareness. We light up to stand with those affected and to help raise understanding and visibility for this condition.
URL:https://skywheelmb.com/event/alopecia-awareness/
LOCATION:SkyWheel Myrtle Beach\, 1110 N Ocean Blv.\, Myrtle Beach\, SC\, 29577\, United States
CATEGORIES:Event
ATTACH;FMTTYPE=image/jpeg:https://skywheelmb.com/wp-content/uploads/2025/07/SKYWHOCTOBER-18-scaled.jpg
END:VEVENT
BEGIN:VEVENT
DTSTART;VALUE=DATE:20250803
DTEND;VALUE=DATE:20250804
DTSTAMP:20260420T063451
CREATED:20250630T200056Z
LAST-MODIFIED:20250630T201830Z
UID:10001336-1754179200-1754265599@skywheelmb.com
SUMMARY:Hours: 10am-11pm
DESCRIPTION:
URL:https://skywheelmb.com/event/hours-of-operation-10am-11pm-2/2025-08-03/
LOCATION:SkyWheel Myrtle Beach\, 1110 N Ocean Blv.\, Myrtle Beach\, SC\, 29577\, United States
CATEGORIES:Hours
END:VEVENT
BEGIN:VEVENT
DTSTART;VALUE=DATE:20250804
DTEND;VALUE=DATE:20250805
DTSTAMP:20260420T063451
CREATED:20250630T200056Z
LAST-MODIFIED:20250630T201830Z
UID:10001337-1754265600-1754351999@skywheelmb.com
SUMMARY:Hours: 10am-11pm
DESCRIPTION:
URL:https://skywheelmb.com/event/hours-of-operation-10am-11pm-2/2025-08-04/
LOCATION:SkyWheel Myrtle Beach\, 1110 N Ocean Blv.\, Myrtle Beach\, SC\, 29577\, United States
CATEGORIES:Hours
END:VEVENT
BEGIN:VEVENT
DTSTART;VALUE=DATE:20250804
DTEND;VALUE=DATE:20250901
DTSTAMP:20260420T063451
CREATED:20250725T163945Z
LAST-MODIFIED:20250725T163945Z
UID:10001390-1754265600-1756684799@skywheelmb.com
SUMMARY:Teachers & School Staff Fly Free
DESCRIPTION:We’re celebrating all the incredible educators and school staff who make a difference every day! From August 4th–31st\, enjoy a complimentary Wheel Ticket to ride the SkyWheel as our thank you for all you do. Simply present a valid school ID at the onsite ticket booth to receive one free ticket. This offer is available in person only and limited to one Wheel Ticket per school employee. Soar above the shoreline and take a well-deserved break with stunning views and unforgettable moments!
URL:https://skywheelmb.com/event/teachers-school-staff-fly-free/
LOCATION:SkyWheel Myrtle Beach\, 1110 N Ocean Blv.\, Myrtle Beach\, SC\, 29577\, United States
CATEGORIES:Event
ATTACH;FMTTYPE=image/png:https://skywheelmb.com/wp-content/uploads/2025/07/Website-Event-Graphics-16.png
END:VEVENT
BEGIN:VEVENT
DTSTART;VALUE=DATE:20250805
DTEND;VALUE=DATE:20250806
DTSTAMP:20260420T063451
CREATED:20250630T200056Z
LAST-MODIFIED:20250630T201830Z
UID:10001338-1754352000-1754438399@skywheelmb.com
SUMMARY:Hours: 10am-11pm
DESCRIPTION:
URL:https://skywheelmb.com/event/hours-of-operation-10am-11pm-2/2025-08-05/
LOCATION:SkyWheel Myrtle Beach\, 1110 N Ocean Blv.\, Myrtle Beach\, SC\, 29577\, United States
CATEGORIES:Hours
END:VEVENT
BEGIN:VEVENT
DTSTART;VALUE=DATE:20250805
DTEND;VALUE=DATE:20250806
DTSTAMP:20260420T063451
CREATED:20250731T142905Z
LAST-MODIFIED:20250731T142905Z
UID:10001393-1754352000-1754438399@skywheelmb.com
SUMMARY:Teal Tuesday
DESCRIPTION:SkyWheel will shine teal for Teal Tuesday in support of Coastal Carolina University. Proud to celebrate school spirit and Chant pride. Go Chants!
URL:https://skywheelmb.com/event/teal-tuesday/2025-08-05/
LOCATION:SkyWheel Myrtle Beach\, 1110 N Ocean Blv.\, Myrtle Beach\, SC\, 29577\, United States
CATEGORIES:Event
ATTACH;FMTTYPE=image/jpeg:https://skywheelmb.com/wp-content/uploads/2025/01/SKWEXP-19-scaled.jpg
END:VEVENT
BEGIN:VEVENT
DTSTART;VALUE=DATE:20250806
DTEND;VALUE=DATE:20250807
DTSTAMP:20260420T063451
CREATED:20250630T200056Z
LAST-MODIFIED:20250630T201830Z
UID:10001339-1754438400-1754524799@skywheelmb.com
SUMMARY:Hours: 10am-11pm
DESCRIPTION:
URL:https://skywheelmb.com/event/hours-of-operation-10am-11pm-2/2025-08-06/
LOCATION:SkyWheel Myrtle Beach\, 1110 N Ocean Blv.\, Myrtle Beach\, SC\, 29577\, United States
CATEGORIES:Hours
END:VEVENT
BEGIN:VEVENT
DTSTART;VALUE=DATE:20250806
DTEND;VALUE=DATE:20250807
DTSTAMP:20260420T063451
CREATED:20250731T144742Z
LAST-MODIFIED:20250731T144742Z
UID:10001397-1754438400-1754524799@skywheelmb.com
SUMMARY:Ecuador Lighting
DESCRIPTION:SkyWheel will light up in the colors of the Ecuadorian flag to honor our J1 team members as they prepare to return home. Thank you for being a part of our summer family!
URL:https://skywheelmb.com/event/ecuador-lighting/2025-08-06/
LOCATION:SkyWheel Myrtle Beach\, 1110 N Ocean Blv.\, Myrtle Beach\, SC\, 29577\, United States
CATEGORIES:Event
ATTACH;FMTTYPE=image/png:https://skywheelmb.com/wp-content/uploads/2025/07/Website-Event-Graphics-17.png
END:VEVENT
BEGIN:VEVENT
DTSTART;VALUE=DATE:20250807
DTEND;VALUE=DATE:20250808
DTSTAMP:20260420T063451
CREATED:20250630T200056Z
LAST-MODIFIED:20250630T201830Z
UID:10001340-1754524800-1754611199@skywheelmb.com
SUMMARY:Hours: 10am-11pm
DESCRIPTION:
URL:https://skywheelmb.com/event/hours-of-operation-10am-11pm-2/2025-08-07/
LOCATION:SkyWheel Myrtle Beach\, 1110 N Ocean Blv.\, Myrtle Beach\, SC\, 29577\, United States
CATEGORIES:Hours
END:VEVENT
BEGIN:VEVENT
DTSTART;VALUE=DATE:20250807
DTEND;VALUE=DATE:20250808
DTSTAMP:20260420T063451
CREATED:20250731T145400Z
LAST-MODIFIED:20250731T145400Z
UID:10001401-1754524800-1754611199@skywheelmb.com
SUMMARY:Poland Lightshow
DESCRIPTION:SkyWheel will shine in the colors of the Polish flag to celebrate our J1 team members from Poland as they head home. Thank you for all your hard work this season!
URL:https://skywheelmb.com/event/poland-lightshow/2025-08-07/
LOCATION:SkyWheel Myrtle Beach\, 1110 N Ocean Blv.\, Myrtle Beach\, SC\, 29577\, United States
CATEGORIES:Event
ATTACH;FMTTYPE=image/png:https://skywheelmb.com/wp-content/uploads/2025/02/2025-CalendarsWork-in-Progress-5.png
END:VEVENT
BEGIN:VEVENT
DTSTART;VALUE=DATE:20250808
DTEND;VALUE=DATE:20250809
DTSTAMP:20260420T063451
CREATED:20250630T200056Z
LAST-MODIFIED:20250630T201830Z
UID:10001341-1754611200-1754697599@skywheelmb.com
SUMMARY:Hours: 10am-11pm
DESCRIPTION:
URL:https://skywheelmb.com/event/hours-of-operation-10am-11pm-2/2025-08-08/
LOCATION:SkyWheel Myrtle Beach\, 1110 N Ocean Blv.\, Myrtle Beach\, SC\, 29577\, United States
CATEGORIES:Hours
END:VEVENT
BEGIN:VEVENT
DTSTART;VALUE=DATE:20250808
DTEND;VALUE=DATE:20250809
DTSTAMP:20260420T063451
CREATED:20250731T145909Z
LAST-MODIFIED:20250731T150346Z
UID:10001405-1754611200-1754697599@skywheelmb.com
SUMMARY:Colombia Lighting
DESCRIPTION:SkyWheel will light up in the colors of the Colombian flag in honor of our J1 team members from Colombia. We’re grateful for all you’ve done this season and wish you a safe journey home!
URL:https://skywheelmb.com/event/colombia-lighting/2025-08-08/
LOCATION:SkyWheel Myrtle Beach\, 1110 N Ocean Blv.\, Myrtle Beach\, SC\, 29577\, United States
CATEGORIES:Event
ATTACH;FMTTYPE=image/jpeg:https://skywheelmb.com/wp-content/uploads/2025/07/SKWSUNSET-8-1-scaled.jpg
END:VEVENT
END:VCALENDAR