BEGIN:VCALENDAR
VERSION:2.0
PRODID:-// - ECPv6.15.20//NONSGML v1.0//EN
CALSCALE:GREGORIAN
METHOD:PUBLISH
X-ORIGINAL-URL:https://skywheelmb.com
X-WR-CALDESC:Events for 
REFRESH-INTERVAL;VALUE=DURATION:PT1H
X-Robots-Tag:noindex
X-PUBLISHED-TTL:PT1H
BEGIN:VTIMEZONE
TZID:America/New_York
BEGIN:DAYLIGHT
TZOFFSETFROM:-0500
TZOFFSETTO:-0400
TZNAME:EDT
DTSTART:20240310T070000
END:DAYLIGHT
BEGIN:STANDARD
TZOFFSETFROM:-0400
TZOFFSETTO:-0500
TZNAME:EST
DTSTART:20241103T060000
END:STANDARD
BEGIN:DAYLIGHT
TZOFFSETFROM:-0500
TZOFFSETTO:-0400
TZNAME:EDT
DTSTART:20250309T070000
END:DAYLIGHT
BEGIN:STANDARD
TZOFFSETFROM:-0400
TZOFFSETTO:-0500
TZNAME:EST
DTSTART:20251102T060000
END:STANDARD
BEGIN:DAYLIGHT
TZOFFSETFROM:-0500
TZOFFSETTO:-0400
TZNAME:EDT
DTSTART:20260308T070000
END:DAYLIGHT
BEGIN:STANDARD
TZOFFSETFROM:-0400
TZOFFSETTO:-0500
TZNAME:EST
DTSTART:20261101T060000
END:STANDARD
END:VTIMEZONE
BEGIN:VEVENT
DTSTART;TZID=America/New_York:20250227T110000
DTEND;TZID=America/New_York:20250227T210000
DTSTAMP:20260421T100238
CREATED:20250221T162508Z
LAST-MODIFIED:20250221T162844Z
UID:10000684-1740654000-1740690000@skywheelmb.com
SUMMARY:Open
DESCRIPTION:
URL:https://skywheelmb.com/event/open-11am-9pm/2025-02-27/
LOCATION:SkyWheel Myrtle Beach\, 1110 N Ocean Blv.\, Myrtle Beach\, SC\, 29577\, United States
CATEGORIES:Hours
END:VEVENT
BEGIN:VEVENT
DTSTART;TZID=America/New_York:20250226T110000
DTEND;TZID=America/New_York:20250226T210000
DTSTAMP:20260421T100238
CREATED:20250221T162508Z
LAST-MODIFIED:20250221T162844Z
UID:10000683-1740567600-1740603600@skywheelmb.com
SUMMARY:Open
DESCRIPTION:
URL:https://skywheelmb.com/event/open-11am-9pm/2025-02-26/
LOCATION:SkyWheel Myrtle Beach\, 1110 N Ocean Blv.\, Myrtle Beach\, SC\, 29577\, United States
CATEGORIES:Hours
END:VEVENT
BEGIN:VEVENT
DTSTART;TZID=America/New_York:20250225T110000
DTEND;TZID=America/New_York:20250225T210000
DTSTAMP:20260421T100238
CREATED:20250221T162508Z
LAST-MODIFIED:20250221T162844Z
UID:10000682-1740481200-1740517200@skywheelmb.com
SUMMARY:Open
DESCRIPTION:
URL:https://skywheelmb.com/event/open-11am-9pm/2025-02-25/
LOCATION:SkyWheel Myrtle Beach\, 1110 N Ocean Blv.\, Myrtle Beach\, SC\, 29577\, United States
CATEGORIES:Hours
END:VEVENT
BEGIN:VEVENT
DTSTART;TZID=America/New_York:20250224T110000
DTEND;TZID=America/New_York:20250224T210000
DTSTAMP:20260421T100238
CREATED:20250221T162508Z
LAST-MODIFIED:20250221T162844Z
UID:10000681-1740394800-1740430800@skywheelmb.com
SUMMARY:Open
DESCRIPTION:
URL:https://skywheelmb.com/event/open-11am-9pm/2025-02-24/
LOCATION:SkyWheel Myrtle Beach\, 1110 N Ocean Blv.\, Myrtle Beach\, SC\, 29577\, United States
CATEGORIES:Hours
END:VEVENT
BEGIN:VEVENT
DTSTART;TZID=America/New_York:20250223T110000
DTEND;TZID=America/New_York:20250223T210000
DTSTAMP:20260421T100238
CREATED:20250221T162508Z
LAST-MODIFIED:20250221T162844Z
UID:10000680-1740308400-1740344400@skywheelmb.com
SUMMARY:Open
DESCRIPTION:
URL:https://skywheelmb.com/event/open-11am-9pm/2025-02-23/
LOCATION:SkyWheel Myrtle Beach\, 1110 N Ocean Blv.\, Myrtle Beach\, SC\, 29577\, United States
CATEGORIES:Hours
END:VEVENT
BEGIN:VEVENT
DTSTART;TZID=America/New_York:20250222T110000
DTEND;TZID=America/New_York:20250222T210000
DTSTAMP:20260421T100238
CREATED:20250221T162508Z
LAST-MODIFIED:20250221T162844Z
UID:10000679-1740222000-1740258000@skywheelmb.com
SUMMARY:Open
DESCRIPTION:
URL:https://skywheelmb.com/event/open-11am-9pm/2025-02-22/
LOCATION:SkyWheel Myrtle Beach\, 1110 N Ocean Blv.\, Myrtle Beach\, SC\, 29577\, United States
CATEGORIES:Hours
END:VEVENT
BEGIN:VEVENT
DTSTART;TZID=America/New_York:20250221T110000
DTEND;TZID=America/New_York:20250221T210000
DTSTAMP:20260421T100238
CREATED:20250221T162508Z
LAST-MODIFIED:20250221T162844Z
UID:10000678-1740135600-1740171600@skywheelmb.com
SUMMARY:Open
DESCRIPTION:
URL:https://skywheelmb.com/event/open-11am-9pm/2025-02-21/
LOCATION:SkyWheel Myrtle Beach\, 1110 N Ocean Blv.\, Myrtle Beach\, SC\, 29577\, United States
CATEGORIES:Hours
END:VEVENT
BEGIN:VEVENT
DTSTART;VALUE=DATE:20250219
DTEND;VALUE=DATE:20250220
DTSTAMP:20260421T100238
CREATED:20250122T171603Z
LAST-MODIFIED:20250212T200637Z
UID:10000065-1739923200-1740009599@skywheelmb.com
SUMMARY:Heart Health Month Lighting
DESCRIPTION:SkyWheel will shine bright in red to support Heart Health Month and raise awareness for cardiovascular health. Join us in spreading the message of love and wellness as we light up the night to inspire healthier hearts in our community.
URL:https://skywheelmb.com/event/heart-health-month-lighting/2025-02-19/
LOCATION:SkyWheel Myrtle Beach\, 1110 N Ocean Blv.\, Myrtle Beach\, SC\, 29577\, United States
CATEGORIES:Event
ATTACH;FMTTYPE=image/jpeg:https://skywheelmb.com/wp-content/uploads/2025/01/SKWJAN23-25-scaled-e1737566146962.jpg
END:VEVENT
BEGIN:VEVENT
DTSTART;VALUE=DATE:20250212
DTEND;VALUE=DATE:20250213
DTSTAMP:20260421T100238
CREATED:20250122T171603Z
LAST-MODIFIED:20250212T200637Z
UID:10000064-1739318400-1739404799@skywheelmb.com
SUMMARY:Heart Health Month Lighting
DESCRIPTION:SkyWheel will shine bright in red to support Heart Health Month and raise awareness for cardiovascular health. Join us in spreading the message of love and wellness as we light up the night to inspire healthier hearts in our community.
URL:https://skywheelmb.com/event/heart-health-month-lighting/2025-02-12/
LOCATION:SkyWheel Myrtle Beach\, 1110 N Ocean Blv.\, Myrtle Beach\, SC\, 29577\, United States
CATEGORIES:Event
ATTACH;FMTTYPE=image/jpeg:https://skywheelmb.com/wp-content/uploads/2025/01/SKWJAN23-25-scaled-e1737566146962.jpg
END:VEVENT
BEGIN:VEVENT
DTSTART;VALUE=DATE:20250209
DTEND;VALUE=DATE:20250210
DTSTAMP:20260421T100238
CREATED:20250131T220037Z
LAST-MODIFIED:20250212T200545Z
UID:10000176-1739059200-1739145599@skywheelmb.com
SUMMARY:Bile Duct Cancer Awareness Lighting
DESCRIPTION:In honor of Bile Duct Cancer Awareness\, SkyWheel will shine in shades of green to raise awareness and support those affected by this rare but aggressive disease. This special lighting serves as a tribute to the strength and resilience of patients\, survivors\, and their loved ones. By illuminating the night sky\, we stand in solidarity with the global community fighting bile duct cancer\, spreading hope\, and encouraging awareness for those impacted by this challenging illness.
URL:https://skywheelmb.com/event/bile-duct-cancer-awareness-lighting/
LOCATION:SkyWheel Myrtle Beach\, 1110 N Ocean Blv.\, Myrtle Beach\, SC\, 29577\, United States
CATEGORIES:Event
ATTACH;FMTTYPE=image/jpeg:https://skywheelmb.com/wp-content/uploads/2025/01/SKWJAN23-17-scaled.jpg
END:VEVENT
BEGIN:VEVENT
DTSTART;VALUE=DATE:20250205
DTEND;VALUE=DATE:20250206
DTSTAMP:20260421T100238
CREATED:20250122T171603Z
LAST-MODIFIED:20250212T200637Z
UID:10000063-1738713600-1738799999@skywheelmb.com
SUMMARY:Heart Health Month Lighting
DESCRIPTION:SkyWheel will shine bright in red to support Heart Health Month and raise awareness for cardiovascular health. Join us in spreading the message of love and wellness as we light up the night to inspire healthier hearts in our community.
URL:https://skywheelmb.com/event/heart-health-month-lighting/2025-02-05/
LOCATION:SkyWheel Myrtle Beach\, 1110 N Ocean Blv.\, Myrtle Beach\, SC\, 29577\, United States
CATEGORIES:Event
ATTACH;FMTTYPE=image/jpeg:https://skywheelmb.com/wp-content/uploads/2025/01/SKWJAN23-25-scaled-e1737566146962.jpg
END:VEVENT
BEGIN:VEVENT
DTSTART;VALUE=DATE:20250203
DTEND;VALUE=DATE:20250204
DTSTAMP:20260421T100238
CREATED:20250131T214130Z
LAST-MODIFIED:20250212T200623Z
UID:10000172-1738540800-1738627199@skywheelmb.com
SUMMARY:Black History Month Lighting
DESCRIPTION:In honor of Black History Month\, SkyWheel will illuminate the night sky with a vibrant display of red\, yellow\, and green lighting\, paying tribute to the rich heritage\, resilience\, and contributions of Black individuals throughout history. This special lighting serves as a beacon of unity and remembrance\, celebrating the achievements and impact of Black leaders\, artists\, and visionaries who have shaped our world. Join us as we honor this important month with a breathtaking tribute that shines bright over the city\, symbolizing progress\, culture\, and the ongoing journey toward equality.
URL:https://skywheelmb.com/event/black-history-month-lighting/2025-02-03/
LOCATION:SkyWheel Myrtle Beach\, 1110 N Ocean Blv.\, Myrtle Beach\, SC\, 29577\, United States
CATEGORIES:Event
ATTACH;FMTTYPE=image/jpeg:https://skywheelmb.com/wp-content/uploads/2025/01/SkyWheel-kawanza-scaled.jpeg
END:VEVENT
BEGIN:VEVENT
DTSTART;VALUE=DATE:20250201
DTEND;VALUE=DATE:20250202
DTSTAMP:20260421T100238
CREATED:20250122T171603Z
LAST-MODIFIED:20250212T200637Z
UID:10000062-1738368000-1738454399@skywheelmb.com
SUMMARY:Heart Health Month Lighting
DESCRIPTION:SkyWheel will shine bright in red to support Heart Health Month and raise awareness for cardiovascular health. Join us in spreading the message of love and wellness as we light up the night to inspire healthier hearts in our community.
URL:https://skywheelmb.com/event/heart-health-month-lighting/2025-02-01/
LOCATION:SkyWheel Myrtle Beach\, 1110 N Ocean Blv.\, Myrtle Beach\, SC\, 29577\, United States
CATEGORIES:Event
ATTACH;FMTTYPE=image/jpeg:https://skywheelmb.com/wp-content/uploads/2025/01/SKWJAN23-25-scaled-e1737566146962.jpg
END:VEVENT
BEGIN:VEVENT
DTSTART;VALUE=DATE:20250126
DTEND;VALUE=DATE:20250127
DTSTAMP:20260421T100238
CREATED:20250117T190049Z
LAST-MODIFIED:20250212T200642Z
UID:10000061-1737849600-1737935999@skywheelmb.com
SUMMARY:National Blood Donor Month Lighting
DESCRIPTION:The SkyWheel will shine bright in red this month to honor National Blood Donor Month. This special lighting recognizes the life-saving contributions of blood donors and raises awareness about the ongoing need for donations.
URL:https://skywheelmb.com/event/national-blood-donor-month-lighting/
LOCATION:SkyWheel Myrtle Beach\, 1110 N Ocean Blv.\, Myrtle Beach\, SC\, 29577\, United States
CATEGORIES:Event
ATTACH;FMTTYPE=image/jpeg:https://skywheelmb.com/wp-content/uploads/2025/01/SKWJAN23-11-scaled.jpg
END:VEVENT
BEGIN:VEVENT
DTSTART;VALUE=DATE:20250125
DTEND;VALUE=DATE:20250126
DTSTAMP:20260421T100238
CREATED:20250117T181234Z
LAST-MODIFIED:20250212T200648Z
UID:10000060-1737763200-1737849599@skywheelmb.com
SUMMARY:Cervical Cancer Awareness Lighting
DESCRIPTION:Join us as we light the SkyWheel in teal to raise awareness for cervical cancer. This special lighting honors those affected\, promotes education about prevention\, and supports ongoing efforts to fight this disease.
URL:https://skywheelmb.com/event/cervical-cancer-awareness-lighting/
LOCATION:SkyWheel Myrtle Beach\, 1110 N Ocean Blv.\, Myrtle Beach\, SC\, 29577\, United States
CATEGORIES:Event
ATTACH;FMTTYPE=image/jpeg:https://skywheelmb.com/wp-content/uploads/2025/01/SKWEXP-19-scaled.jpg
END:VEVENT
BEGIN:VEVENT
DTSTART;VALUE=DATE:20250124
DTEND;VALUE=DATE:20250125
DTSTAMP:20260421T100238
CREATED:20250117T161417Z
LAST-MODIFIED:20250212T200700Z
UID:10000006-1737676800-1737763199@skywheelmb.com
SUMMARY:Human Trafficking Awareness Lighting
DESCRIPTION:Join us as we light the SkyWheel in blue to bring awareness to human trafficking. This symbolic lighting aims to shine a spotlight on this critical issue\, fostering hope\, education\, and action in the fight against exploitation.
URL:https://skywheelmb.com/event/human-trafficking-awareness-lighting/2025-01-24/
LOCATION:SkyWheel Myrtle Beach\, 1110 N Ocean Blv.\, Myrtle Beach\, SC\, 29577\, United States
CATEGORIES:Event
ATTACH;FMTTYPE=image/jpeg:https://skywheelmb.com/wp-content/uploads/2025/01/E72ZBB8k.jpeg
END:VEVENT
BEGIN:VEVENT
DTSTART;VALUE=DATE:20250121
DTEND;VALUE=DATE:20250124
DTSTAMP:20260421T100238
CREATED:20250117T174355Z
LAST-MODIFIED:20250212T200654Z
UID:10000005-1737417600-1737676799@skywheelmb.com
SUMMARY:SkyWheel CLOSED For Annual Maintenance
DESCRIPTION:The SkyWheel will be temporarily closed for annual maintenance to ensure the safety and enjoyment of our guests. We appreciate your understanding and look forward to welcoming you back after for unforgettable views and experiences!
URL:https://skywheelmb.com/event/skywheel-closed-for-annual-maintenance/
LOCATION:SC
CATEGORIES:Event
ATTACH;FMTTYPE=image/jpeg:https://skywheelmb.com/wp-content/uploads/2022/07/SKWD11-scaled.jpg
END:VEVENT
BEGIN:VEVENT
DTSTART;VALUE=DATE:20250117
DTEND;VALUE=DATE:20250118
DTSTAMP:20260421T100238
CREATED:20250117T161417Z
LAST-MODIFIED:20250212T200700Z
UID:10000002-1737072000-1737158399@skywheelmb.com
SUMMARY:Human Trafficking Awareness Lighting
DESCRIPTION:Join us as we light the SkyWheel in blue to bring awareness to human trafficking. This symbolic lighting aims to shine a spotlight on this critical issue\, fostering hope\, education\, and action in the fight against exploitation.
URL:https://skywheelmb.com/event/human-trafficking-awareness-lighting/2025-01-17/
LOCATION:SkyWheel Myrtle Beach\, 1110 N Ocean Blv.\, Myrtle Beach\, SC\, 29577\, United States
CATEGORIES:Event
ATTACH;FMTTYPE=image/jpeg:https://skywheelmb.com/wp-content/uploads/2025/01/E72ZBB8k.jpeg
END:VEVENT
END:VCALENDAR