BEGIN:VCALENDAR
VERSION:2.0
PRODID:-// - ECPv6.15.20//NONSGML v1.0//EN
CALSCALE:GREGORIAN
METHOD:PUBLISH
X-ORIGINAL-URL:https://skywheelmb.com
X-WR-CALDESC:Events for 
REFRESH-INTERVAL;VALUE=DURATION:PT1H
X-Robots-Tag:noindex
X-PUBLISHED-TTL:PT1H
BEGIN:VTIMEZONE
TZID:America/New_York
BEGIN:DAYLIGHT
TZOFFSETFROM:-0500
TZOFFSETTO:-0400
TZNAME:EDT
DTSTART:20240310T070000
END:DAYLIGHT
BEGIN:STANDARD
TZOFFSETFROM:-0400
TZOFFSETTO:-0500
TZNAME:EST
DTSTART:20241103T060000
END:STANDARD
BEGIN:DAYLIGHT
TZOFFSETFROM:-0500
TZOFFSETTO:-0400
TZNAME:EDT
DTSTART:20250309T070000
END:DAYLIGHT
BEGIN:STANDARD
TZOFFSETFROM:-0400
TZOFFSETTO:-0500
TZNAME:EST
DTSTART:20251102T060000
END:STANDARD
BEGIN:DAYLIGHT
TZOFFSETFROM:-0500
TZOFFSETTO:-0400
TZNAME:EDT
DTSTART:20260308T070000
END:DAYLIGHT
BEGIN:STANDARD
TZOFFSETFROM:-0400
TZOFFSETTO:-0500
TZNAME:EST
DTSTART:20261101T060000
END:STANDARD
END:VTIMEZONE
BEGIN:VEVENT
DTSTART;VALUE=DATE:20250910
DTEND;VALUE=DATE:20250911
DTSTAMP:20260420T205822
CREATED:20250827T134054Z
LAST-MODIFIED:20250827T134054Z
UID:10001417-1757462400-1757548799@skywheelmb.com
SUMMARY:Childhood Cancer Awareness
DESCRIPTION:SkyWheel Myrtle Beach will light up gold in honor of Childhood Cancer Awareness Month. Every year\, thousands of children and their families face the difficult journey of battling cancer. By shining gold\, we hope to raise awareness\, honor the courage of young fighters\, and support the search for better treatments and cures.
URL:https://skywheelmb.com/event/childhood-cancer-awareness/2025-09-10/
LOCATION:SkyWheel Myrtle Beach\, 1110 N Ocean Blv.\, Myrtle Beach\, SC\, 29577\, United States
CATEGORIES:Event
ATTACH;FMTTYPE=image/jpeg:https://skywheelmb.com/wp-content/uploads/2025/02/SKWNOV-32-scaled.jpg
END:VEVENT
BEGIN:VEVENT
DTSTART;VALUE=DATE:20250910
DTEND;VALUE=DATE:20250911
DTSTAMP:20260420T205822
CREATED:20250630T201232Z
LAST-MODIFIED:20250630T201951Z
UID:10001372-1757462400-1757548799@skywheelmb.com
SUMMARY:Hours: 10am-10pm
DESCRIPTION:
URL:https://skywheelmb.com/event/hours-of-operation-10am-10pm/2025-09-10/
LOCATION:SC
CATEGORIES:Hours
END:VEVENT
BEGIN:VEVENT
DTSTART;VALUE=DATE:20250909
DTEND;VALUE=DATE:20250910
DTSTAMP:20260420T205822
CREATED:20250630T201232Z
LAST-MODIFIED:20250630T201951Z
UID:10001371-1757376000-1757462399@skywheelmb.com
SUMMARY:Hours: 10am-10pm
DESCRIPTION:
URL:https://skywheelmb.com/event/hours-of-operation-10am-10pm/2025-09-09/
LOCATION:SC
CATEGORIES:Hours
END:VEVENT
BEGIN:VEVENT
DTSTART;VALUE=DATE:20250908
DTEND;VALUE=DATE:20250909
DTSTAMP:20260420T205822
CREATED:20250827T140654Z
LAST-MODIFIED:20250827T140654Z
UID:10001424-1757289600-1757375999@skywheelmb.com
SUMMARY:Suicide Prevention Week
DESCRIPTION:SkyWheel Myrtle Beach will shine blue and purple in recognition of Suicide Prevention Week. Suicide affects individuals\, families\, and communities across the nation\, and raising awareness is a vital step toward prevention. By lighting the SkyWheel\, we hope to spark conversation\, reduce stigma\, and honor those whose lives have been impacted.
URL:https://skywheelmb.com/event/suicide-prevention-week/
LOCATION:SkyWheel Myrtle Beach\, 1110 N Ocean Blv.\, Myrtle Beach\, SC\, 29577\, United States
CATEGORIES:Event
ATTACH;FMTTYPE=image/png:https://skywheelmb.com/wp-content/uploads/2025/04/Website-Event-Graphics-7.png
END:VEVENT
BEGIN:VEVENT
DTSTART;VALUE=DATE:20250908
DTEND;VALUE=DATE:20250909
DTSTAMP:20260420T205822
CREATED:20250630T201232Z
LAST-MODIFIED:20250630T201951Z
UID:10001370-1757289600-1757375999@skywheelmb.com
SUMMARY:Hours: 10am-10pm
DESCRIPTION:
URL:https://skywheelmb.com/event/hours-of-operation-10am-10pm/2025-09-08/
LOCATION:SC
CATEGORIES:Hours
END:VEVENT
BEGIN:VEVENT
DTSTART;VALUE=DATE:20250907
DTEND;VALUE=DATE:20250908
DTSTAMP:20260420T205822
CREATED:20250827T140438Z
LAST-MODIFIED:20250827T140438Z
UID:10001423-1757203200-1757289599@skywheelmb.com
SUMMARY:Multiple Myeloma Awareness
DESCRIPTION:SkyWheel Myrtle Beach will shine burgundy in recognition of Multiple Myeloma Awareness Month. Multiple Myeloma is a rare blood cancer that affects plasma cells in the bone marrow. By lighting the SkyWheel\, we honor those impacted\, raise awareness\, and support the ongoing fight for improved treatments and a cure.
URL:https://skywheelmb.com/event/multiple-myeloma-awareness-2/
LOCATION:SkyWheel Myrtle Beach\, 1110 N Ocean Blv.\, Myrtle Beach\, SC\, 29577\, United States
CATEGORIES:Event
ATTACH;FMTTYPE=image/png:https://skywheelmb.com/wp-content/uploads/2025/03/Website-Event-Calendar-1.png
END:VEVENT
BEGIN:VEVENT
DTSTART;VALUE=DATE:20250907
DTEND;VALUE=DATE:20250908
DTSTAMP:20260420T205822
CREATED:20250630T201232Z
LAST-MODIFIED:20250630T201951Z
UID:10001369-1757203200-1757289599@skywheelmb.com
SUMMARY:Hours: 10am-10pm
DESCRIPTION:
URL:https://skywheelmb.com/event/hours-of-operation-10am-10pm/2025-09-07/
LOCATION:SC
CATEGORIES:Hours
END:VEVENT
BEGIN:VEVENT
DTSTART;VALUE=DATE:20250906
DTEND;VALUE=DATE:20250907
DTSTAMP:20260420T205822
CREATED:20250827T140234Z
LAST-MODIFIED:20250827T140234Z
UID:10001422-1757116800-1757203199@skywheelmb.com
SUMMARY:CCU's First Home Game
DESCRIPTION:SkyWheel Myrtle Beach will light up teal in celebration of Coastal Carolina University’s first home football game of the season! As proud supporters of Chanticleer Nation\, we’re excited to join fans in cheering on CCU by glowing in the team’s signature color.
URL:https://skywheelmb.com/event/ccus-first-home-game/
LOCATION:SkyWheel Myrtle Beach\, 1110 N Ocean Blv.\, Myrtle Beach\, SC\, 29577\, United States
CATEGORIES:Event
ATTACH;FMTTYPE=image/jpeg:https://skywheelmb.com/wp-content/uploads/2025/05/SKWGRT-30-scaled.jpg
END:VEVENT
BEGIN:VEVENT
DTSTART;VALUE=DATE:20250906
DTEND;VALUE=DATE:20250907
DTSTAMP:20260420T205822
CREATED:20250630T201442Z
LAST-MODIFIED:20250630T202116Z
UID:10001385-1757116800-1757203199@skywheelmb.com
SUMMARY:Hours: 10am-11pm
DESCRIPTION:
URL:https://skywheelmb.com/event/hours-of-operation-10am-11pm/2025-09-06/
LOCATION:SC
CATEGORIES:Hours
END:VEVENT
BEGIN:VEVENT
DTSTART;VALUE=DATE:20250905
DTEND;VALUE=DATE:20250906
DTSTAMP:20260420T205822
CREATED:20250827T140022Z
LAST-MODIFIED:20250827T140022Z
UID:10001421-1757030400-1757116799@skywheelmb.com
SUMMARY:Lymphoma Awareness
DESCRIPTION:SkyWheel Myrtle Beach will shine green and purple in honor of Lymphoma Awareness. Lymphoma is the most common type of blood cancer\, affecting people of all ages. By lighting the SkyWheel\, we aim to raise awareness\, support those impacted\, and highlight the importance of continued research and hope for a cure.
URL:https://skywheelmb.com/event/lymphoma-awareness/
LOCATION:SkyWheel Myrtle Beach\, 1110 N Ocean Blv.\, Myrtle Beach\, SC\, 29577\, United States
CATEGORIES:Event
ATTACH;FMTTYPE=image/png:https://skywheelmb.com/wp-content/uploads/2025/08/Website-Event-Graphics-19.png
END:VEVENT
BEGIN:VEVENT
DTSTART;VALUE=DATE:20250905
DTEND;VALUE=DATE:20250906
DTSTAMP:20260420T205822
CREATED:20250630T201442Z
LAST-MODIFIED:20250630T202116Z
UID:10001384-1757030400-1757116799@skywheelmb.com
SUMMARY:Hours: 10am-11pm
DESCRIPTION:
URL:https://skywheelmb.com/event/hours-of-operation-10am-11pm/2025-09-05/
LOCATION:SC
CATEGORIES:Hours
END:VEVENT
BEGIN:VEVENT
DTSTART;VALUE=DATE:20250904
DTEND;VALUE=DATE:20250905
DTSTAMP:20260420T205822
CREATED:20250827T134339Z
LAST-MODIFIED:20250827T134339Z
UID:10001420-1756944000-1757030399@skywheelmb.com
SUMMARY:Leukemia Awareness
DESCRIPTION:SkyWheel Myrtle Beach will glow orange in recognition of Leukemia Awareness Month. Leukemia is one of the most common cancers affecting both children and adults\, and raising awareness is vital in the fight for better treatments and cures. By lighting the SkyWheel orange\, we honor those impacted and stand in support of ongoing research and advocacy.
URL:https://skywheelmb.com/event/leukemia-awareness/
LOCATION:SkyWheel Myrtle Beach\, 1110 N Ocean Blv.\, Myrtle Beach\, SC\, 29577\, United States
CATEGORIES:Event
ATTACH;FMTTYPE=image/png:https://skywheelmb.com/wp-content/uploads/2025/02/2025-CalendarsWork-in-Progress-6.png
END:VEVENT
BEGIN:VEVENT
DTSTART;VALUE=DATE:20250904
DTEND;VALUE=DATE:20250905
DTSTAMP:20260420T205822
CREATED:20250630T201232Z
LAST-MODIFIED:20250630T201951Z
UID:10001368-1756944000-1757030399@skywheelmb.com
SUMMARY:Hours: 10am-10pm
DESCRIPTION:
URL:https://skywheelmb.com/event/hours-of-operation-10am-10pm/2025-09-04/
LOCATION:SC
CATEGORIES:Hours
END:VEVENT
BEGIN:VEVENT
DTSTART;VALUE=DATE:20250903
DTEND;VALUE=DATE:20250904
DTSTAMP:20260420T205822
CREATED:20250827T134054Z
LAST-MODIFIED:20250827T134054Z
UID:10001416-1756857600-1756943999@skywheelmb.com
SUMMARY:Childhood Cancer Awareness
DESCRIPTION:SkyWheel Myrtle Beach will light up gold in honor of Childhood Cancer Awareness Month. Every year\, thousands of children and their families face the difficult journey of battling cancer. By shining gold\, we hope to raise awareness\, honor the courage of young fighters\, and support the search for better treatments and cures.
URL:https://skywheelmb.com/event/childhood-cancer-awareness/2025-09-03/
LOCATION:SkyWheel Myrtle Beach\, 1110 N Ocean Blv.\, Myrtle Beach\, SC\, 29577\, United States
CATEGORIES:Event
ATTACH;FMTTYPE=image/jpeg:https://skywheelmb.com/wp-content/uploads/2025/02/SKWNOV-32-scaled.jpg
END:VEVENT
BEGIN:VEVENT
DTSTART;VALUE=DATE:20250903
DTEND;VALUE=DATE:20250904
DTSTAMP:20260420T205822
CREATED:20250630T201232Z
LAST-MODIFIED:20250630T201951Z
UID:10001367-1756857600-1756943999@skywheelmb.com
SUMMARY:Hours: 10am-10pm
DESCRIPTION:
URL:https://skywheelmb.com/event/hours-of-operation-10am-10pm/2025-09-03/
LOCATION:SC
CATEGORIES:Hours
END:VEVENT
BEGIN:VEVENT
DTSTART;VALUE=DATE:20250902
DTEND;VALUE=DATE:20250903
DTSTAMP:20260420T205822
CREATED:20250827T133904Z
LAST-MODIFIED:20250827T133904Z
UID:10001415-1756771200-1756857599@skywheelmb.com
SUMMARY:National Literacy Month
DESCRIPTION:SkyWheel Myrtle Beach will glow pink in honor of National Literacy Month. Literacy is the foundation for lifelong learning\, empowering individuals and strengthening communities. By lighting the SkyWheel\, we celebrate the importance of reading and education while raising awareness for the ongoing efforts to promote literacy for all.
URL:https://skywheelmb.com/event/national-literacy-month/
LOCATION:SkyWheel Myrtle Beach\, 1110 N Ocean Blv.\, Myrtle Beach\, SC\, 29577\, United States
CATEGORIES:Event
ATTACH;FMTTYPE=image/jpeg:https://skywheelmb.com/wp-content/uploads/2025/01/DJI_0301-1-scaled.jpg
END:VEVENT
BEGIN:VEVENT
DTSTART;VALUE=DATE:20250902
DTEND;VALUE=DATE:20250903
DTSTAMP:20260420T205822
CREATED:20250630T201232Z
LAST-MODIFIED:20250630T201951Z
UID:10001366-1756771200-1756857599@skywheelmb.com
SUMMARY:Hours: 10am-10pm
DESCRIPTION:
URL:https://skywheelmb.com/event/hours-of-operation-10am-10pm/2025-09-02/
LOCATION:SC
CATEGORIES:Hours
END:VEVENT
BEGIN:VEVENT
DTSTART;VALUE=DATE:20250901
DTEND;VALUE=DATE:20250902
DTSTAMP:20260420T205822
CREATED:20250827T133712Z
LAST-MODIFIED:20250827T133712Z
UID:10001414-1756684800-1756771199@skywheelmb.com
SUMMARY:PCOS Awareness
DESCRIPTION:SkyWheel Myrtle Beach will glow teal in recognition of Polycystic Ovary Syndrome (PCOS) Awareness Month. PCOS affects 1 in 10 women of childbearing age\, yet many go undiagnosed. By lighting the SkyWheel\, we aim to raise awareness\, spark conversations\, and show support for those living with PCOS.
URL:https://skywheelmb.com/event/pcos-awareness/
LOCATION:SkyWheel Myrtle Beach\, 1110 N Ocean Blv.\, Myrtle Beach\, SC\, 29577\, United States
CATEGORIES:Event
ATTACH;FMTTYPE=image/jpeg:https://skywheelmb.com/wp-content/uploads/2025/05/SKWGRT-30-scaled.jpg
END:VEVENT
BEGIN:VEVENT
DTSTART;VALUE=DATE:20250901
DTEND;VALUE=DATE:20250902
DTSTAMP:20260420T205822
CREATED:20250630T201232Z
LAST-MODIFIED:20250630T201951Z
UID:10001365-1756684800-1756771199@skywheelmb.com
SUMMARY:Hours: 10am-10pm
DESCRIPTION:
URL:https://skywheelmb.com/event/hours-of-operation-10am-10pm/2025-09-01/
LOCATION:SC
CATEGORIES:Hours
END:VEVENT
BEGIN:VEVENT
DTSTART;VALUE=DATE:20250831
DTEND;VALUE=DATE:20250901
DTSTAMP:20260420T205822
CREATED:20250731T151429Z
LAST-MODIFIED:20250731T151429Z
UID:10001413-1756598400-1756684799@skywheelmb.com
SUMMARY:International Overdose Awareness
DESCRIPTION:SkyWheel will shine purple for International Overdose Awareness. We honor the lives lost\, support those affected\, and raise awareness to help prevent future tragedies.
URL:https://skywheelmb.com/event/international-overdose-awareness/
LOCATION:SkyWheel Myrtle Beach\, 1110 N Ocean Blv.\, Myrtle Beach\, SC\, 29577\, United States
CATEGORIES:Event
ATTACH;FMTTYPE=image/jpeg:https://skywheelmb.com/wp-content/uploads/2025/05/SKYWHOCTOBER-56-1-scaled.jpg
END:VEVENT
BEGIN:VEVENT
DTSTART;VALUE=DATE:20250831
DTEND;VALUE=DATE:20250901
DTSTAMP:20260420T205822
CREATED:20250630T200056Z
LAST-MODIFIED:20250630T201830Z
UID:10001364-1756598400-1756684799@skywheelmb.com
SUMMARY:Hours: 10am-11pm
DESCRIPTION:
URL:https://skywheelmb.com/event/hours-of-operation-10am-11pm-2/2025-08-31/
LOCATION:SkyWheel Myrtle Beach\, 1110 N Ocean Blv.\, Myrtle Beach\, SC\, 29577\, United States
CATEGORIES:Hours
END:VEVENT
BEGIN:VEVENT
DTSTART;VALUE=DATE:20250830
DTEND;VALUE=DATE:20250831
DTSTAMP:20260420T205822
CREATED:20250630T200056Z
LAST-MODIFIED:20250630T201830Z
UID:10001363-1756512000-1756598399@skywheelmb.com
SUMMARY:Hours: 10am-11pm
DESCRIPTION:
URL:https://skywheelmb.com/event/hours-of-operation-10am-11pm-2/2025-08-30/
LOCATION:SkyWheel Myrtle Beach\, 1110 N Ocean Blv.\, Myrtle Beach\, SC\, 29577\, United States
CATEGORIES:Hours
END:VEVENT
BEGIN:VEVENT
DTSTART;VALUE=DATE:20250829
DTEND;VALUE=DATE:20250830
DTSTAMP:20260420T205822
CREATED:20250731T145909Z
LAST-MODIFIED:20250731T150346Z
UID:10001408-1756425600-1756511999@skywheelmb.com
SUMMARY:Colombia Lighting
DESCRIPTION:SkyWheel will light up in the colors of the Colombian flag in honor of our J1 team members from Colombia. We’re grateful for all you’ve done this season and wish you a safe journey home!
URL:https://skywheelmb.com/event/colombia-lighting/2025-08-29/
LOCATION:SkyWheel Myrtle Beach\, 1110 N Ocean Blv.\, Myrtle Beach\, SC\, 29577\, United States
CATEGORIES:Event
ATTACH;FMTTYPE=image/jpeg:https://skywheelmb.com/wp-content/uploads/2025/07/SKWSUNSET-8-1-scaled.jpg
END:VEVENT
BEGIN:VEVENT
DTSTART;VALUE=DATE:20250829
DTEND;VALUE=DATE:20250830
DTSTAMP:20260420T205822
CREATED:20250630T200056Z
LAST-MODIFIED:20250630T201830Z
UID:10001362-1756425600-1756511999@skywheelmb.com
SUMMARY:Hours: 10am-11pm
DESCRIPTION:
URL:https://skywheelmb.com/event/hours-of-operation-10am-11pm-2/2025-08-29/
LOCATION:SkyWheel Myrtle Beach\, 1110 N Ocean Blv.\, Myrtle Beach\, SC\, 29577\, United States
CATEGORIES:Hours
END:VEVENT
BEGIN:VEVENT
DTSTART;VALUE=DATE:20250828
DTEND;VALUE=DATE:20250829
DTSTAMP:20260420T205822
CREATED:20250731T145400Z
LAST-MODIFIED:20250731T145400Z
UID:10001404-1756339200-1756425599@skywheelmb.com
SUMMARY:Poland Lightshow
DESCRIPTION:SkyWheel will shine in the colors of the Polish flag to celebrate our J1 team members from Poland as they head home. Thank you for all your hard work this season!
URL:https://skywheelmb.com/event/poland-lightshow/2025-08-28/
LOCATION:SkyWheel Myrtle Beach\, 1110 N Ocean Blv.\, Myrtle Beach\, SC\, 29577\, United States
CATEGORIES:Event
ATTACH;FMTTYPE=image/png:https://skywheelmb.com/wp-content/uploads/2025/02/2025-CalendarsWork-in-Progress-5.png
END:VEVENT
BEGIN:VEVENT
DTSTART;VALUE=DATE:20250828
DTEND;VALUE=DATE:20250829
DTSTAMP:20260420T205822
CREATED:20250630T200056Z
LAST-MODIFIED:20250630T201830Z
UID:10001361-1756339200-1756425599@skywheelmb.com
SUMMARY:Hours: 10am-11pm
DESCRIPTION:
URL:https://skywheelmb.com/event/hours-of-operation-10am-11pm-2/2025-08-28/
LOCATION:SkyWheel Myrtle Beach\, 1110 N Ocean Blv.\, Myrtle Beach\, SC\, 29577\, United States
CATEGORIES:Hours
END:VEVENT
BEGIN:VEVENT
DTSTART;VALUE=DATE:20250827
DTEND;VALUE=DATE:20250828
DTSTAMP:20260420T205822
CREATED:20250731T144742Z
LAST-MODIFIED:20250731T144742Z
UID:10001400-1756252800-1756339199@skywheelmb.com
SUMMARY:Ecuador Lighting
DESCRIPTION:SkyWheel will light up in the colors of the Ecuadorian flag to honor our J1 team members as they prepare to return home. Thank you for being a part of our summer family!
URL:https://skywheelmb.com/event/ecuador-lighting/2025-08-27/
LOCATION:SkyWheel Myrtle Beach\, 1110 N Ocean Blv.\, Myrtle Beach\, SC\, 29577\, United States
CATEGORIES:Event
ATTACH;FMTTYPE=image/png:https://skywheelmb.com/wp-content/uploads/2025/07/Website-Event-Graphics-17.png
END:VEVENT
BEGIN:VEVENT
DTSTART;VALUE=DATE:20250827
DTEND;VALUE=DATE:20250828
DTSTAMP:20260420T205822
CREATED:20250630T200056Z
LAST-MODIFIED:20250630T201830Z
UID:10001360-1756252800-1756339199@skywheelmb.com
SUMMARY:Hours: 10am-11pm
DESCRIPTION:
URL:https://skywheelmb.com/event/hours-of-operation-10am-11pm-2/2025-08-27/
LOCATION:SkyWheel Myrtle Beach\, 1110 N Ocean Blv.\, Myrtle Beach\, SC\, 29577\, United States
CATEGORIES:Hours
END:VEVENT
BEGIN:VEVENT
DTSTART;VALUE=DATE:20250826
DTEND;VALUE=DATE:20250827
DTSTAMP:20260420T205822
CREATED:20250731T142905Z
LAST-MODIFIED:20250731T142905Z
UID:10001396-1756166400-1756252799@skywheelmb.com
SUMMARY:Teal Tuesday
DESCRIPTION:SkyWheel will shine teal for Teal Tuesday in support of Coastal Carolina University. Proud to celebrate school spirit and Chant pride. Go Chants!
URL:https://skywheelmb.com/event/teal-tuesday/2025-08-26/
LOCATION:SkyWheel Myrtle Beach\, 1110 N Ocean Blv.\, Myrtle Beach\, SC\, 29577\, United States
CATEGORIES:Event
ATTACH;FMTTYPE=image/jpeg:https://skywheelmb.com/wp-content/uploads/2025/01/SKWEXP-19-scaled.jpg
END:VEVENT
BEGIN:VEVENT
DTSTART;VALUE=DATE:20250826
DTEND;VALUE=DATE:20250827
DTSTAMP:20260420T205822
CREATED:20250630T200056Z
LAST-MODIFIED:20250630T201830Z
UID:10001359-1756166400-1756252799@skywheelmb.com
SUMMARY:Hours: 10am-11pm
DESCRIPTION:
URL:https://skywheelmb.com/event/hours-of-operation-10am-11pm-2/2025-08-26/
LOCATION:SkyWheel Myrtle Beach\, 1110 N Ocean Blv.\, Myrtle Beach\, SC\, 29577\, United States
CATEGORIES:Hours
END:VEVENT
END:VCALENDAR