BEGIN:VCALENDAR
VERSION:2.0
PRODID:-// - ECPv6.15.20//NONSGML v1.0//EN
CALSCALE:GREGORIAN
METHOD:PUBLISH
X-ORIGINAL-URL:https://skywheelmb.com
X-WR-CALDESC:Events for 
REFRESH-INTERVAL;VALUE=DURATION:PT1H
X-Robots-Tag:noindex
X-PUBLISHED-TTL:PT1H
BEGIN:VTIMEZONE
TZID:America/New_York
BEGIN:DAYLIGHT
TZOFFSETFROM:-0500
TZOFFSETTO:-0400
TZNAME:EDT
DTSTART:20240310T070000
END:DAYLIGHT
BEGIN:STANDARD
TZOFFSETFROM:-0400
TZOFFSETTO:-0500
TZNAME:EST
DTSTART:20241103T060000
END:STANDARD
BEGIN:DAYLIGHT
TZOFFSETFROM:-0500
TZOFFSETTO:-0400
TZNAME:EDT
DTSTART:20250309T070000
END:DAYLIGHT
BEGIN:STANDARD
TZOFFSETFROM:-0400
TZOFFSETTO:-0500
TZNAME:EST
DTSTART:20251102T060000
END:STANDARD
BEGIN:DAYLIGHT
TZOFFSETFROM:-0500
TZOFFSETTO:-0400
TZNAME:EDT
DTSTART:20260308T070000
END:DAYLIGHT
BEGIN:STANDARD
TZOFFSETFROM:-0400
TZOFFSETTO:-0500
TZNAME:EST
DTSTART:20261101T060000
END:STANDARD
END:VTIMEZONE
BEGIN:VEVENT
DTSTART;VALUE=DATE:20251005
DTEND;VALUE=DATE:20251006
DTSTAMP:20260420T162523
CREATED:20250923T140659Z
LAST-MODIFIED:20250923T140659Z
UID:10001446-1759622400-1759708799@skywheelmb.com
SUMMARY:Meningitis Awareness
DESCRIPTION:The SkyWheel will glow purple in recognition of Meningitis Awareness. This lighting serves as a reminder of the importance of education\, prevention\, and support for those impacted by the disease.
URL:https://skywheelmb.com/event/meningitis-awareness/
LOCATION:SkyWheel Myrtle Beach\, 1110 N Ocean Blv.\, Myrtle Beach\, SC\, 29577\, United States
CATEGORIES:Event
ATTACH;FMTTYPE=image/jpeg:https://skywheelmb.com/wp-content/uploads/2025/01/SKYWHOCTOBER-58-scaled.jpg
END:VEVENT
BEGIN:VEVENT
DTSTART;VALUE=DATE:20251004
DTEND;VALUE=DATE:20251005
DTSTAMP:20260420T162523
CREATED:20250923T140448Z
LAST-MODIFIED:20250923T140448Z
UID:10001445-1759536000-1759622399@skywheelmb.com
SUMMARY:Fallen Firefighters Memorial
DESCRIPTION:The SkyWheel will glow red in honor of the Fallen Firefighters Memorial. This tribute recognizes the bravery\, sacrifice\, and dedication of firefighters who gave their lives in the line of duty.
URL:https://skywheelmb.com/event/fallen-firefighters-memorial-2/
LOCATION:SkyWheel Myrtle Beach\, 1110 N Ocean Blv.\, Myrtle Beach\, SC\, 29577\, United States
CATEGORIES:Event
ATTACH;FMTTYPE=image/png:https://skywheelmb.com/wp-content/uploads/2025/03/Website-Event-Calendar-1.png
END:VEVENT
BEGIN:VEVENT
DTSTART;VALUE=DATE:20251003
DTEND;VALUE=DATE:20251004
DTSTAMP:20260420T162523
CREATED:20250923T140326Z
LAST-MODIFIED:20250923T140326Z
UID:10001444-1759449600-1759535999@skywheelmb.com
SUMMARY:MBPD Officer Hancher Remembrance
DESCRIPTION:The SkyWheel will shine blue and black in remembrance of Myrtle Beach Police Department Officer Hancher. We honor his service\, sacrifice\, and lasting impact on our community.
URL:https://skywheelmb.com/event/mbpd-officer-hancher-remembrance/
LOCATION:SkyWheel Myrtle Beach\, 1110 N Ocean Blv.\, Myrtle Beach\, SC\, 29577\, United States
CATEGORIES:Event
ATTACH;FMTTYPE=image/jpeg:https://skywheelmb.com/wp-content/uploads/2025/04/SKYWHOCTOBER-11-scaled.jpg
END:VEVENT
BEGIN:VEVENT
DTSTART;VALUE=DATE:20251001
DTEND;VALUE=DATE:20251002
DTSTAMP:20260420T162523
CREATED:20250923T140116Z
LAST-MODIFIED:20250923T140116Z
UID:10001441-1759276800-1759363199@skywheelmb.com
SUMMARY:Breast Cancer Awareness
DESCRIPTION:This October\, the SkyWheel will glow pink to honor Breast Cancer Awareness Month and show support for survivors\, fighters\, and their loved ones.
URL:https://skywheelmb.com/event/breast-cancer-awareness/2025-10-01/
LOCATION:SkyWheel Myrtle Beach\, 1110 N Ocean Blv.\, Myrtle Beach\, SC\, 29577\, United States
CATEGORIES:Event
ATTACH;FMTTYPE=image/jpeg:https://skywheelmb.com/wp-content/uploads/2025/01/DJI_0301-1-scaled.jpg
END:VEVENT
BEGIN:VEVENT
DTSTART;VALUE=DATE:20250929
DTEND;VALUE=DATE:20250930
DTSTAMP:20260420T162523
CREATED:20250827T151321Z
LAST-MODIFIED:20250827T151321Z
UID:10001435-1759104000-1759190399@skywheelmb.com
SUMMARY:Hispanic Heritage Month
DESCRIPTION:SkyWheel Myrtle Beach will light up in the colors of flags representing Hispanic and Latin American countries in honor of Hispanic Heritage Month. This month celebrates the history\, culture\, and contributions of Hispanic and Latinx communities. By illuminating the SkyWheel\, we recognize and honor the rich diversity and lasting impact of these vibrant communities.
URL:https://skywheelmb.com/event/hispanic-heritage-month/2025-09-29/
LOCATION:SkyWheel Myrtle Beach\, 1110 N Ocean Blv.\, Myrtle Beach\, SC\, 29577\, United States
CATEGORIES:Event
ATTACH;FMTTYPE=image/jpeg:https://skywheelmb.com/wp-content/uploads/2025/04/SKMN-66-scaled.jpg
END:VEVENT
BEGIN:VEVENT
DTSTART;VALUE=DATE:20250927
DTEND;VALUE=DATE:20250928
DTSTAMP:20260420T162523
CREATED:20250827T152049Z
LAST-MODIFIED:20250827T152049Z
UID:10001439-1758931200-1759017599@skywheelmb.com
SUMMARY:Interstitial Cystitis Awareness
DESCRIPTION:SkyWheel Myrtle Beach will shine teal in recognition of Interstitial Cystitis (IC) Awareness Month. IC is a chronic bladder condition that affects thousands of people\, causing discomfort and impacting daily life. By lighting the SkyWheel\, we aim to raise awareness\, support those living with IC\, and highlight the importance of research and understanding.
URL:https://skywheelmb.com/event/interstitial-cystitis-awareness/
LOCATION:SkyWheel Myrtle Beach\, 1110 N Ocean Blv.\, Myrtle Beach\, SC\, 29577\, United States
CATEGORIES:Event
ATTACH;FMTTYPE=image/jpeg:https://skywheelmb.com/wp-content/uploads/2025/01/SKWEXP-19-scaled.jpg
END:VEVENT
BEGIN:VEVENT
DTSTART;VALUE=DATE:20250926
DTEND;VALUE=DATE:20250927
DTSTAMP:20260420T162523
CREATED:20250827T151529Z
LAST-MODIFIED:20250827T151529Z
UID:10001437-1758844800-1758931199@skywheelmb.com
SUMMARY:Missing and Trafficked Foster Children Awareness
DESCRIPTION:SkyWheel Myrtle Beach will shine blue in recognition of Missing and Trafficked Foster Children Awareness. This initiative raises awareness about the vulnerability of foster children to trafficking and exploitation\, and highlights the importance of protecting and supporting these youth. By lighting the SkyWheel\, we aim to honor affected children and advocate for their safety and well-being.
URL:https://skywheelmb.com/event/missing-and-trafficked-foster-children-awareness/2025-09-26/
LOCATION:SkyWheel Myrtle Beach\, 1110 N Ocean Blv.\, Myrtle Beach\, SC\, 29577\, United States
CATEGORIES:Event
ATTACH;FMTTYPE=image/jpeg:https://skywheelmb.com/wp-content/uploads/2025/07/SKYWHOCTOBER-18-scaled.jpg
END:VEVENT
BEGIN:VEVENT
DTSTART;VALUE=DATE:20250925
DTEND;VALUE=DATE:20250926
DTSTAMP:20260420T162523
CREATED:20250827T151824Z
LAST-MODIFIED:20250827T151824Z
UID:10001438-1758758400-1758844799@skywheelmb.com
SUMMARY:Mesothelioma Awareness
DESCRIPTION:SkyWheel Myrtle Beach will shine blue in recognition of Mesothelioma Awareness Month. Mesothelioma is a rare cancer often caused by asbestos exposure\, affecting thousands of people each year. By lighting the SkyWheel\, we aim to raise awareness\, honor those impacted\, and support research and advocacy efforts for prevention and treatment.
URL:https://skywheelmb.com/event/mesothelioma-awareness/
LOCATION:SkyWheel Myrtle Beach\, 1110 N Ocean Blv.\, Myrtle Beach\, SC\, 29577\, United States
CATEGORIES:Event
ATTACH;FMTTYPE=image/jpeg:https://skywheelmb.com/wp-content/uploads/2025/07/SKYWHOCTOBER-18-scaled.jpg
END:VEVENT
BEGIN:VEVENT
DTSTART;VALUE=DATE:20250925
DTEND;VALUE=DATE:20250926
DTSTAMP:20260420T162523
CREATED:20250630T201232Z
LAST-MODIFIED:20250630T201951Z
UID:10001383-1758758400-1758844799@skywheelmb.com
SUMMARY:Hours: 10am-10pm
DESCRIPTION:
URL:https://skywheelmb.com/event/hours-of-operation-10am-10pm/2025-09-25/
LOCATION:SC
CATEGORIES:Hours
END:VEVENT
BEGIN:VEVENT
DTSTART;VALUE=DATE:20250924
DTEND;VALUE=DATE:20250925
DTSTAMP:20260420T162523
CREATED:20250827T134054Z
LAST-MODIFIED:20250827T134054Z
UID:10001419-1758672000-1758758399@skywheelmb.com
SUMMARY:Childhood Cancer Awareness
DESCRIPTION:SkyWheel Myrtle Beach will light up gold in honor of Childhood Cancer Awareness Month. Every year\, thousands of children and their families face the difficult journey of battling cancer. By shining gold\, we hope to raise awareness\, honor the courage of young fighters\, and support the search for better treatments and cures.
URL:https://skywheelmb.com/event/childhood-cancer-awareness/2025-09-24/
LOCATION:SkyWheel Myrtle Beach\, 1110 N Ocean Blv.\, Myrtle Beach\, SC\, 29577\, United States
CATEGORIES:Event
ATTACH;FMTTYPE=image/jpeg:https://skywheelmb.com/wp-content/uploads/2025/02/SKWNOV-32-scaled.jpg
END:VEVENT
BEGIN:VEVENT
DTSTART;VALUE=DATE:20250924
DTEND;VALUE=DATE:20250925
DTSTAMP:20260420T162523
CREATED:20250630T201232Z
LAST-MODIFIED:20250630T201951Z
UID:10001382-1758672000-1758758399@skywheelmb.com
SUMMARY:Hours: 10am-10pm
DESCRIPTION:
URL:https://skywheelmb.com/event/hours-of-operation-10am-10pm/2025-09-24/
LOCATION:SC
CATEGORIES:Hours
END:VEVENT
BEGIN:VEVENT
DTSTART;VALUE=DATE:20250923
DTEND;VALUE=DATE:20250924
DTSTAMP:20260420T162523
CREATED:20250827T151529Z
LAST-MODIFIED:20250827T151529Z
UID:10001436-1758585600-1758671999@skywheelmb.com
SUMMARY:Missing and Trafficked Foster Children Awareness
DESCRIPTION:SkyWheel Myrtle Beach will shine blue in recognition of Missing and Trafficked Foster Children Awareness. This initiative raises awareness about the vulnerability of foster children to trafficking and exploitation\, and highlights the importance of protecting and supporting these youth. By lighting the SkyWheel\, we aim to honor affected children and advocate for their safety and well-being.
URL:https://skywheelmb.com/event/missing-and-trafficked-foster-children-awareness/2025-09-23/
LOCATION:SkyWheel Myrtle Beach\, 1110 N Ocean Blv.\, Myrtle Beach\, SC\, 29577\, United States
CATEGORIES:Event
ATTACH;FMTTYPE=image/jpeg:https://skywheelmb.com/wp-content/uploads/2025/07/SKYWHOCTOBER-18-scaled.jpg
END:VEVENT
BEGIN:VEVENT
DTSTART;VALUE=DATE:20250923
DTEND;VALUE=DATE:20250924
DTSTAMP:20260420T162523
CREATED:20250630T201232Z
LAST-MODIFIED:20250630T201951Z
UID:10001381-1758585600-1758671999@skywheelmb.com
SUMMARY:Hours: 10am-10pm
DESCRIPTION:
URL:https://skywheelmb.com/event/hours-of-operation-10am-10pm/2025-09-23/
LOCATION:SC
CATEGORIES:Hours
END:VEVENT
BEGIN:VEVENT
DTSTART;VALUE=DATE:20250922
DTEND;VALUE=DATE:20250923
DTSTAMP:20260420T162523
CREATED:20250827T151321Z
LAST-MODIFIED:20250827T151321Z
UID:10001434-1758499200-1758585599@skywheelmb.com
SUMMARY:Hispanic Heritage Month
DESCRIPTION:SkyWheel Myrtle Beach will light up in the colors of flags representing Hispanic and Latin American countries in honor of Hispanic Heritage Month. This month celebrates the history\, culture\, and contributions of Hispanic and Latinx communities. By illuminating the SkyWheel\, we recognize and honor the rich diversity and lasting impact of these vibrant communities.
URL:https://skywheelmb.com/event/hispanic-heritage-month/2025-09-22/
LOCATION:SkyWheel Myrtle Beach\, 1110 N Ocean Blv.\, Myrtle Beach\, SC\, 29577\, United States
CATEGORIES:Event
ATTACH;FMTTYPE=image/jpeg:https://skywheelmb.com/wp-content/uploads/2025/04/SKMN-66-scaled.jpg
END:VEVENT
BEGIN:VEVENT
DTSTART;VALUE=DATE:20250922
DTEND;VALUE=DATE:20250923
DTSTAMP:20260420T162523
CREATED:20250630T201232Z
LAST-MODIFIED:20250630T201951Z
UID:10001380-1758499200-1758585599@skywheelmb.com
SUMMARY:Hours: 10am-10pm
DESCRIPTION:
URL:https://skywheelmb.com/event/hours-of-operation-10am-10pm/2025-09-22/
LOCATION:SC
CATEGORIES:Hours
END:VEVENT
BEGIN:VEVENT
DTSTART;VALUE=DATE:20250921
DTEND;VALUE=DATE:20250922
DTSTAMP:20260420T162523
CREATED:20250827T151001Z
LAST-MODIFIED:20250827T151001Z
UID:10001433-1758412800-1758499199@skywheelmb.com
SUMMARY:World Alzheimer's Day
DESCRIPTION:This September\, SkyWheel Myrtle Beach will shine purple in recognition of World Alzheimer’s Day. Alzheimer’s disease affects millions of individuals and their families worldwide\, and raising awareness is key to understanding\, early detection\, and support. By lighting the SkyWheel\, we honor those impacted and support the global effort to find treatments and improve care.
URL:https://skywheelmb.com/event/world-alzheimers-day/
LOCATION:SkyWheel Myrtle Beach\, 1110 N Ocean Blv.\, Myrtle Beach\, SC\, 29577\, United States
CATEGORIES:Event
ATTACH;FMTTYPE=image/jpeg:https://skywheelmb.com/wp-content/uploads/2025/05/SKYWHOCTOBER-56-1-scaled.jpg
END:VEVENT
BEGIN:VEVENT
DTSTART;VALUE=DATE:20250921
DTEND;VALUE=DATE:20250922
DTSTAMP:20260420T162523
CREATED:20250630T201232Z
LAST-MODIFIED:20250630T201951Z
UID:10001379-1758412800-1758499199@skywheelmb.com
SUMMARY:Hours: 10am-10pm
DESCRIPTION:
URL:https://skywheelmb.com/event/hours-of-operation-10am-10pm/2025-09-21/
LOCATION:SC
CATEGORIES:Hours
END:VEVENT
BEGIN:VEVENT
DTSTART;VALUE=DATE:20250920
DTEND;VALUE=DATE:20250921
DTSTAMP:20260420T162523
CREATED:20250827T150745Z
LAST-MODIFIED:20250827T150745Z
UID:10001432-1758326400-1758412799@skywheelmb.com
SUMMARY:World Marrow Donor Day
DESCRIPTION:SkyWheel Myrtle Beach will shine orange in recognition of World Marrow Donor Day. This day celebrates the lifesaving impact of marrow and stem cell donors around the world. By lighting the SkyWheel\, we honor donors\, raise awareness\, and encourage people to register to help save lives.
URL:https://skywheelmb.com/event/world-marrow-donor-day/
LOCATION:SkyWheel Myrtle Beach\, 1110 N Ocean Blv.\, Myrtle Beach\, SC\, 29577\, United States
CATEGORIES:Event
ATTACH;FMTTYPE=image/png:https://skywheelmb.com/wp-content/uploads/2025/02/2025-CalendarsWork-in-Progress-6.png
END:VEVENT
BEGIN:VEVENT
DTSTART;VALUE=DATE:20250920
DTEND;VALUE=DATE:20250921
DTSTAMP:20260420T162523
CREATED:20250630T201442Z
LAST-MODIFIED:20250630T202116Z
UID:10001389-1758326400-1758412799@skywheelmb.com
SUMMARY:Hours: 10am-11pm
DESCRIPTION:
URL:https://skywheelmb.com/event/hours-of-operation-10am-11pm/2025-09-20/
LOCATION:SC
CATEGORIES:Hours
END:VEVENT
BEGIN:VEVENT
DTSTART;VALUE=DATE:20250919
DTEND;VALUE=DATE:20250920
DTSTAMP:20260420T162523
CREATED:20250827T150522Z
LAST-MODIFIED:20250827T150522Z
UID:10001431-1758240000-1758326399@skywheelmb.com
SUMMARY:POW/MIA Recognition
DESCRIPTION:SkyWheel Myrtle Beach will shine yellow in honor of POW/MIA Recognition Day. We remember and honor the courage and sacrifice of our military personnel who were prisoners of war or remain missing in action. By lighting the SkyWheel\, we pay tribute to their service and show support for their families.
URL:https://skywheelmb.com/event/pow-mia-recognition/
LOCATION:SkyWheel Myrtle Beach\, 1110 N Ocean Blv.\, Myrtle Beach\, SC\, 29577\, United States
CATEGORIES:Event
ATTACH;FMTTYPE=image/jpeg:https://skywheelmb.com/wp-content/uploads/2025/02/SKWNOV-32-scaled.jpg
END:VEVENT
BEGIN:VEVENT
DTSTART;VALUE=DATE:20250919
DTEND;VALUE=DATE:20250920
DTSTAMP:20260420T162523
CREATED:20250630T201442Z
LAST-MODIFIED:20250630T202116Z
UID:10001388-1758240000-1758326399@skywheelmb.com
SUMMARY:Hours: 10am-11pm
DESCRIPTION:
URL:https://skywheelmb.com/event/hours-of-operation-10am-11pm/2025-09-19/
LOCATION:SC
CATEGORIES:Hours
END:VEVENT
BEGIN:VEVENT
DTSTART;VALUE=DATE:20250918
DTEND;VALUE=DATE:20250919
DTSTAMP:20260420T162523
CREATED:20250827T150000Z
LAST-MODIFIED:20250827T150000Z
UID:10001430-1758153600-1758239999@skywheelmb.com
SUMMARY:Prostate Cancer Awareness
DESCRIPTION:SkyWheel Myrtle Beach will shine blue in recognition of Prostate Cancer Awareness Month. Prostate cancer is one of the most common cancers affecting men\, and early detection is critical for effective treatment. By lighting the SkyWheel\, we aim to raise awareness\, honor those impacted\, and encourage regular screenings.
URL:https://skywheelmb.com/event/prostate-cancer-awareness/
LOCATION:SkyWheel Myrtle Beach\, 1110 N Ocean Blv.\, Myrtle Beach\, SC\, 29577\, United States
CATEGORIES:Event
ATTACH;FMTTYPE=image/jpeg:https://skywheelmb.com/wp-content/uploads/2025/07/SKYWHOCTOBER-18-scaled.jpg
END:VEVENT
BEGIN:VEVENT
DTSTART;VALUE=DATE:20250918
DTEND;VALUE=DATE:20250919
DTSTAMP:20260420T162523
CREATED:20250630T201232Z
LAST-MODIFIED:20250630T201951Z
UID:10001378-1758153600-1758239999@skywheelmb.com
SUMMARY:Hours: 10am-10pm
DESCRIPTION:
URL:https://skywheelmb.com/event/hours-of-operation-10am-10pm/2025-09-18/
LOCATION:SC
CATEGORIES:Hours
END:VEVENT
BEGIN:VEVENT
DTSTART;VALUE=DATE:20250917
DTEND;VALUE=DATE:20250918
DTSTAMP:20260420T162523
CREATED:20250827T134054Z
LAST-MODIFIED:20250827T134054Z
UID:10001418-1758067200-1758153599@skywheelmb.com
SUMMARY:Childhood Cancer Awareness
DESCRIPTION:SkyWheel Myrtle Beach will light up gold in honor of Childhood Cancer Awareness Month. Every year\, thousands of children and their families face the difficult journey of battling cancer. By shining gold\, we hope to raise awareness\, honor the courage of young fighters\, and support the search for better treatments and cures.
URL:https://skywheelmb.com/event/childhood-cancer-awareness/2025-09-17/
LOCATION:SkyWheel Myrtle Beach\, 1110 N Ocean Blv.\, Myrtle Beach\, SC\, 29577\, United States
CATEGORIES:Event
ATTACH;FMTTYPE=image/jpeg:https://skywheelmb.com/wp-content/uploads/2025/02/SKWNOV-32-scaled.jpg
END:VEVENT
BEGIN:VEVENT
DTSTART;VALUE=DATE:20250917
DTEND;VALUE=DATE:20250918
DTSTAMP:20260420T162523
CREATED:20250630T201232Z
LAST-MODIFIED:20250630T201951Z
UID:10001377-1758067200-1758153599@skywheelmb.com
SUMMARY:Hours: 10am-10pm
DESCRIPTION:
URL:https://skywheelmb.com/event/hours-of-operation-10am-10pm/2025-09-17/
LOCATION:SC
CATEGORIES:Hours
END:VEVENT
BEGIN:VEVENT
DTSTART;VALUE=DATE:20250916
DTEND;VALUE=DATE:20250917
DTSTAMP:20260420T162523
CREATED:20250630T201232Z
LAST-MODIFIED:20250630T201951Z
UID:10001376-1757980800-1758067199@skywheelmb.com
SUMMARY:Hours: 10am-10pm
DESCRIPTION:
URL:https://skywheelmb.com/event/hours-of-operation-10am-10pm/2025-09-16/
LOCATION:SC
CATEGORIES:Hours
END:VEVENT
BEGIN:VEVENT
DTSTART;VALUE=DATE:20250915
DTEND;VALUE=DATE:20250916
DTSTAMP:20260420T162523
CREATED:20250827T145415Z
LAST-MODIFIED:20250827T145415Z
UID:10001429-1757894400-1757980799@skywheelmb.com
SUMMARY:Endometrial Cancer Awareness
DESCRIPTION:SkyWheel Myrtle Beach will shine peach in recognition of Endometrial Cancer Awareness Month. Endometrial cancer affects the lining of the uterus\, and early detection is key to effective treatment. By lighting the SkyWheel\, we aim to raise awareness\, honor those impacted\, and encourage women to stay proactive about their health.
URL:https://skywheelmb.com/event/endometrial-cancer-awareness/
LOCATION:SkyWheel Myrtle Beach\, 1110 N Ocean Blv.\, Myrtle Beach\, SC\, 29577\, United States
CATEGORIES:Event
ATTACH;FMTTYPE=image/png:https://skywheelmb.com/wp-content/uploads/2025/08/Website-Event-Graphics-20.png
END:VEVENT
BEGIN:VEVENT
DTSTART;VALUE=DATE:20250915
DTEND;VALUE=DATE:20250916
DTSTAMP:20260420T162523
CREATED:20250630T201232Z
LAST-MODIFIED:20250630T201951Z
UID:10001375-1757894400-1757980799@skywheelmb.com
SUMMARY:Hours: 10am-10pm
DESCRIPTION:
URL:https://skywheelmb.com/event/hours-of-operation-10am-10pm/2025-09-15/
LOCATION:SC
CATEGORIES:Hours
END:VEVENT
BEGIN:VEVENT
DTSTART;VALUE=DATE:20250914
DTEND;VALUE=DATE:20250915
DTSTAMP:20260420T162523
CREATED:20250827T143548Z
LAST-MODIFIED:20250827T143649Z
UID:10001428-1757808000-1757894399@skywheelmb.com
SUMMARY:Pulmonary Fibrosis Awareness
DESCRIPTION:SkyWheel Myrtle Beach will shine blue in recognition of Pulmonary Fibrosis Awareness Month. Pulmonary fibrosis is a progressive lung disease that affects breathing and quality of life. By lighting the SkyWheel\, we aim to raise awareness\, support those impacted\, and highlight the importance of research and early diagnosis.
URL:https://skywheelmb.com/event/pulmonary-fibrosis-awareness/
LOCATION:SC
CATEGORIES:Event
ATTACH;FMTTYPE=image/jpeg:https://skywheelmb.com/wp-content/uploads/2025/07/SKYWHOCTOBER-18-scaled.jpg
END:VEVENT
BEGIN:VEVENT
DTSTART;VALUE=DATE:20250914
DTEND;VALUE=DATE:20250915
DTSTAMP:20260420T162523
CREATED:20250630T201232Z
LAST-MODIFIED:20250630T201951Z
UID:10001374-1757808000-1757894399@skywheelmb.com
SUMMARY:Hours: 10am-10pm
DESCRIPTION:
URL:https://skywheelmb.com/event/hours-of-operation-10am-10pm/2025-09-14/
LOCATION:SC
CATEGORIES:Hours
END:VEVENT
END:VCALENDAR