BEGIN:VCALENDAR
VERSION:2.0
PRODID:-// - ECPv6.15.20//NONSGML v1.0//EN
CALSCALE:GREGORIAN
METHOD:PUBLISH
X-ORIGINAL-URL:https://skywheelmb.com
X-WR-CALDESC:Events for 
REFRESH-INTERVAL;VALUE=DURATION:PT1H
X-Robots-Tag:noindex
X-PUBLISHED-TTL:PT1H
BEGIN:VTIMEZONE
TZID:America/New_York
BEGIN:DAYLIGHT
TZOFFSETFROM:-0500
TZOFFSETTO:-0400
TZNAME:EDT
DTSTART:20250309T070000
END:DAYLIGHT
BEGIN:STANDARD
TZOFFSETFROM:-0400
TZOFFSETTO:-0500
TZNAME:EST
DTSTART:20251102T060000
END:STANDARD
BEGIN:DAYLIGHT
TZOFFSETFROM:-0500
TZOFFSETTO:-0400
TZNAME:EDT
DTSTART:20260308T070000
END:DAYLIGHT
BEGIN:STANDARD
TZOFFSETFROM:-0400
TZOFFSETTO:-0500
TZNAME:EST
DTSTART:20261101T060000
END:STANDARD
BEGIN:DAYLIGHT
TZOFFSETFROM:-0500
TZOFFSETTO:-0400
TZNAME:EDT
DTSTART:20270314T070000
END:DAYLIGHT
BEGIN:STANDARD
TZOFFSETFROM:-0400
TZOFFSETTO:-0500
TZNAME:EST
DTSTART:20271107T060000
END:STANDARD
END:VTIMEZONE
BEGIN:VEVENT
DTSTART;VALUE=DATE:20260508
DTEND;VALUE=DATE:20260509
DTSTAMP:20260421T071154
CREATED:20250428T144703Z
LAST-MODIFIED:20260420T160735Z
UID:10001216-1778198400-1778284799@skywheelmb.com
SUMMARY:Red Cross Lighting
DESCRIPTION:SkyWheel is proud to light up red and white in honor of the American Red Cross and the incredible work they do in communities across the country. \nFrom disaster relief and blood donations to emergency assistance and support for military families\, the Red Cross plays a vital role in saving lives and providing hope when it’s needed most. Our special lighting is a tribute to their tireless efforts and the volunteers who make it all possible. \nJoin us in recognizing and celebrating the spirit of compassion\, service\, and resilience that the Red Cross represents!
URL:https://skywheelmb.com/event/red-cross-lighting/
LOCATION:SkyWheel Myrtle Beach\, 1110 N Ocean Blv.\, Myrtle Beach\, SC\, 29577\, United States
CATEGORIES:Event
ATTACH;FMTTYPE=image/png:https://skywheelmb.com/wp-content/uploads/2025/02/2025-CalendarsWork-in-Progress-5.png
END:VEVENT
BEGIN:VEVENT
DTSTART;VALUE=DATE:20260509
DTEND;VALUE=DATE:20260510
DTSTAMP:20260421T071154
CREATED:20250428T145441Z
LAST-MODIFIED:20260420T160811Z
UID:10001218-1778284800-1778371199@skywheelmb.com
SUMMARY:Lupus Awareness Lighting
DESCRIPTION:In honor of Lupus Awareness Month\, SkyWheel will light up in purple to raise awareness for this chronic autoimmune disease that affects millions worldwide. \nLupus can be unpredictable and challenging\, but by shining brightly in purple\, we aim to help increase understanding\, support those affected\, and encourage conversations about better treatment and research. \nJoin us as we stand together in support of those living with lupus and the fight for a cure.
URL:https://skywheelmb.com/event/lupus-awareness-lighting/
LOCATION:SkyWheel Myrtle Beach\, 1110 N Ocean Blv.\, Myrtle Beach\, SC\, 29577\, United States
CATEGORIES:Event
ATTACH;FMTTYPE=image/jpeg:https://skywheelmb.com/wp-content/uploads/2025/01/SKYWHOCTOBER-58-scaled.jpg
END:VEVENT
BEGIN:VEVENT
DTSTART;VALUE=DATE:20260510
DTEND;VALUE=DATE:20260511
DTSTAMP:20260421T071154
CREATED:20250428T145809Z
LAST-MODIFIED:20260420T160919Z
UID:10001219-1778371200-1778457599@skywheelmb.com
SUMMARY:Mother's Day
DESCRIPTION:This Mother’s Day\, treat Mom to an unforgettable experience with a breathtaking flight above Myrtle Beach. Share stunning ocean views and create lasting memories as you soar together in our comfortable\, climate-controlled gondolas. Whether it’s her first ride or a cherished tradition\, a visit to the SkyWheel is the perfect way to lift her spirits and celebrate everything she does. \nIn honor of all the amazing mothers\, SkyWheel will also light up in beautiful colors to celebrate the love\, care\, and strength they bring to our lives. From new moms to grandmothers—and all the incredible women who nurture\, guide\, and support us—this special lighting is our heartfelt way of saying thank you. \nJoin us in celebrating the joy and dedication of motherhood. Happy Mother’s Day to all the wonderful moms!
URL:https://skywheelmb.com/event/mothers-day/
LOCATION:SkyWheel Myrtle Beach\, 1110 N Ocean Blv.\, Myrtle Beach\, SC\, 29577\, United States
CATEGORIES:Event
ATTACH;FMTTYPE=image/jpeg:https://skywheelmb.com/wp-content/uploads/2025/01/SKWJAN23-25-scaled-e1737566146962.jpg
END:VEVENT
BEGIN:VEVENT
DTSTART;VALUE=DATE:20260511
DTEND;VALUE=DATE:20260512
DTSTAMP:20260421T071154
CREATED:20250428T144932Z
LAST-MODIFIED:20260420T161006Z
UID:10001217-1778457600-1778543999@skywheelmb.com
SUMMARY:National Nurses Week
DESCRIPTION:SkyWheel is lighting up red in honor of National Nurses Week\, celebrating the compassion\, dedication\, and hard work of nurses everywhere. \nNurses are the heart of healthcare\, providing vital care\, comfort\, and support to patients and families every day. This special lighting is our way of saying thank you to the incredible nurses who make a difference in our lives and our communities. \nJoin us in recognizing and celebrating these everyday heroes!
URL:https://skywheelmb.com/event/national-nurses-week/
LOCATION:SkyWheel Myrtle Beach\, 1110 N Ocean Blv.\, Myrtle Beach\, SC\, 29577\, United States
CATEGORIES:Event
ATTACH;FMTTYPE=image/png:https://skywheelmb.com/wp-content/uploads/2025/03/Website-Event-Calendar-1.png
END:VEVENT
BEGIN:VEVENT
DTSTART;VALUE=DATE:20260512
DTEND;VALUE=DATE:20260513
DTSTAMP:20260421T071154
CREATED:20250428T150536Z
LAST-MODIFIED:20260420T161037Z
UID:10001221-1778544000-1778630399@skywheelmb.com
SUMMARY:Arthritis Awareness
DESCRIPTION:SkyWheel is lighting up in blue and purple to raise awareness for arthritis\, a condition that affects millions of people worldwide. \nBy shining in these colors\, we stand in support of those living with arthritis and help bring attention to the importance of research\, early diagnosis\, and effective treatments. Together\, we can spread hope and understanding for a better future. \nJoin us in supporting the fight against arthritis!
URL:https://skywheelmb.com/event/arthritis-awareness/
LOCATION:SkyWheel Myrtle Beach\, 1110 N Ocean Blv.\, Myrtle Beach\, SC\, 29577\, United States
CATEGORIES:Event
ATTACH;FMTTYPE=image/png:https://skywheelmb.com/wp-content/uploads/2025/04/Website-Event-Graphics-7.png
END:VEVENT
BEGIN:VEVENT
DTSTART;VALUE=DATE:20260513
DTEND;VALUE=DATE:20260514
DTSTAMP:20260421T071154
CREATED:20250327T174913Z
LAST-MODIFIED:20260420T161134Z
UID:10000773-1778630400-1778716799@skywheelmb.com
SUMMARY:Lyme Disease Awareness
DESCRIPTION:In support of Lyme Disease Awareness\, SkyWheel Myrtle Beach will light up in vibrant green to raise awareness about this serious illness and its impact on individuals and families. Lyme disease\, caused by tick bites\, can lead to debilitating symptoms if left untreated. This initiative aims to promote education\, prevention\, and early detection.
URL:https://skywheelmb.com/event/lyme-disease-awareness/
LOCATION:SkyWheel Myrtle Beach\, 1110 N Ocean Blv.\, Myrtle Beach\, SC\, 29577\, United States
CATEGORIES:Event
ATTACH;FMTTYPE=image/jpeg:https://skywheelmb.com/wp-content/uploads/2025/02/6e06a675-7cf0-42af-ae4d-0b2ab53477cb-skywheelgreen.jpg
END:VEVENT
BEGIN:VEVENT
DTSTART;VALUE=DATE:20260514
DTEND;VALUE=DATE:20260515
DTSTAMP:20260421T071154
CREATED:20250428T151229Z
LAST-MODIFIED:20260420T161208Z
UID:10001223-1778716800-1778803199@skywheelmb.com
SUMMARY:Peace Officers Memorial Day
DESCRIPTION:SkyWheel will light up in blue and black to honor Peace Officers Memorial Day\, a day dedicated to remembering and honoring the brave law enforcement officers who have made the ultimate sacrifice in the line of duty. \nThis special lighting serves as a tribute to their courage\, dedication\, and unwavering commitment to keeping our communities safe. We stand in solidarity with the families\, colleagues\, and communities affected by their loss. \nJoin us as we remember and honor those who protect and serve.
URL:https://skywheelmb.com/event/peace-officers-memorial-day/
LOCATION:SkyWheel Myrtle Beach\, 1110 N Ocean Blv.\, Myrtle Beach\, SC\, 29577\, United States
CATEGORIES:Event
ATTACH;FMTTYPE=image/jpeg:https://skywheelmb.com/wp-content/uploads/2025/04/SKYWHOCTOBER-11-scaled.jpg
END:VEVENT
BEGIN:VEVENT
DTSTART;VALUE=DATE:20260515
DTEND;VALUE=DATE:20260516
DTSTAMP:20260421T071154
CREATED:20250428T150920Z
LAST-MODIFIED:20260420T161248Z
UID:10001222-1778803200-1778889599@skywheelmb.com
SUMMARY:Global Tuberous Sclerosis Awareness
DESCRIPTION:In support of Global Tuberous Sclerosis Awareness Month\, SkyWheel will light up in red to help raise awareness for Tuberous Sclerosis Complex (TSC)\, a rare genetic disorder that causes benign tumors to grow in vital organs. \nBy shining in red\, we stand together with those affected by TSC\, their families\, and advocates\, in hopes of increasing understanding\, funding research\, and supporting treatment efforts. Let’s work together to bring attention to this cause and support those fighting this condition every day.
URL:https://skywheelmb.com/event/global-tuberous-sclerosis-awareness/
LOCATION:SkyWheel Myrtle Beach\, 1110 N Ocean Blv.\, Myrtle Beach\, SC\, 29577\, United States
CATEGORIES:Event
ATTACH;FMTTYPE=image/jpeg:https://skywheelmb.com/wp-content/uploads/2025/01/SKWJAN23-11-scaled.jpg
END:VEVENT
BEGIN:VEVENT
DTSTART;VALUE=DATE:20260516
DTEND;VALUE=DATE:20260517
DTSTAMP:20260421T071154
CREATED:20250428T151410Z
LAST-MODIFIED:20260420T161324Z
UID:10001224-1778889600-1778975999@skywheelmb.com
SUMMARY:HAE Awareness Lighting
DESCRIPTION:SkyWheel will light up in purple and blue to raise awareness for Hereditary Angioedema (HAE)\, a rare and often misunderstood condition that causes severe swelling episodes in various parts of the body. \nBy shining in these colors\, we aim to educate the public\, support those living with HAE\, and bring attention to the need for better treatment options and research. Together\, we can raise awareness and make a difference for those affected by this condition.
URL:https://skywheelmb.com/event/hae-awareness-lighting/
LOCATION:SkyWheel Myrtle Beach\, 1110 N Ocean Blv.\, Myrtle Beach\, SC\, 29577\, United States
CATEGORIES:Event
ATTACH;FMTTYPE=image/png:https://skywheelmb.com/wp-content/uploads/2025/04/Website-Event-Graphics-7.png
END:VEVENT
BEGIN:VEVENT
DTSTART;VALUE=DATE:20260517
DTEND;VALUE=DATE:20260518
DTSTAMP:20260421T071154
CREATED:20250428T151540Z
LAST-MODIFIED:20260420T161400Z
UID:10001225-1778976000-1779062399@skywheelmb.com
SUMMARY:World NF Awareness
DESCRIPTION:In honor of World Neurofibromatosis (NF) Awareness Day\, SkyWheel will light up in green and blue to raise awareness for NF\, a genetic disorder that causes tumors to grow on nerves throughout the body. \nThis special lighting serves as a reminder of the importance of research\, early diagnosis\, and better treatments for those affected by NF. Together\, we can shine a light on the challenges of living with NF and work toward a future with a cure. \nJoin us in supporting the NF community and spreading awareness!
URL:https://skywheelmb.com/event/world-nf-awareness/
LOCATION:SkyWheel Myrtle Beach\, 1110 N Ocean Blv.\, Myrtle Beach\, SC\, 29577\, United States
CATEGORIES:Event
ATTACH;FMTTYPE=image/jpeg:https://skywheelmb.com/wp-content/uploads/2025/03/SKWJAN23-7-scaled.jpg
END:VEVENT
BEGIN:VEVENT
DTSTART;VALUE=DATE:20260518
DTEND;VALUE=DATE:20260519
DTSTAMP:20260421T071154
CREATED:20250428T145933Z
LAST-MODIFIED:20260420T160412Z
UID:10001220-1779062400-1779148799@skywheelmb.com
SUMMARY:Mental Health Month
DESCRIPTION:SkyWheel is proud to join the movement to raise awareness for Mental Health Month by lighting up in green — the official color of mental health awareness. Throughout the month\, we are committed to shining a light on the importance of mental wellness\, breaking the stigma\, and encouraging open conversations in our community. \nJoin us as we honor those who are affected by mental health challenges and support efforts to create a brighter\, healthier future for all. Whether you’re visiting or just passing by\, we hope our green glow reminds everyone that mental health matters every day.
URL:https://skywheelmb.com/event/mental-health-month-2/
LOCATION:SkyWheel Myrtle Beach\, 1110 N Ocean Blv.\, Myrtle Beach\, SC\, 29577\, United States
CATEGORIES:Event
ATTACH;FMTTYPE=image/jpeg:https://skywheelmb.com/wp-content/uploads/2025/02/6e06a675-7cf0-42af-ae4d-0b2ab53477cb-skywheelgreen.jpg
END:VEVENT
BEGIN:VEVENT
DTSTART;VALUE=DATE:20260519
DTEND;VALUE=DATE:20260520
DTSTAMP:20260421T071154
CREATED:20250428T152242Z
LAST-MODIFIED:20260420T161452Z
UID:10001229-1779148800-1779235199@skywheelmb.com
SUMMARY:Trauma Survivors Awareness
DESCRIPTION:SkyWheel will light up in blue to honor Trauma Survivors Awareness\, raising recognition for the resilience of individuals who have survived traumatic events. \nTrauma can take many forms\, but the strength and courage of survivors is undeniable. By lighting up in blue\, we aim to bring attention to the support and resources needed for those overcoming physical and emotional trauma. Let’s stand together in solidarity and promote healing for all survivors.
URL:https://skywheelmb.com/event/trauma-survivors-awareness/
LOCATION:SkyWheel Myrtle Beach\, 1110 N Ocean Blv.\, Myrtle Beach\, SC\, 29577\, United States
CATEGORIES:Event
ATTACH;FMTTYPE=image/png:https://skywheelmb.com/wp-content/uploads/2025/02/2025-CalendarsWork-in-Progress-4.png
END:VEVENT
BEGIN:VEVENT
DTSTART;VALUE=DATE:20260520
DTEND;VALUE=DATE:20260521
DTSTAMP:20260421T071154
CREATED:20250428T152122Z
LAST-MODIFIED:20260420T161550Z
UID:10001228-1779235200-1779321599@skywheelmb.com
SUMMARY:SkyWheel Myrtle Beach's 15th Birthday!
DESCRIPTION:This year\, SkyWheel Myrtle Beach is turning 15! To celebrate this exciting milestone\, we will light up in a dazzling array of colors to mark this special occasion. \nFor 15 years\, SkyWheel has been a landmark of fun\, excitement\, and unforgettable views\, offering guests an iconic experience right here on the Grand Strand. We’re thrilled to continue sharing the joy with our community and visitors from all over the world. \nJoin us as we celebrate 15 incredible years and many more to come!
URL:https://skywheelmb.com/event/skywheel-myrtle-beachs-14th-birthday/
LOCATION:SkyWheel Myrtle Beach\, 1110 N Ocean Blv.\, Myrtle Beach\, SC\, 29577\, United States
CATEGORIES:Event
ATTACH;FMTTYPE=image/jpeg:https://skywheelmb.com/wp-content/uploads/2024/11/SKMN-73-scaled.jpg
END:VEVENT
BEGIN:VEVENT
DTSTART;VALUE=DATE:20260522
DTEND;VALUE=DATE:20260523
DTSTAMP:20260421T071154
CREATED:20260420T161732Z
LAST-MODIFIED:20260420T161808Z
UID:10001274-1779408000-1779494399@skywheelmb.com
SUMMARY:USA Lightshow
DESCRIPTION:Get ready for a dazzling display of patriotic pride! The SkyWheel will come alive with a vibrant red\, white\, and blue light show celebrating the spirit of the United States. Whether you’re strolling the boardwalk or riding high above the coast\, enjoy a breathtaking tribute to freedom\, unity\, and the American dream—lit sky-high over Myrtle Beach.
URL:https://skywheelmb.com/event/usa-lightshow-2/2026-05-22/
LOCATION:SkyWheel Myrtle Beach\, 1110 N Ocean Blv.\, Myrtle Beach\, SC\, 29577\, United States
CATEGORIES:Event
ATTACH;FMTTYPE=image/jpeg:https://skywheelmb.com/wp-content/uploads/2025/01/SKWNOV-16-scaled.jpg
END:VEVENT
BEGIN:VEVENT
DTSTART;VALUE=DATE:20260523
DTEND;VALUE=DATE:20260524
DTSTAMP:20260421T071154
CREATED:20260420T161732Z
LAST-MODIFIED:20260420T161808Z
UID:10001566-1779494400-1779580799@skywheelmb.com
SUMMARY:USA Lightshow
DESCRIPTION:Get ready for a dazzling display of patriotic pride! The SkyWheel will come alive with a vibrant red\, white\, and blue light show celebrating the spirit of the United States. Whether you’re strolling the boardwalk or riding high above the coast\, enjoy a breathtaking tribute to freedom\, unity\, and the American dream—lit sky-high over Myrtle Beach.
URL:https://skywheelmb.com/event/usa-lightshow-2/2026-05-23/
LOCATION:SkyWheel Myrtle Beach\, 1110 N Ocean Blv.\, Myrtle Beach\, SC\, 29577\, United States
CATEGORIES:Event
ATTACH;FMTTYPE=image/jpeg:https://skywheelmb.com/wp-content/uploads/2025/01/SKWNOV-16-scaled.jpg
END:VEVENT
BEGIN:VEVENT
DTSTART;VALUE=DATE:20260524
DTEND;VALUE=DATE:20260525
DTSTAMP:20260421T071154
CREATED:20260420T161732Z
LAST-MODIFIED:20260420T161808Z
UID:10001567-1779580800-1779667199@skywheelmb.com
SUMMARY:USA Lightshow
DESCRIPTION:Get ready for a dazzling display of patriotic pride! The SkyWheel will come alive with a vibrant red\, white\, and blue light show celebrating the spirit of the United States. Whether you’re strolling the boardwalk or riding high above the coast\, enjoy a breathtaking tribute to freedom\, unity\, and the American dream—lit sky-high over Myrtle Beach.
URL:https://skywheelmb.com/event/usa-lightshow-2/2026-05-24/
LOCATION:SkyWheel Myrtle Beach\, 1110 N Ocean Blv.\, Myrtle Beach\, SC\, 29577\, United States
CATEGORIES:Event
ATTACH;FMTTYPE=image/jpeg:https://skywheelmb.com/wp-content/uploads/2025/01/SKWNOV-16-scaled.jpg
END:VEVENT
BEGIN:VEVENT
DTSTART;VALUE=DATE:20260525
DTEND;VALUE=DATE:20260526
DTSTAMP:20260421T071154
CREATED:20260420T162006Z
LAST-MODIFIED:20260420T162006Z
UID:10001259-1779667200-1779753599@skywheelmb.com
SUMMARY:Memorial Day Lighting
DESCRIPTION:This Memorial Day weekend\, experience SkyWheel Myrtle Beach like never before. Soar high above the oceanfront in our comfortable gondolas\, then stay to enjoy dazzling patriotic lightshows as we illuminate the sky in red\, white\, and blue in honor of America’s heroes. As we light up the night\, we reflect on the courage\, dedication\, and selflessness of the brave men and women who made the ultimate sacrifice to protect our freedom and way of life. \nThe celebration continues just steps away at nearby Plyler Park\, where a live concert will add music and energy to a full evening of remembrance and family fun. \nJoin us in honoring those who gave everything for our nation. Let’s come together in gratitude\, reflection\, and celebration this Memorial Day weekend.
URL:https://skywheelmb.com/event/memorial-day-lighting-2/
LOCATION:SkyWheel Myrtle Beach\, 1110 N Ocean Blv.\, Myrtle Beach\, SC\, 29577\, United States
CATEGORIES:Event
ATTACH;FMTTYPE=image/jpeg:https://skywheelmb.com/wp-content/uploads/2025/01/SKWNOV-16-scaled.jpg
END:VEVENT
BEGIN:VEVENT
DTSTART;VALUE=DATE:20260527
DTEND;VALUE=DATE:20260528
DTSTAMP:20260421T071154
CREATED:20250428T151951Z
LAST-MODIFIED:20260420T162319Z
UID:10001227-1779840000-1779926399@skywheelmb.com
SUMMARY:Cystic Fibrosis Awareness
DESCRIPTION:In support of Cystic Fibrosis Awareness Month\, SkyWheel will light up in purple to raise awareness for cystic fibrosis (CF)\, a genetic disorder that affects the lungs and digestive system. \nBy shining in purple\, we stand with those living with CF and their families\, bringing attention to the need for continued research\, treatment advancements\, and improved quality of life for those affected by this condition. \nJoin us in spreading awareness and supporting the fight for a cure.
URL:https://skywheelmb.com/event/cystic-fibrosis-awareness/
LOCATION:SkyWheel Myrtle Beach\, 1110 N Ocean Blv.\, Myrtle Beach\, SC\, 29577\, United States
CATEGORIES:Event
ATTACH;FMTTYPE=image/jpeg:https://skywheelmb.com/wp-content/uploads/2025/01/SKYWHOCTOBER-58-scaled.jpg
END:VEVENT
BEGIN:VEVENT
DTSTART;VALUE=DATE:20260528
DTEND;VALUE=DATE:20260529
DTSTAMP:20260421T071154
CREATED:20250428T153040Z
LAST-MODIFIED:20260420T162352Z
UID:10001260-1779926400-1780012799@skywheelmb.com
SUMMARY:ALS Awareness Lighting
DESCRIPTION:SkyWheel will light up in red to raise awareness for ALS (Amyotrophic Lateral Sclerosis)\, also known as Lou Gehrig’s Disease. \nBy shining in red\, we stand with the ALS community in support of increased research\, better treatments\, and hope for a cure. Together\, we honor those living with ALS\, remember those we have lost\, and show our commitment to raising awareness for this devastating disease. \nJoin us in shining a light on the fight against ALS.
URL:https://skywheelmb.com/event/als-awareness-lighting/
LOCATION:SkyWheel Myrtle Beach\, 1110 N Ocean Blv.\, Myrtle Beach\, SC\, 29577\, United States
CATEGORIES:Event
ATTACH;FMTTYPE=image/jpeg:https://skywheelmb.com/wp-content/uploads/2025/01/SKWJAN23-11-scaled.jpg
END:VEVENT
BEGIN:VEVENT
DTSTART;VALUE=DATE:20260530
DTEND;VALUE=DATE:20260531
DTSTAMP:20260421T071154
CREATED:20250428T151747Z
LAST-MODIFIED:20260420T162424Z
UID:10001226-1780099200-1780185599@skywheelmb.com
SUMMARY:Motorcycle Safety Awareness
DESCRIPTION:SkyWheel will light up in orange to raise awareness for Motorcycle Safety Awareness. \nMotorcycle safety is crucial for protecting riders on the road\, and we want to remind everyone to stay alert\, wear protective gear\, and drive responsibly. By shining in orange\, we honor riders everywhere and emphasize the importance of safety measures to prevent accidents and save lives. \nJoin us in spreading awareness and promoting safety for all riders!
URL:https://skywheelmb.com/event/motorcycle-safety-awareness/
LOCATION:SkyWheel Myrtle Beach\, 1110 N Ocean Blv.\, Myrtle Beach\, SC\, 29577\, United States
CATEGORIES:Event
ATTACH;FMTTYPE=image/png:https://skywheelmb.com/wp-content/uploads/2025/02/2025-CalendarsWork-in-Progress-6.png
END:VEVENT
BEGIN:VEVENT
DTSTART;VALUE=DATE:20260531
DTEND;VALUE=DATE:20260601
DTSTAMP:20260421T071154
CREATED:20250428T153145Z
LAST-MODIFIED:20260420T162457Z
UID:10001261-1780185600-1780271999@skywheelmb.com
SUMMARY:Brain Tumor Awareness
DESCRIPTION:SkyWheel will light up in grey to support Brain Tumor Awareness Month and honor those affected by brain tumors. \nBy lighting grey\, we aim to raise awareness\, support ongoing research efforts\, and show solidarity with patients\, survivors\, and their families. Together\, we can help bring attention to the need for greater understanding\, funding\, and hope for a cure. \nJoin us in shining a light for Brain Tumor Awareness.
URL:https://skywheelmb.com/event/brain-tumor-awareness/
LOCATION:SkyWheel Myrtle Beach\, 1110 N Ocean Blv.\, Myrtle Beach\, SC\, 29577\, United States
CATEGORIES:Event
ATTACH;FMTTYPE=image/png:https://skywheelmb.com/wp-content/uploads/2025/02/2025-CalendarsWork-in-Progress-7.png
END:VEVENT
END:VCALENDAR